Workbook

Sheet تنظیمات
T1: ="محاسبه پزشکان اورژانس "&F2&M2&" "&"("&O2&")" -> محاسبه پزشکان اورژانس مرکز آموزشی پژوهشی درمانی بیمارستان بنت الهدیفروردین (1403)
A2: برنامه عملکرد پزشکان | E2: اورژانس | F2: مرکز آموزشی پژوهشی درمانی بیمارستان بنت الهدی | M2: فروردین | O2: 1403
B5: ردیف | C5: نام و نام خانوادگی | D5: جنسیت | E5: مدرک تحصیلی | F5: سابقه کاری | H5: تعهد تمام وقت | I5: شیفت در گردش | J5: نوع استخدام | L5: سایر اطلاعات تکمیلی | U5: تاریخ اصلاح: | X5: 44759
F7: سال | G7: ماه | L7: میزان ساعت کاری هر شیفت | U7: نسخه: | X7: v-01
B8: 1 | D8: ♀ | L8: 1 | M8: صبح | O8: 6 | U8: =TODAY()-X5 -> 623 | X8: روز قبل
B9: 2 | D9: ♀ | E9: دکتری عمومی | F9: 1 | G9: 8 | H9: ✔ | I9: ✔ | J9: طرحی | L9: 2 | M9: عصر | O9: 6
B10: 3 | D10: ♀ | E10: دکتری عمومی | G10: 12 | H10: ✔ | I10: ✔ | J10: طرحی | L10: 3 | M10: شب | O10: 12
B11: 4 | D11: ♀ | E11: دکتری عمومی | H11: ❌ | I11: ✔ | J11: تفاهمی | L11: مبلغ ریالی هر ساعت اضافه کار
B12: 5 | D12: ♀ | E12: دکتری عمومی | H12: ✔ | I12: ✔ | J12: تفاهمی | L12: 1 | M12: دارای رابطه استخدامی | O12: 850000
B13: 6 | C13: دکتر علی | D13: ♀ | E13: دکتری عمومی | F13: 17 | G13: 2 | H13: ❌ | I13: ✔ | J13: رسمی | L13: 2 | M13: فاقد رابطه استخدامی | O13: 1800000
B14: 7 | C14: دکتر صبا | D14: ♀ | E14: دکتری عمومی | F14: 0 | G14: 12 | H14: ✔ | I14: ✔ | J14: طرحی | L14: مقامات تایید کننده
B15: 8 | C15: دکتر لیلا | D15: ♀ | E15: دکتری عمومی | F15: 0 | G15: 7 | H15: ❌ | I15: ✔ | J15: تفاهمی | L15: 1 | M15: رییس بیمارستان
B16: 9 | C16: دکتر عاطفه | D16: ♀ | E16: دکتری عمومی | H16: ✔ | I16: ✔ | J16: قراردادی | L16: 2 | M16: مدیر داخلی بیمارستان
B17: 10 | C17: دکتر محسن | D17: ♀ | E17: دکتری عمومی | F17: 0 | G17: 6 | H17: ✔ | I17: ✔ | J17: طرحی | L17: 3 | M17: مسئول امور مالی
B18: 11 | C18: دکتر خالد | D18: ♀ | E18: دکتری عمومی | F18: 5 | G18: 4 | H18: ✔ | I18: ✔ | J18: پیمانی | L18: 4 | M18: مسئول کارگزینی بیمارستان
B19: 12 | L19: 5 | M19: مسئول بخش
B20: 13 | L20: 6 | M20: تنظیم کننده
B21: 14 | L21: 7 | M21: مدیر اقتصاد درمان معاونت
B22: 15
B23: 16
B24: 17
B25: 18
B26: 19
B27: 20
B28: 21
B29: 22
B30: 23
B31: 24
B32: 25
R1370: 66554862

Sheet برنامه فروردین
A1: =تنظیمات!F2 -> مرکز آموزشی پژوهشی درمانی بیمارستان بنت الهدی | O1: برنامه کاری | S1: =تنظیمات!M2 -> فروردین | V1: =تنظیمات!O2 -> 1403 | Y1: =تنظیمات!A2 -> برنامه عملکرد پزشکان | AI1: =تنظیمات!E2 -> اورژانس
A2: ردیف | B2: نوع استخدام | C2: مدرک تحصیلی | D2: سنوات | F2: ایام هفته | G2: =IF(AND(S1=دیتا!A2,V1=دیتا!B2),دیتا!C2,IF(AND(S1=دیتا!A3,V1=دیتا!B3),دیتا!C3,IF(AND(S1=دیتا!A4,V1=دیتا!B4),دیتا!C4,IF(AND(S1=دیتا!A5,V1=دیتا!B5),دیتا!C5,IF(AND(S1=دیتا!A6,V1=دیتا!B6),دیتا!C6,IF(AND(S1=دیتا!A7,V1=دیتا!B7),دیتا!C7,IF(AND(S1=دیتا!A8,V1=دیتا!B8),دیتا!C8,IF(AND(S1=دیتا!A9,V1=دیتا!B9),دیتا!C9,IF(AND(S1=دیتا!A10,V1=دیتا!B10),دیتا!C10,IF(AND(S1=دیتا!A11,V1=دیتا!B11),دیتا!C11,IF(AND(S1=دیتا!A12,V1=دیتا!B12),دیتا!C12,IF(AND(S1=دیتا!A13,V1=دیتا!B13),دیتا!C13,IF(AND(S1=دیتا!A14,V1=دیتا!B14),دیتا!C14,IF(AND(S1=دیتا!A15,V1=دیتا!B15),دیتا!C15,IF(AND(S1=دیتا!A16,V1=دیتا!B16),دیتا!C16,IF(AND(S1=دیتا!A17,V1=دیتا!B17),دیتا!C17,IF(AND(S1=دیتا!A18,V1=دیتا!B18),دیتا!C18,IF(AND(S1=دیتا!A19,V1=دیتا!B19),دیتا!C19,IF(AND(S1=دیتا!A20,V1=دیتا!B20),دیتا!C20,IF(AND(S1=دیتا!A21,V1=دیتا!B21),دیتا!C21,IF(AND(S1=دیتا!A22,V1=دیتا!B22),دیتا!C22,IF(AND(S1=دیتا!A23,V1=دیتا!B23),دیتا!C23,IF(AND(S1=دیتا!A24,V1=دیتا!B24),دیتا!C24,IF(AND(S1=دیتا!A25,V1=دیتا!B25),دیتا!C25,IF(AND(S1=دیتا!A26,V1=دیتا!B26),دیتا!C26,IF(AND(S1=دیتا!A27,V1=دیتا!B27),دیتا!C27,IF(AND(S1=دیتا!A28,V1=دیتا!B28),دیتا!C28,IF(AND(S1=دیتا!A29,V1=دیتا!B29),دیتا!C29,IF(AND(S1=دیتا!A30,V1=دیتا!B30),دیتا!C30,IF(AND(S1=دیتا!A31,V1=دیتا!B31),دیتا!C31,IF(AND(S1=دیتا!A32,V1=دیتا!B32),دیتا!C32,IF(AND(S1=دیتا!A33,V1=دیتا!B33),دیتا!C33,IF(AND(S1=دیتا!A34,V1=دیتا!B34),دیتا!C34,IF(AND(S1=دیتا!A35,V1=دیتا!B35),دیتا!C35,IF(AND(S1=دیتا!A36,V1=دیتا!B36),دیتا!C36,IF(AND(S1=دیتا!A37,V1=دیتا!B37),دیتا!C37,"")))))))))))))))))))))))))))))))))))) -> چهار شنبه | H2: =IF(G2="شنبه","یکشنبه",IF(G2="یکشنبه","دوشنبه",IF(G2="دوشنبه","سه شنبه",IF(G2="سه شنبه","چهار شنبه",IF(G2="چهار شنبه","پنج شنبه",IF(G2="پنج شنبه","جمعه",IF(G2="جمعه","شنبه"))))))) -> پنج شنبه | I2: =IF(H2="شنبه","یکشنبه",IF(H2="یکشنبه","دوشنبه",IF(H2="دوشنبه","سه شنبه",IF(H2="سه شنبه","چهار شنبه",IF(H2="چهار شنبه","پنج شنبه",IF(H2="پنج شنبه","جمعه",IF(H2="جمعه","شنبه"))))))) -> جمعه | J2: =IF(I2="شنبه","یکشنبه",IF(I2="یکشنبه","دوشنبه",IF(I2="دوشنبه","سه شنبه",IF(I2="سه شنبه","چهار شنبه",IF(I2="چهار شنبه","پنج شنبه",IF(I2="پنج شنبه","جمعه",IF(I2="جمعه","شنبه"))))))) -> شنبه | K2: =IF(J2="شنبه","یکشنبه",IF(J2="یکشنبه","دوشنبه",IF(J2="دوشنبه","سه شنبه",IF(J2="سه شنبه","چهار شنبه",IF(J2="چهار شنبه","پنج شنبه",IF(J2="پنج شنبه","جمعه",IF(J2="جمعه","شنبه"))))))) -> یکشنبه | L2: =IF(K2="شنبه","یکشنبه",IF(K2="یکشنبه","دوشنبه",IF(K2="دوشنبه","سه شنبه",IF(K2="سه شنبه","چهار شنبه",IF(K2="چهار شنبه","پنج شنبه",IF(K2="پنج شنبه","جمعه",IF(K2="جمعه","شنبه"))))))) -> دوشنبه | M2: =IF(L2="شنبه","یکشنبه",IF(L2="یکشنبه","دوشنبه",IF(L2="دوشنبه","سه شنبه",IF(L2="سه شنبه","چهار شنبه",IF(L2="چهار شنبه","پنج شنبه",IF(L2="پنج شنبه","جمعه",IF(L2="جمعه","شنبه"))))))) -> سه شنبه | N2: =IF(M2="شنبه","یکشنبه",IF(M2="یکشنبه","دوشنبه",IF(M2="دوشنبه","سه شنبه",IF(M2="سه شنبه","چهار شنبه",IF(M2="چهار شنبه","پنج شنبه",IF(M2="پنج شنبه","جمعه",IF(M2="جمعه","شنبه"))))))) -> چهار شنبه | O2: =IF(N2="شنبه","یکشنبه",IF(N2="یکشنبه","دوشنبه",IF(N2="دوشنبه","سه شنبه",IF(N2="سه شنبه","چهار شنبه",IF(N2="چهار شنبه","پنج شنبه",IF(N2="پنج شنبه","جمعه",IF(N2="جمعه","شنبه"))))))) -> پنج شنبه | ... AK2: =IF(AJ2="شنبه","یکشنبه",IF(AJ2="یکشنبه","دوشنبه",IF(AJ2="دوشنبه","سه شنبه",IF(AJ2="سه شنبه","چهار شنبه",IF(AJ2="چهار شنبه","پنج شنبه",IF(AJ2="پنج شنبه","جمعه",IF(AJ2="جمعه","شنبه"))))))) -> جمعه
D3: سال | E3: ماه | F3: تعطیل | K3: ✔ | S3: ✔ | Y3: ✔ | AF3: ✔
F4: نام و نام خانوادگی | G4: 1 | H4: 2 | I4: 3 | J4: 4 | K4: 5 | L4: 6 | M4: 7 | N4: 8 | O4: 9 | P4: 10 | Q4: 11 | R4: 12 | S4: 13 | T4: 14 | U4: 15 | V4: 16 | W4: 17 | X4: 18 | Y4: 19 | Z4: 20 | AA4: 21 | AB4: 22 | AC4: 23 | AD4: 24 | AE4: 25 | AF4: 26 | AG4: 27 | AH4: 28 | AI4: 29 | AJ4: 30 | AK4: 31 | AL4: M | AM4: E | AN4: N | AO4: H | AP4: S | AQ4: Σ
A5: 1 | B5: =IFERROR(INDEX(تنظیمات!$B$5:$J$32,MATCH('برنامه فروردین'!F5,تنظیمات!$C$5:$C$32,0),9),"") | C5: =IFERROR(INDEX(تنظیمات!$B$5:$J$32,MATCH('برنامه فروردین'!F5,تنظیمات!$C$5:$C$32,0),4),"") | D5: =IFERROR(INDEX(تنظیمات!$B$5:$J$32,MATCH('برنامه فروردین'!F5,تنظیمات!$C$5:$C$32,0),5),"") | E5: =IFERROR(INDEX(تنظیمات!$B$5:$J$32,MATCH('برنامه فروردین'!F5,تنظیمات!$C$5:$C$32,0),6),"") | F5: =IFERROR(INDEX(دیتا!$J$2:$K$26,MATCH('برنامه فروردین'!A5,دیتا!$J$2:$J$26,0),2),"") | AL5: =COUNTIF(G5:AK5,"=M")+COUNTIF(G5:AK5,"=ME")+COUNTIF(G5:AK5,"=MN") -> 0 | AM5: =COUNTIF(G5:AK5,"=E")+COUNTIF(G5:AK5,"=ME")+COUNTIF(G5:AK5,"=en") -> 0 | AN5: =COUNTIF(G5:AK5,"=N")+COUNTIF(G5:AK5,"=MN")+COUNTIF(G5:AK5,"=en") -> 0 | AO5: =COUNTIF(G5:AK5,"=H") -> 0 | AP5: =COUNTIF(G5:AK5,"=S") -> 0 | AQ5: =AL5+AM5+(AN5*2) -> 0
A6: 2 | B6: =IFERROR(INDEX(تنظیمات!$B$5:$J$32,MATCH('برنامه فروردین'!F6,تنظیمات!$C$5:$C$32,0),9),"") -> رسمی | C6: =IFERROR(INDEX(تنظیمات!$B$5:$J$32,MATCH('برنامه فروردین'!F6,تنظیمات!$C$5:$C$32,0),4),"") -> دکتری عمومی | D6: =IFERROR(INDEX(تنظیمات!$B$5:$J$32,MATCH('برنامه فروردین'!F6,تنظیمات!$C$5:$C$32,0),5),"") -> 17 | E6: =IFERROR(INDEX(تنظیمات!$B$5:$J$32,MATCH('برنامه فروردین'!F6,تنظیمات!$C$5:$C$32,0),6),"") -> 2 | F6: =IFERROR(INDEX(دیتا!$J$2:$K$26,MATCH('برنامه فروردین'!A6,دیتا!$J$2:$J$26,0),2),"") -> دکتر علی | G6: N | I6: E | J6: N | L6: E | N6: N | P6: E | Q6: MN | R6: N | S6: E | T6: M | V6: M | W6: N | X6: E | Z6: N | AA6: E | AF6: N | AG6: N | AJ6: E | AL6: =COUNTIF(G6:AK6,"=M")+COUNTIF(G6:AK6,"=ME")+COUNTIF(G6:AK6,"=MN") -> 3 | AM6: =COUNTIF(G6:AK6,"=E")+COUNTIF(G6:AK6,"=ME")+COUNTIF(G6:AK6,"=en") -> 7 | AN6: =COUNTIF(G6:AK6,"=N")+COUNTIF(G6:AK6,"=MN")+COUNTIF(G6:AK6,"=en") -> 9 | AO6: =COUNTIF(G6:AK6,"=H") -> 0 | AP6: =COUNTIF(G6:AK6,"=S") -> 0 | AQ6: =AL6+AM6+(AN6*2) -> 28
A7: 3 | B7: =IFERROR(INDEX(تنظیمات!$B$5:$J$32,MATCH('برنامه فروردین'!F7,تنظیمات!$C$5:$C$32,0),9),"") -> پیمانی | C7: =IFERROR(INDEX(تنظیمات!$B$5:$J$32,MATCH('برنامه فروردین'!F7,تنظیمات!$C$5:$C$32,0),4),"") -> دکتری عمومی | D7: =IFERROR(INDEX(تنظیمات!$B$5:$J$32,MATCH('برنامه فروردین'!F7,تنظیمات!$C$5:$C$32,0),5),"") -> 5 | E7: =IFERROR(INDEX(تنظیمات!$B$5:$J$32,MATCH('برنامه فروردین'!F7,تنظیمات!$C$5:$C$32,0),6),"") -> 4 | F7: =IFERROR(INDEX(دیتا!$J$2:$K$26,MATCH('برنامه فروردین'!A7,دیتا!$J$2:$J$26,0),2),"") -> دکتر خالد | H7: N | J7: M | K7: M | M7: M | N7: EN | O7: N | T7: N | U7: N | W7: M | X7: N | Y7: E | Z7: M | AA7: M | AD7: H | AE7: H | AH7: M | AI7: N | AL7: =COUNTIF(G7:AK7,"=M")+COUNTIF(G7:AK7,"=ME")+COUNTIF(G7:AK7,"=MN") -> 7 | AM7: =COUNTIF(G7:AK7,"=E")+COUNTIF(G7:AK7,"=ME")+COUNTIF(G7:AK7,"=en") -> 2 | AN7: =COUNTIF(G7:AK7,"=N")+COUNTIF(G7:AK7,"=MN")+COUNTIF(G7:AK7,"=en") -> 7 | AO7: =COUNTIF(G7:AK7,"=H") -> 2 | AP7: =COUNTIF(G7:AK7,"=S") -> 0 | AQ7: =AL7+AM7+(AN7*2) -> 23
A8: 4 | B8: =IFERROR(INDEX(تنظیمات!$B$5:$J$32,MATCH('برنامه فروردین'!F8,تنظیمات!$C$5:$C$32,0),9),"") | C8: =IFERROR(INDEX(تنظیمات!$B$5:$J$32,MATCH('برنامه فروردین'!F8,تنظیمات!$C$5:$C$32,0),4),"") | D8: =IFERROR(INDEX(تنظیمات!$B$5:$J$32,MATCH('برنامه فروردین'!F8,تنظیمات!$C$5:$C$32,0),5),"") | E8: =IFERROR(INDEX(تنظیمات!$B$5:$J$32,MATCH('برنامه فروردین'!F8,تنظیمات!$C$5:$C$32,0),6),"") | F8: =IFERROR(INDEX(دیتا!$J$2:$K$26,MATCH('برنامه فروردین'!A8,دیتا!$J$2:$J$26,0),2),"") | AL8: =COUNTIF(G8:AK8,"=M")+COUNTIF(G8:AK8,"=ME")+COUNTIF(G8:AK8,"=MN") -> 0 | AM8: =COUNTIF(G8:AK8,"=E")+COUNTIF(G8:AK8,"=ME")+COUNTIF(G8:AK8,"=en") -> 0 | AN8: =COUNTIF(G8:AK8,"=N")+COUNTIF(G8:AK8,"=MN")+COUNTIF(G8:AK8,"=en") -> 0 | AO8: =COUNTIF(G8:AK8,"=H") -> 0 | AP8: =COUNTIF(G8:AK8,"=S") -> 0 | AQ8: =AL8+AM8+(AN8*2) -> 0
A9: 5 | B9: =IFERROR(INDEX(تنظیمات!$B$5:$J$32,MATCH('برنامه فروردین'!F9,تنظیمات!$C$5:$C$32,0),9),"") | C9: =IFERROR(INDEX(تنظیمات!$B$5:$J$32,MATCH('برنامه فروردین'!F9,تنظیمات!$C$5:$C$32,0),4),"") | D9: =IFERROR(INDEX(تنظیمات!$B$5:$J$32,MATCH('برنامه فروردین'!F9,تنظیمات!$C$5:$C$32,0),5),"") | E9: =IFERROR(INDEX(تنظیمات!$B$5:$J$32,MATCH('برنامه فروردین'!F9,تنظیمات!$C$5:$C$32,0),6),"") | F9: =IFERROR(INDEX(دیتا!$J$2:$K$26,MATCH('برنامه فروردین'!A9,دیتا!$J$2:$J$26,0),2),"") | L9: E | AL9: =COUNTIF(G9:AK9,"=M")+COUNTIF(G9:AK9,"=ME")+COUNTIF(G9:AK9,"=MN") -> 0 | AM9: =COUNTIF(G9:AK9,"=E")+COUNTIF(G9:AK9,"=ME")+COUNTIF(G9:AK9,"=en") -> 1 | AN9: =COUNTIF(G9:AK9,"=N")+COUNTIF(G9:AK9,"=MN")+COUNTIF(G9:AK9,"=en") -> 0 | AO9: =COUNTIF(G9:AK9,"=H") -> 0 | AP9: =COUNTIF(G9:AK9,"=S") -> 0 | AQ9: =AL9+AM9+(AN9*2) -> 1
A10: 6 | B10: =IFERROR(INDEX(تنظیمات!$B$5:$J$32,MATCH('برنامه فروردین'!F10,تنظیمات!$C$5:$C$32,0),9),"") -> طرحی | C10: =IFERROR(INDEX(تنظیمات!$B$5:$J$32,MATCH('برنامه فروردین'!F10,تنظیمات!$C$5:$C$32,0),4),"") -> دکتری عمومی | D10: =IFERROR(INDEX(تنظیمات!$B$5:$J$32,MATCH('برنامه فروردین'!F10,تنظیمات!$C$5:$C$32,0),5),"") -> 0 | E10: =IFERROR(INDEX(تنظیمات!$B$5:$J$32,MATCH('برنامه فروردین'!F10,تنظیمات!$C$5:$C$32,0),6),"") -> 12 | F10: =IFERROR(INDEX(دیتا!$J$2:$K$26,MATCH('برنامه فروردین'!A10,دیتا!$J$2:$J$26,0),2),"") -> دکتر صبا | I10: N | K10: E | L10: N | S10: N | U10: M | Y10: MN | AA10: N | AC10: M | AD10: N | AF10: M | AH10: N | AL10: =COUNTIF(G10:AK10,"=M")+COUNTIF(G10:AK10,"=ME")+COUNTIF(G10:AK10,"=MN") -> 4 | AM10: =COUNTIF(G10:AK10,"=E")+COUNTIF(G10:AK10,"=ME")+COUNTIF(G10:AK10,"=en") -> 1 | AN10: =COUNTIF(G10:AK10,"=N")+COUNTIF(G10:AK10,"=MN")+COUNTIF(G10:AK10,"=en") -> 7 | AO10: =COUNTIF(G10:AK10,"=H") -> 0 | AP10: =COUNTIF(G10:AK10,"=S") -> 0 | AQ10: =AL10+AM10+(AN10*2) -> 19
A11: 7 | B11: =IFERROR(INDEX(تنظیمات!$B$5:$J$32,MATCH('برنامه فروردین'!F11,تنظیمات!$C$5:$C$32,0),9),"") -> تفاهمی | C11: =IFERROR(INDEX(تنظیمات!$B$5:$J$32,MATCH('برنامه فروردین'!F11,تنظیمات!$C$5:$C$32,0),4),"") -> دکتری عمومی | D11: =IFERROR(INDEX(تنظیمات!$B$5:$J$32,MATCH('برنامه فروردین'!F11,تنظیمات!$C$5:$C$32,0),5),"") -> 0 | E11: =IFERROR(INDEX(تنظیمات!$B$5:$J$32,MATCH('برنامه فروردین'!F11,تنظیمات!$C$5:$C$32,0),6),"") -> 7 | F11: =IFERROR(INDEX(دیتا!$J$2:$K$26,MATCH('برنامه فروردین'!A11,دیتا!$J$2:$J$26,0),2),"") -> دکتر لیلا | AL11: =COUNTIF(G11:AK11,"=M")+COUNTIF(G11:AK11,"=ME")+COUNTIF(G11:AK11,"=MN") -> 0 | AM11: =COUNTIF(G11:AK11,"=E")+COUNTIF(G11:AK11,"=ME")+COUNTIF(G11:AK11,"=en") -> 0 | AN11: =COUNTIF(G11:AK11,"=N")+COUNTIF(G11:AK11,"=MN")+COUNTIF(G11:AK11,"=en") -> 0 | AO11: =COUNTIF(G11:AK11,"=H") -> 0 | AP11: =COUNTIF(G11:AK11,"=S") -> 0 | AQ11: =AL11+AM11+(AN11*2) -> 0
A12: 8 | B12: =IFERROR(INDEX(تنظیمات!$B$5:$J$32,MATCH('برنامه فروردین'!F12,تنظیمات!$C$5:$C$32,0),9),"") -> طرحی | C12: =IFERROR(INDEX(تنظیمات!$B$5:$J$32,MATCH('برنامه فروردین'!F12,تنظیمات!$C$5:$C$32,0),4),"") -> دکتری عمومی | D12: =IFERROR(INDEX(تنظیمات!$B$5:$J$32,MATCH('برنامه فروردین'!F12,تنظیمات!$C$5:$C$32,0),5),"") -> 0 | E12: =IFERROR(INDEX(تنظیمات!$B$5:$J$32,MATCH('برنامه فروردین'!F12,تنظیمات!$C$5:$C$32,0),6),"") -> 6 | F12: =IFERROR(INDEX(دیتا!$J$2:$K$26,MATCH('برنامه فروردین'!A12,دیتا!$J$2:$J$26,0),2),"") -> دکتر محسن | H12: E | I12: M | K12: N | M12: N | O12: M | P12: N | R12: E | S12: M | Z12: E | AB12: N | AC12: N | AE12: MN | AF12: E | AG12: E | AH12: E | AL12: =COUNTIF(G12:AK12,"=M")+COUNTIF(G12:AK12,"=ME")+COUNTIF(G12:AK12,"=MN") -> 4 | AM12: =COUNTIF(G12:AK12,"=E")+COUNTIF(G12:AK12,"=ME")+COUNTIF(G12:AK12,"=en") -> 6 | AN12: =COUNTIF(G12:AK12,"=N")+COUNTIF(G12:AK12,"=MN")+COUNTIF(G12:AK12,"=en") -> 6 | AO12: =COUNTIF(G12:AK12,"=H") -> 0 | AP12: =COUNTIF(G12:AK12,"=S") -> 0 | AQ12: =AL12+AM12+(AN12*2) -> 22
A13: 9 | B13: =IFERROR(INDEX(تنظیمات!$B$5:$J$32,MATCH('برنامه فروردین'!F13,تنظیمات!$C$5:$C$32,0),9),"") | C13: =IFERROR(INDEX(تنظیمات!$B$5:$J$32,MATCH('برنامه فروردین'!F13,تنظیمات!$C$5:$C$32,0),4),"") | D13: =IFERROR(INDEX(تنظیمات!$B$5:$J$32,MATCH('برنامه فروردین'!F13,تنظیمات!$C$5:$C$32,0),5),"") | E13: =IFERROR(INDEX(تنظیمات!$B$5:$J$32,MATCH('برنامه فروردین'!F13,تنظیمات!$C$5:$C$32,0),6),"") | F13: =IFERROR(INDEX(دیتا!$J$2:$K$26,MATCH('برنامه فروردین'!A13,دیتا!$J$2:$J$26,0),2),"") | G13: M | R13: M | T13: E | U13: E | V13: N | AC13: E | AJ13: N | AL13: =COUNTIF(G13:AK13,"=M")+COUNTIF(G13:AK13,"=ME")+COUNTIF(G13:AK13,"=MN") -> 2 | AM13: =COUNTIF(G13:AK13,"=E")+COUNTIF(G13:AK13,"=ME")+COUNTIF(G13:AK13,"=en") -> 3 | AN13: =COUNTIF(G13:AK13,"=N")+COUNTIF(G13:AK13,"=MN")+COUNTIF(G13:AK13,"=en") -> 2 | AO13: =COUNTIF(G13:AK13,"=H") -> 0 | AP13: =COUNTIF(G13:AK13,"=S") -> 0 | AQ13: =AL13+AM13+(AN13*2) -> 9
A14: 10 | B14: =IFERROR(INDEX(تنظیمات!$B$5:$J$32,MATCH('برنامه فروردین'!F14,تنظیمات!$C$5:$C$32,0),9),"") | C14: =IFERROR(INDEX(تنظیمات!$B$5:$J$32,MATCH('برنامه فروردین'!F14,تنظیمات!$C$5:$C$32,0),4),"") | D14: =IFERROR(INDEX(تنظیمات!$B$5:$J$32,MATCH('برنامه فروردین'!F14,تنظیمات!$C$5:$C$32,0),5),"") | E14: =IFERROR(INDEX(تنظیمات!$B$5:$J$32,MATCH('برنامه فروردین'!F14,تنظیمات!$C$5:$C$32,0),6),"") | F14: =IFERROR(INDEX(دیتا!$J$2:$K$26,MATCH('برنامه فروردین'!A14,دیتا!$J$2:$J$26,0),2),"") | G14: E | H14: M | J14: E | L14: M | M14: E | N14: E | O14: E | P14: M | Q14: E | V14: E | W14: E | X14: M | AB14: ME | AD14: ME | AE14: E | AG14: M | AI14: ME | AJ14: M | AL14: =COUNTIF(G14:AK14,"=M")+COUNTIF(G14:AK14,"=ME")+COUNTIF(G14:AK14,"=MN") -> 9 | AM14: =COUNTIF(G14:AK14,"=E")+COUNTIF(G14:AK14,"=ME")+COUNTIF(G14:AK14,"=en") -> 12 | AN14: =COUNTIF(G14:AK14,"=N")+COUNTIF(G14:AK14,"=MN")+COUNTIF(G14:AK14,"=en") -> 0 | AO14: =COUNTIF(G14:AK14,"=H") -> 0 | AP14: =COUNTIF(G14:AK14,"=S") -> 0 | AQ14: =AL14+AM14+(AN14*2) -> 21
A15: 11 | B15: =IFERROR(INDEX(تنظیمات!$B$5:$J$32,MATCH('برنامه فروردین'!F15,تنظیمات!$C$5:$C$32,0),9),"") -> قراردادی | C15: =IFERROR(INDEX(تنظیمات!$B$5:$J$32,MATCH('برنامه فروردین'!F15,تنظیمات!$C$5:$C$32,0),4),"") -> دکتری عمومی | D15: =IFERROR(INDEX(تنظیمات!$B$5:$J$32,MATCH('برنامه فروردین'!F15,تنظیمات!$C$5:$C$32,0),5),"") -> 0 | E15: =IFERROR(INDEX(تنظیمات!$B$5:$J$32,MATCH('برنامه فروردین'!F15,تنظیمات!$C$5:$C$32,0),6),"") -> 0 | F15: =IFERROR(INDEX(دیتا!$J$2:$K$26,MATCH('برنامه فروردین'!A15,دیتا!$J$2:$J$26,0),2),"") -> دکتر عاطفه | AL15: =COUNTIF(G15:AK15,"=M")+COUNTIF(G15:AK15,"=ME")+COUNTIF(G15:AK15,"=MN") -> 0 | AM15: =COUNTIF(G15:AK15,"=E")+COUNTIF(G15:AK15,"=ME")+COUNTIF(G15:AK15,"=en") -> 0 | AN15: =COUNTIF(G15:AK15,"=N")+COUNTIF(G15:AK15,"=MN")+COUNTIF(G15:AK15,"=en") -> 0 | AO15: =COUNTIF(G15:AK15,"=H") -> 0 | AP15: =COUNTIF(G15:AK15,"=S") -> 0 | AQ15: =AL15+AM15+(AN15*2) -> 0
A16: 12 | B16: =IFERROR(INDEX(تنظیمات!$B$5:$J$32,MATCH('برنامه فروردین'!F16,تنظیمات!$C$5:$C$32,0),9),"") | C16: =IFERROR(INDEX(تنظیمات!$B$5:$J$32,MATCH('برنامه فروردین'!F16,تنظیمات!$C$5:$C$32,0),4),"") | D16: =IFERROR(INDEX(تنظیمات!$B$5:$J$32,MATCH('برنامه فروردین'!F16,تنظیمات!$C$5:$C$32,0),5),"") | E16: =IFERROR(INDEX(تنظیمات!$B$5:$J$32,MATCH('برنامه فروردین'!F16,تنظیمات!$C$5:$C$32,0),6),"") | F16: =IFERROR(INDEX(دیتا!$J$2:$K$26,MATCH('برنامه فروردین'!A16,دیتا!$J$2:$J$26,0),2),"") | AL16: =COUNTIF(G16:AK16,"=M")+COUNTIF(G16:AK16,"=ME")+COUNTIF(G16:AK16,"=MN") -> 0 | AM16: =COUNTIF(G16:AK16,"=E")+COUNTIF(G16:AK16,"=ME")+COUNTIF(G16:AK16,"=en") -> 0 | AN16: =COUNTIF(G16:AK16,"=N")+COUNTIF(G16:AK16,"=MN")+COUNTIF(G16:AK16,"=en") -> 0 | AO16: =COUNTIF(G16:AK16,"=H") -> 0 | AP16: =COUNTIF(G16:AK16,"=S") -> 0 | AQ16: =AL16+AM16+(AN16*2) -> 0
A17: 13 | B17: =IFERROR(INDEX(تنظیمات!$B$5:$J$32,MATCH('برنامه فروردین'!F17,تنظیمات!$C$5:$C$32,0),9),"") | C17: =IFERROR(INDEX(تنظیمات!$B$5:$J$32,MATCH('برنامه فروردین'!F17,تنظیمات!$C$5:$C$32,0),4),"") | D17: =IFERROR(INDEX(تنظیمات!$B$5:$J$32,MATCH('برنامه فروردین'!F17,تنظیمات!$C$5:$C$32,0),5),"") | E17: =IFERROR(INDEX(تنظیمات!$B$5:$J$32,MATCH('برنامه فروردین'!F17,تنظیمات!$C$5:$C$32,0),6),"") | F17: =IFERROR(INDEX(دیتا!$J$2:$K$26,MATCH('برنامه فروردین'!A17,دیتا!$J$2:$J$26,0),2),"") | AL17: =COUNTIF(G17:AK17,"=M")+COUNTIF(G17:AK17,"=ME")+COUNTIF(G17:AK17,"=MN") -> 0 | AM17: =COUNTIF(G17:AK17,"=E")+COUNTIF(G17:AK17,"=ME")+COUNTIF(G17:AK17,"=en") -> 0 | AN17: =COUNTIF(G17:AK17,"=N")+COUNTIF(G17:AK17,"=MN")+COUNTIF(G17:AK17,"=en") -> 0 | AO17: =COUNTIF(G17:AK17,"=H") -> 0 | AP17: =COUNTIF(G17:AK17,"=S") -> 0 | AQ17: =AL17+AM17+(AN17*2) -> 0
A18: 14 | B18: =IFERROR(INDEX(تنظیمات!$B$5:$J$32,MATCH('برنامه فروردین'!F18,تنظیمات!$C$5:$C$32,0),9),"") | C18: =IFERROR(INDEX(تنظیمات!$B$5:$J$32,MATCH('برنامه فروردین'!F18,تنظیمات!$C$5:$C$32,0),4),"") | D18: =IFERROR(INDEX(تنظیمات!$B$5:$J$32,MATCH('برنامه فروردین'!F18,تنظیمات!$C$5:$C$32,0),5),"") | E18: =IFERROR(INDEX(تنظیمات!$B$5:$J$32,MATCH('برنامه فروردین'!F18,تنظیمات!$C$5:$C$32,0),6),"") | F18: =IFERROR(INDEX(دیتا!$J$2:$K$26,MATCH('برنامه فروردین'!A18,دیتا!$J$2:$J$26,0),2),"") | AL18: =COUNTIF(G18:AK18,"=M")+COUNTIF(G18:AK18,"=ME")+COUNTIF(G18:AK18,"=MN") -> 0 | AM18: =COUNTIF(G18:AK18,"=E")+COUNTIF(G18:AK18,"=ME")+COUNTIF(G18:AK18,"=en") -> 0 | AN18: =COUNTIF(G18:AK18,"=N")+COUNTIF(G18:AK18,"=MN")+COUNTIF(G18:AK18,"=en") -> 0 | AO18: =COUNTIF(G18:AK18,"=H") -> 0 | AP18: =COUNTIF(G18:AK18,"=S") -> 0 | AQ18: =AL18+AM18+(AN18*2) -> 0
A19: 15 | B19: =IFERROR(INDEX(تنظیمات!$B$5:$J$32,MATCH('برنامه فروردین'!F19,تنظیمات!$C$5:$C$32,0),9),"") | C19: =IFERROR(INDEX(تنظیمات!$B$5:$J$32,MATCH('برنامه فروردین'!F19,تنظیمات!$C$5:$C$32,0),4),"") | D19: =IFERROR(INDEX(تنظیمات!$B$5:$J$32,MATCH('برنامه فروردین'!F19,تنظیمات!$C$5:$C$32,0),5),"") | E19: =IFERROR(INDEX(تنظیمات!$B$5:$J$32,MATCH('برنامه فروردین'!F19,تنظیمات!$C$5:$C$32,0),6),"") | F19: =IFERROR(INDEX(دیتا!$J$2:$K$26,MATCH('برنامه فروردین'!A19,دیتا!$J$2:$J$26,0),2),"") | AL19: =COUNTIF(G19:AK19,"=M")+COUNTIF(G19:AK19,"=ME")+COUNTIF(G19:AK19,"=MN") -> 0 | AM19: =COUNTIF(G19:AK19,"=E")+COUNTIF(G19:AK19,"=ME")+COUNTIF(G19:AK19,"=en") -> 0 | AN19: =COUNTIF(G19:AK19,"=N")+COUNTIF(G19:AK19,"=MN")+COUNTIF(G19:AK19,"=en") -> 0 | AO19: =COUNTIF(G19:AK19,"=H") -> 0 | AP19: =COUNTIF(G19:AK19,"=S") -> 0 | AQ19: =AL19+AM19+(AN19*2) -> 0
A20: 16 | B20: =IFERROR(INDEX(تنظیمات!$B$5:$J$32,MATCH('برنامه فروردین'!F20,تنظیمات!$C$5:$C$32,0),9),"") | C20: =IFERROR(INDEX(تنظیمات!$B$5:$J$32,MATCH('برنامه فروردین'!F20,تنظیمات!$C$5:$C$32,0),4),"") | D20: =IFERROR(INDEX(تنظیمات!$B$5:$J$32,MATCH('برنامه فروردین'!F20,تنظیمات!$C$5:$C$32,0),5),"") | E20: =IFERROR(INDEX(تنظیمات!$B$5:$J$32,MATCH('برنامه فروردین'!F20,تنظیمات!$C$5:$C$32,0),6),"") | F20: =IFERROR(INDEX(دیتا!$J$2:$K$26,MATCH('برنامه فروردین'!A20,دیتا!$J$2:$J$26,0),2),"") | AL20: =COUNTIF(G20:AK20,"=M")+COUNTIF(G20:AK20,"=ME")+COUNTIF(G20:AK20,"=MN") -> 0 | AM20: =COUNTIF(G20:AK20,"=E")+COUNTIF(G20:AK20,"=ME")+COUNTIF(G20:AK20,"=en") -> 0 | AN20: =COUNTIF(G20:AK20,"=N")+COUNTIF(G20:AK20,"=MN")+COUNTIF(G20:AK20,"=en") -> 0 | AO20: =COUNTIF(G20:AK20,"=H") -> 0 | AP20: =COUNTIF(G20:AK20,"=S") -> 0 | AQ20: =AL20+AM20+(AN20*2) -> 0
A21: 17 | B21: =IFERROR(INDEX(تنظیمات!$B$5:$J$32,MATCH('برنامه فروردین'!F21,تنظیمات!$C$5:$C$32,0),9),"") | C21: =IFERROR(INDEX(تنظیمات!$B$5:$J$32,MATCH('برنامه فروردین'!F21,تنظیمات!$C$5:$C$32,0),4),"") | D21: =IFERROR(INDEX(تنظیمات!$B$5:$J$32,MATCH('برنامه فروردین'!F21,تنظیمات!$C$5:$C$32,0),5),"") | E21: =IFERROR(INDEX(تنظیمات!$B$5:$J$32,MATCH('برنامه فروردین'!F21,تنظیمات!$C$5:$C$32,0),6),"") | F21: =IFERROR(INDEX(دیتا!$J$2:$K$26,MATCH('برنامه فروردین'!A21,دیتا!$J$2:$J$26,0),2),"") | AL21: =COUNTIF(G21:AK21,"=M")+COUNTIF(G21:AK21,"=ME")+COUNTIF(G21:AK21,"=MN") -> 0 | AM21: =COUNTIF(G21:AK21,"=E")+COUNTIF(G21:AK21,"=ME")+COUNTIF(G21:AK21,"=en") -> 0 | AN21: =COUNTIF(G21:AK21,"=N")+COUNTIF(G21:AK21,"=MN")+COUNTIF(G21:AK21,"=en") -> 0 | AO21: =COUNTIF(G21:AK21,"=H") -> 0 | AP21: =COUNTIF(G21:AK21,"=S") -> 0 | AQ21: =AL21+AM21+(AN21*2) -> 0
A22: 18 | B22: =IFERROR(INDEX(تنظیمات!$B$5:$J$32,MATCH('برنامه فروردین'!F22,تنظیمات!$C$5:$C$32,0),9),"") | C22: =IFERROR(INDEX(تنظیمات!$B$5:$J$32,MATCH('برنامه فروردین'!F22,تنظیمات!$C$5:$C$32,0),4),"") | D22: =IFERROR(INDEX(تنظیمات!$B$5:$J$32,MATCH('برنامه فروردین'!F22,تنظیمات!$C$5:$C$32,0),5),"") | E22: =IFERROR(INDEX(تنظیمات!$B$5:$J$32,MATCH('برنامه فروردین'!F22,تنظیمات!$C$5:$C$32,0),6),"") | F22: =IFERROR(INDEX(دیتا!$J$2:$K$26,MATCH('برنامه فروردین'!A22,دیتا!$J$2:$J$26,0),2),"") | AL22: =COUNTIF(G22:AK22,"=M")+COUNTIF(G22:AK22,"=ME")+COUNTIF(G22:AK22,"=MN") -> 0 | AM22: =COUNTIF(G22:AK22,"=E")+COUNTIF(G22:AK22,"=ME")+COUNTIF(G22:AK22,"=en") -> 0 | AN22: =COUNTIF(G22:AK22,"=N")+COUNTIF(G22:AK22,"=MN")+COUNTIF(G22:AK22,"=en") -> 0 | AO22: =COUNTIF(G22:AK22,"=H") -> 0 | AP22: =COUNTIF(G22:AK22,"=S") -> 0 | AQ22: =AL22+AM22+(AN22*2) -> 0
A23: 19 | B23: =IFERROR(INDEX(تنظیمات!$B$5:$J$32,MATCH('برنامه فروردین'!F23,تنظیمات!$C$5:$C$32,0),9),"") | C23: =IFERROR(INDEX(تنظیمات!$B$5:$J$32,MATCH('برنامه فروردین'!F23,تنظیمات!$C$5:$C$32,0),4),"") | D23: =IFERROR(INDEX(تنظیمات!$B$5:$J$32,MATCH('برنامه فروردین'!F23,تنظیمات!$C$5:$C$32,0),5),"") | E23: =IFERROR(INDEX(تنظیمات!$B$5:$J$32,MATCH('برنامه فروردین'!F23,تنظیمات!$C$5:$C$32,0),6),"") | F23: =IFERROR(INDEX(دیتا!$J$2:$K$26,MATCH('برنامه فروردین'!A23,دیتا!$J$2:$J$26,0),2),"") | AL23: =COUNTIF(G23:AK23,"=M")+COUNTIF(G23:AK23,"=ME")+COUNTIF(G23:AK23,"=MN") -> 0 | AM23: =COUNTIF(G23:AK23,"=E")+COUNTIF(G23:AK23,"=ME")+COUNTIF(G23:AK23,"=en") -> 0 | AN23: =COUNTIF(G23:AK23,"=N")+COUNTIF(G23:AK23,"=MN")+COUNTIF(G23:AK23,"=en") -> 0 | AO23: =COUNTIF(G23:AK23,"=H") -> 0 | AP23: =COUNTIF(G23:AK23,"=S") -> 0 | AQ23: =AL23+AM23+(AN23*2) -> 0
A24: 20 | B24: =IFERROR(INDEX(تنظیمات!$B$5:$J$32,MATCH('برنامه فروردین'!F24,تنظیمات!$C$5:$C$32,0),9),"") | C24: =IFERROR(INDEX(تنظیمات!$B$5:$J$32,MATCH('برنامه فروردین'!F24,تنظیمات!$C$5:$C$32,0),4),"") | D24: =IFERROR(INDEX(تنظیمات!$B$5:$J$32,MATCH('برنامه فروردین'!F24,تنظیمات!$C$5:$C$32,0),5),"") | E24: =IFERROR(INDEX(تنظیمات!$B$5:$J$32,MATCH('برنامه فروردین'!F24,تنظیمات!$C$5:$C$32,0),6),"") | F24: =IFERROR(INDEX(دیتا!$J$2:$K$26,MATCH('برنامه فروردین'!A24,دیتا!$J$2:$J$26,0),2),"") | AL24: =COUNTIF(G24:AK24,"=M")+COUNTIF(G24:AK24,"=ME")+COUNTIF(G24:AK24,"=MN") -> 0 | AM24: =COUNTIF(G24:AK24,"=E")+COUNTIF(G24:AK24,"=ME")+COUNTIF(G24:AK24,"=en") -> 0 | AN24: =COUNTIF(G24:AK24,"=N")+COUNTIF(G24:AK24,"=MN")+COUNTIF(G24:AK24,"=en") -> 0 | AO24: =COUNTIF(G24:AK24,"=H") -> 0 | AP24: =COUNTIF(G24:AK24,"=S") -> 0 | AQ24: =AL24+AM24+(AN24*2) -> 0
A25: 21 | B25: =IFERROR(INDEX(تنظیمات!$B$5:$J$32,MATCH('برنامه فروردین'!F25,تنظیمات!$C$5:$C$32,0),9),"") | C25: =IFERROR(INDEX(تنظیمات!$B$5:$J$32,MATCH('برنامه فروردین'!F25,تنظیمات!$C$5:$C$32,0),4),"") | D25: =IFERROR(INDEX(تنظیمات!$B$5:$J$32,MATCH('برنامه فروردین'!F25,تنظیمات!$C$5:$C$32,0),5),"") | E25: =IFERROR(INDEX(تنظیمات!$B$5:$J$32,MATCH('برنامه فروردین'!F25,تنظیمات!$C$5:$C$32,0),6),"") | F25: =IFERROR(INDEX(دیتا!$J$2:$K$26,MATCH('برنامه فروردین'!A25,دیتا!$J$2:$J$26,0),2),"") | AL25: =COUNTIF(G25:AK25,"=M")+COUNTIF(G25:AK25,"=ME")+COUNTIF(G25:AK25,"=MN") -> 0 | AM25: =COUNTIF(G25:AK25,"=E")+COUNTIF(G25:AK25,"=ME")+COUNTIF(G25:AK25,"=en") -> 0 | AN25: =COUNTIF(G25:AK25,"=N")+COUNTIF(G25:AK25,"=MN")+COUNTIF(G25:AK25,"=en") -> 0 | AO25: =COUNTIF(G25:AK25,"=H") -> 0 | AP25: =COUNTIF(G25:AK25,"=S") -> 0 | AQ25: =AL25+AM25+(AN25*2) -> 0
A26: 22 | B26: =IFERROR(INDEX(تنظیمات!$B$5:$J$32,MATCH('برنامه فروردین'!F26,تنظیمات!$C$5:$C$32,0),9),"") | C26: =IFERROR(INDEX(تنظیمات!$B$5:$J$32,MATCH('برنامه فروردین'!F26,تنظیمات!$C$5:$C$32,0),4),"") | D26: =IFERROR(INDEX(تنظیمات!$B$5:$J$32,MATCH('برنامه فروردین'!F26,تنظیمات!$C$5:$C$32,0),5),"") | E26: =IFERROR(INDEX(تنظیمات!$B$5:$J$32,MATCH('برنامه فروردین'!F26,تنظیمات!$C$5:$C$32,0),6),"") | F26: =IFERROR(INDEX(دیتا!$J$2:$K$26,MATCH('برنامه فروردین'!A26,دیتا!$J$2:$J$26,0),2),"") | AL26: =COUNTIF(G26:AK26,"=M")+COUNTIF(G26:AK26,"=ME")+COUNTIF(G26:AK26,"=MN") -> 0 | AM26: =COUNTIF(G26:AK26,"=E")+COUNTIF(G26:AK26,"=ME")+COUNTIF(G26:AK26,"=en") -> 0 | AN26: =COUNTIF(G26:AK26,"=N")+COUNTIF(G26:AK26,"=MN")+COUNTIF(G26:AK26,"=en") -> 0 | AO26: =COUNTIF(G26:AK26,"=H") -> 0 | AP26: =COUNTIF(G26:AK26,"=S") -> 0 | AQ26: =AL26+AM26+(AN26*2) -> 0
... A29: 25 | B29: =IFERROR(INDEX(تنظیمات!$B$5:$J$32,MATCH('برنامه فروردین'!F29,تنظیمات!$C$5:$C$32,0),9),"") | C29: =IFERROR(INDEX(تنظیمات!$B$5:$J$32,MATCH('برنامه فروردین'!F29,تنظیمات!$C$5:$C$32,0),4),"") | D29: =IFERROR(INDEX(تنظیمات!$B$5:$J$32,MATCH('برنامه فروردین'!F29,تنظیمات!$C$5:$C$32,0),5),"") | E29: =IFERROR(INDEX(تنظیمات!$B$5:$J$32,MATCH('برنامه فروردین'!F29,تنظیمات!$C$5:$C$32,0),6),"") | F29: =IFERROR(INDEX(دیتا!$J$2:$K$26,MATCH('برنامه فروردین'!A29,دیتا!$J$2:$J$26,0),2),"") | AL29: =COUNTIF(G29:AK29,"=M")+COUNTIF(G29:AK29,"=ME")+COUNTIF(G29:AK29,"=MN") -> 0 | AM29: =COUNTIF(G29:AK29,"=E")+COUNTIF(G29:AK29,"=ME")+COUNTIF(G29:AK29,"=en") -> 0 | AN29: =COUNTIF(G29:AK29,"=N")+COUNTIF(G29:AK29,"=MN")+COUNTIF(G29:AK29,"=en") -> 0 | AO29: =COUNTIF(G29:AK29,"=H") -> 0 | AP29: =COUNTIF(G29:AK29,"=S") -> 0 | AQ29: =AL29+AM29+(AN29*2) -> 0
A30: تعداد مجاز پرسنل در هر شیفت | C30: M | E30: 2 | F30: M تعداد پرسنل | G30: =COUNTIF(G5:G29,"=M")+COUNTIF(G5:G29,"=ME")+COUNTIF(G5:G29,"=MN") -> 1 | H30: =COUNTIF(H5:H29,"=M")+COUNTIF(H5:H29,"=ME")+COUNTIF(H5:H29,"=MN") -> 1 | I30: =COUNTIF(I5:I29,"=M")+COUNTIF(I5:I29,"=ME")+COUNTIF(I5:I29,"=MN") -> 1 | J30: =COUNTIF(J5:J29,"=M")+COUNTIF(J5:J29,"=ME")+COUNTIF(J5:J29,"=MN") -> 1 | K30: =COUNTIF(K5:K29,"=M")+COUNTIF(K5:K29,"=ME")+COUNTIF(K5:K29,"=MN") -> 1 | L30: =COUNTIF(L5:L29,"=M")+COUNTIF(L5:L29,"=ME")+COUNTIF(L5:L29,"=MN") -> 1 | M30: =COUNTIF(M5:M29,"=M")+COUNTIF(M5:M29,"=ME")+COUNTIF(M5:M29,"=MN") -> 1 | N30: =COUNTIF(N5:N29,"=M")+COUNTIF(N5:N29,"=ME")+COUNTIF(N5:N29,"=MN") -> 0 | ... AK30: =COUNTIF(AK5:AK29,"=M")+COUNTIF(AK5:AK29,"=ME")+COUNTIF(AK5:AK29,"=MN") -> 0 | AL30: جام می و خون دل هر یک به کسی دادند در دایره تقدیر اوضاع چنین باشد...
C32: E | E32: 2 | F32: E تعداد پرسنل | G32: =COUNTIF(G5:G29,"=E")+COUNTIF(G5:G29,"=ME")+COUNTIF(G5:G29,"=en") -> 1 | H32: =COUNTIF(H5:H29,"=E")+COUNTIF(H5:H29,"=ME")+COUNTIF(H5:H29,"=en") -> 1 | I32: =COUNTIF(I5:I29,"=E")+COUNTIF(I5:I29,"=ME")+COUNTIF(I5:I29,"=en") -> 1 | J32: =COUNTIF(J5:J29,"=E")+COUNTIF(J5:J29,"=ME")+COUNTIF(J5:J29,"=en") -> 1 | K32: =COUNTIF(K5:K29,"=E")+COUNTIF(K5:K29,"=ME")+COUNTIF(K5:K29,"=en") -> 1 | L32: =COUNTIF(L5:L29,"=E")+COUNTIF(L5:L29,"=ME")+COUNTIF(L5:L29,"=en") -> 2 | M32: =COUNTIF(M5:M29,"=E")+COUNTIF(M5:M29,"=ME")+COUNTIF(M5:M29,"=en") -> 1 | N32: =COUNTIF(N5:N29,"=E")+COUNTIF(N5:N29,"=ME")+COUNTIF(N5:N29,"=en") -> 2 | ... AK32: =COUNTIF(AK5:AK29,"=E")+COUNTIF(AK5:AK29,"=ME")+COUNTIF(AK5:AK29,"=en") -> 0
C34: N | E34: 2 | F34: N تعداد پرسنل | G34: =COUNTIF(G5:G29,"=N")+COUNTIF(G5:G29,"=MN")+COUNTIF(G5:G29,"=en") -> 1 | H34: =COUNTIF(H5:H29,"=N")+COUNTIF(H5:H29,"=MN")+COUNTIF(H5:H29,"=en") -> 1 | I34: =COUNTIF(I5:I29,"=N")+COUNTIF(I5:I29,"=MN")+COUNTIF(I5:I29,"=en") -> 1 | J34: =COUNTIF(J5:J29,"=N")+COUNTIF(J5:J29,"=MN")+COUNTIF(J5:J29,"=en") -> 1 | K34: =COUNTIF(K5:K29,"=N")+COUNTIF(K5:K29,"=MN")+COUNTIF(K5:K29,"=en") -> 1 | L34: =COUNTIF(L5:L29,"=N")+COUNTIF(L5:L29,"=MN")+COUNTIF(L5:L29,"=en") -> 1 | M34: =COUNTIF(M5:M29,"=N")+COUNTIF(M5:M29,"=MN")+COUNTIF(M5:M29,"=en") -> 1 | N34: =COUNTIF(N5:N29,"=N")+COUNTIF(N5:N29,"=MN")+COUNTIF(N5:N29,"=en") -> 2 | ... AK34: =COUNTIF(AK5:AK29,"=N")+COUNTIF(AK5:AK29,"=MN")+COUNTIF(AK5:AK29,"=en") -> 0
C36: پزشک مسئول بخش: | AA36: ریاست بیمارستان:
C37: =تنظیمات!O19 -> 0 | AA37: =تنظیمات!O15 -> 0

Sheet برنامه شیفت
L3: دانشگاه علوم پزشکی خراسان شمالی
I5: =تنظیمات!F2 -> مرکز آموزشی پژوهشی درمانی بیمارستان بنت الهدی
D7: بخش | G7: اورژانس | V7: ='برنامه فروردین'!S1&" ماه "&'برنامه فروردین'!V1 -> فروردین ماه 1403
C9: ایام هفته | E9: تاریخ | F9: صبح | N9: عصر | V9: شب
F10: پزشک شیفت | N10: پزشک شیفت | V10: پزشک شیفت
C11: ='برنامه فروردین'!G2 -> چهار شنبه | E11: 1 | F11: {=_xlfn.TEXTJOIN(" , ",TRUE,(IF('برنامه فروردین'!$G$5:$G$29=دیتا!$F$3,'برنامه فروردین'!$F$5:$F$29,""))&(IF('برنامه فروردین'!$G$5:$G$29=دیتا!$F$7,'برنامه فروردین'!$F$5:$F$29,""))&(IF('برنامه فروردین'!$G$5:$G$29=دیتا!$F$6,'برنامه فروردین'!$F$5:$F$29,"")))} | N11: {=_xlfn.TEXTJOIN(" , ",TRUE,(IF('برنامه فروردین'!$G$5:$G$29=دیتا!$F$4,'برنامه فروردین'!$F$5:$F$29,""))&(IF('برنامه فروردین'!$G$5:$G$29=دیتا!$F$6,'برنامه فروردین'!$F$5:$F$29,""))&(IF('برنامه فروردین'!$G$5:$G$29=دیتا!$F$8,'برنامه فروردین'!$F$5:$F$29,"")))} | V11: {=_xlfn.TEXTJOIN(" , ",TRUE,(IF('برنامه فروردین'!$G$5:$G$29=دیتا!$F$5,'برنامه فروردین'!$F$5:$F$29,""))&(IF('برنامه فروردین'!$G$5:$G$29=دیتا!$F$7,'برنامه فروردین'!$F$5:$F$29,""))&(IF('برنامه فروردین'!$G$5:$G$29=دیتا!$F$8,'برنامه فروردین'!$F$5:$F$29,"")))} -> دکتر علی
C12: =IF(C11="شنبه","یکشنبه",IF(C11="یکشنبه","دوشنبه",IF(C11="دوشنبه","سه شنبه",IF(C11="سه شنبه","چهار شنبه",IF(C11="چهار شنبه","پنج شنبه",IF(C11="پنج شنبه","جمعه",IF(C11="جمعه","شنبه"))))))) -> پنج شنبه | E12: 2 | F12: {=_xlfn.TEXTJOIN(" , ",TRUE,(IF('برنامه فروردین'!$H$5:$H$29=دیتا!$F$3,'برنامه فروردین'!$F$5:$F$29,""))&(IF('برنامه فروردین'!$H$5:$H$29=دیتا!$F$7,'برنامه فروردین'!$F$5:$F$29,""))&(IF('برنامه فروردین'!$H$5:$H$29=دیتا!$F$6,'برنامه فروردین'!$F$5:$F$29,"")))} | N12: {=_xlfn.TEXTJOIN(" , ",TRUE,(IF('برنامه فروردین'!$H$5:$H$29=دیتا!$F$4,'برنامه فروردین'!$F$5:$F$29,""))&(IF('برنامه فروردین'!$H$5:$H$29=دیتا!$F$6,'برنامه فروردین'!$F$5:$F$29,""))&(IF('برنامه فروردین'!$H$5:$H$29=دیتا!$F$8,'برنامه فروردین'!$F$5:$F$29,"")))} -> دکتر محسن | V12: {=_xlfn.TEXTJOIN(" , ",TRUE,(IF('برنامه فروردین'!$H$5:$H$29=دیتا!$F$5,'برنامه فروردین'!$F$5:$F$29,""))&(IF('برنامه فروردین'!$H$5:$H$29=دیتا!$F$7,'برنامه فروردین'!$F$5:$F$29,""))&(IF('برنامه فروردین'!$H$5:$H$29=دیتا!$F$8,'برنامه فروردین'!$F$5:$F$29,"")))} -> دکتر خالد
C13: =IF(C12="شنبه","یکشنبه",IF(C12="یکشنبه","دوشنبه",IF(C12="دوشنبه","سه شنبه",IF(C12="سه شنبه","چهار شنبه",IF(C12="چهار شنبه","پنج شنبه",IF(C12="پنج شنبه","جمعه",IF(C12="جمعه","شنبه"))))))) -> جمعه | E13: 3 | F13: {=_xlfn.TEXTJOIN(" , ",TRUE,(IF('برنامه فروردین'!$I$5:$I$29=دیتا!$F$3,'برنامه فروردین'!$F$5:$F$29,""))&(IF('برنامه فروردین'!$I$5:$I$29=دیتا!$F$7,'برنامه فروردین'!$F$5:$F$29,""))&(IF('برنامه فروردین'!$I$5:$I$29=دیتا!$F$6,'برنامه فروردین'!$F$5:$F$29,"")))} -> دکتر محسن | N13: {=_xlfn.TEXTJOIN(" , ",TRUE,(IF('برنامه فروردین'!$I$5:$I$29=دیتا!$F$4,'برنامه فروردین'!$F$5:$F$29,""))&(IF('برنامه فروردین'!$I$5:$I$29=دیتا!$F$6,'برنامه فروردین'!$F$5:$F$29,"")&(IF('برنامه فروردین'!$I$5:$I$29=دیتا!$F$8,'برنامه فروردین'!$F$5:$F$29,""))))} -> دکتر علی | V13: {=_xlfn.TEXTJOIN(" , ",TRUE,(IF('برنامه فروردین'!$I$5:$I$29=دیتا!$F$5,'برنامه فروردین'!$F$5:$F$29,""))&(IF('برنامه فروردین'!$I$5:$I$29=دیتا!$F$7,'برنامه فروردین'!$F$5:$F$29,""))&(IF('برنامه فروردین'!$I$5:$I$29=دیتا!$F$8,'برنامه فروردین'!$F$5:$F$29,"")))} -> دکتر صبا
C14: =IF(C13="شنبه","یکشنبه",IF(C13="یکشنبه","دوشنبه",IF(C13="دوشنبه","سه شنبه",IF(C13="سه شنبه","چهار شنبه",IF(C13="چهار شنبه","پنج شنبه",IF(C13="پنج شنبه","جمعه",IF(C13="جمعه","شنبه"))))))) -> شنبه | E14: 4 | F14: {=_xlfn.TEXTJOIN(" , ",TRUE,(IF('برنامه فروردین'!$J$5:$J$29=دیتا!$F$3,'برنامه فروردین'!$F$5:$F$29,""))&(IF('برنامه فروردین'!$J$5:$J$29=دیتا!$F$7,'برنامه فروردین'!$F$5:$F$29,""))&(IF('برنامه فروردین'!$J$5:$J$29=دیتا!$F$6,'برنامه فروردین'!$F$5:$F$29,"")))} -> دکتر خالد | N14: {=_xlfn.TEXTJOIN(" , ",TRUE,(IF('برنامه فروردین'!$J$5:$J$29=دیتا!$F$4,'برنامه فروردین'!$F$5:$F$29,""))&(IF('برنامه فروردین'!$J$5:$J$29=دیتا!$F$6,'برنامه فروردین'!$F$5:$F$29,""))&(IF('برنامه فروردین'!$J$5:$J$29=دیتا!$F$8,'برنامه فروردین'!$F$5:$F$29,"")))} | V14: {=_xlfn.TEXTJOIN(" , ",TRUE,(IF('برنامه فروردین'!$J$5:$J$29=دیتا!$F$5,'برنامه فروردین'!$F$5:$F$29,""))&(IF('برنامه فروردین'!$J$5:$J$29=دیتا!$F$7,'برنامه فروردین'!$F$5:$F$29,""))&(IF('برنامه فروردین'!$J$5:$J$29=دیتا!$F$8,'برنامه فروردین'!$F$5:$F$29,"")))} -> دکتر علی
C15: =IF(C14="شنبه","یکشنبه",IF(C14="یکشنبه","دوشنبه",IF(C14="دوشنبه","سه شنبه",IF(C14="سه شنبه","چهار شنبه",IF(C14="چهار شنبه","پنج شنبه",IF(C14="پنج شنبه","جمعه",IF(C14="جمعه","شنبه"))))))) -> یکشنبه | E15: 5 | F15: {=_xlfn.TEXTJOIN(" , ",TRUE,(IF('برنامه فروردین'!$K$5:$K$29=دیتا!$F$3,'برنامه فروردین'!$F$5:$F$29,""))&(IF('برنامه فروردین'!$K$5:$K$29=دیتا!$F$7,'برنامه فروردین'!$F$5:$F$29,""))&(IF('برنامه فروردین'!$K$5:$K$29=دیتا!$F$6,'برنامه فروردین'!$F$5:$F$29,"")))} -> دکتر خالد | N15: {=_xlfn.TEXTJOIN(" , ",TRUE,(IF('برنامه فروردین'!$K$5:$K$29=دیتا!$F$4,'برنامه فروردین'!$F$5:$F$29,""))&(IF('برنامه فروردین'!$K$5:$K$29=دیتا!$F$6,'برنامه فروردین'!$F$5:$F$29,""))&(IF('برنامه فروردین'!$K$5:$K$29=دیتا!$F$8,'برنامه فروردین'!$F$5:$F$29,"")))} -> دکتر صبا | V15: {=_xlfn.TEXTJOIN(" , ",TRUE,(IF('برنامه فروردین'!$K$5:$K$29=دیتا!$F$5,'برنامه فروردین'!$F$5:$F$29,""))&(IF('برنامه فروردین'!$K$5:$K$29=دیتا!$F$7,'برنامه فروردین'!$F$5:$F$29,""))&(IF('برنامه فروردین'!$K$5:$K$29=دیتا!$F$8,'برنامه فروردین'!$F$5:$F$29,"")))} -> دکتر محسن
C16: =IF(C15="شنبه","یکشنبه",IF(C15="یکشنبه","دوشنبه",IF(C15="دوشنبه","سه شنبه",IF(C15="سه شنبه","چهار شنبه",IF(C15="چهار شنبه","پنج شنبه",IF(C15="پنج شنبه","جمعه",IF(C15="جمعه","شنبه"))))))) -> دوشنبه | E16: 6 | F16: {=_xlfn.TEXTJOIN(" , ",TRUE,(IF('برنامه فروردین'!$L$5:$L$29=دیتا!$F$3,'برنامه فروردین'!$F$5:$F$29,""))&(IF('برنامه فروردین'!$L$5:$L$29=دیتا!$F$7,'برنامه فروردین'!$F$5:$F$29,""))&(IF('برنامه فروردین'!$L$5:$L$29=دیتا!$F$6,'برنامه فروردین'!$F$5:$F$29,"")))} | N16: {=_xlfn.TEXTJOIN(" , ",TRUE,(IF('برنامه فروردین'!$L$5:$L$29=دیتا!$F$4,'برنامه فروردین'!$F$5:$F$29,""))&(IF('برنامه فروردین'!$L$5:$L$29=دیتا!$F$6,'برنامه فروردین'!$F$5:$F$29,""))&(IF('برنامه فروردین'!$L$5:$L$29=دیتا!$F$8,'برنامه فروردین'!$F$5:$F$29,"")))} -> دکتر علی | V16: {=_xlfn.TEXTJOIN(" , ",TRUE,(IF('برنامه فروردین'!$L$5:$L$29=دیتا!$F$5,'برنامه فروردین'!$F$5:$F$29,""))&(IF('برنامه فروردین'!$L$5:$L$29=دیتا!$F$7,'برنامه فروردین'!$F$5:$F$29,""))&(IF('برنامه فروردین'!$L$5:$L$29=دیتا!$F$8,'برنامه فروردین'!$F$5:$F$29,"")))} -> دکتر صبا
C17: =IF(C16="شنبه","یکشنبه",IF(C16="یکشنبه","دوشنبه",IF(C16="دوشنبه","سه شنبه",IF(C16="سه شنبه","چهار شنبه",IF(C16="چهار شنبه","پنج شنبه",IF(C16="پنج شنبه","جمعه",IF(C16="جمعه","شنبه"))))))) -> سه شنبه | E17: 7 | F17: {=_xlfn.TEXTJOIN(" , ",TRUE,(IF('برنامه فروردین'!$M$5:$M$29=دیتا!$F$3,'برنامه فروردین'!$F$5:$F$29,""))&(IF('برنامه فروردین'!$M$5:$M$29=دیتا!$F$7,'برنامه فروردین'!$F$5:$F$29,""))&(IF('برنامه فروردین'!$M$5:$M$29=دیتا!$F$6,'برنامه فروردین'!$F$5:$F$29,"")))} -> دکتر خالد | N17: {=_xlfn.TEXTJOIN(" , ",TRUE,(IF('برنامه فروردین'!$M$5:$M$29=دیتا!$F$4,'برنامه فروردین'!$F$5:$F$29,""))&(IF('برنامه فروردین'!$M$5:$M$29=دیتا!$F$6,'برنامه فروردین'!$F$5:$F$29,""))&(IF('برنامه فروردین'!$M$5:$M$29=دیتا!$F$8,'برنامه فروردین'!$F$5:$F$29,"")))} | V17: {=_xlfn.TEXTJOIN(" , ",TRUE,(IF('برنامه فروردین'!$M$5:$M$29=دیتا!$F$5,'برنامه فروردین'!$F$5:$F$29,""))&(IF('برنامه فروردین'!$M$5:$M$29=دیتا!$F$7,'برنامه فروردین'!$F$5:$F$29,""))&(IF('برنامه فروردین'!$M$5:$M$29=دیتا!$F$8,'برنامه فروردین'!$F$5:$F$29,"")))} -> دکتر محسن
C18: =IF(C17="شنبه","یکشنبه",IF(C17="یکشنبه","دوشنبه",IF(C17="دوشنبه","سه شنبه",IF(C17="سه شنبه","چهار شنبه",IF(C17="چهار شنبه","پنج شنبه",IF(C17="پنج شنبه","جمعه",IF(C17="جمعه","شنبه"))))))) -> چهار شنبه | E18: 8 | F18: {=_xlfn.TEXTJOIN(" , ",TRUE,(IF('برنامه فروردین'!$N$5:$N$29=دیتا!$F$3,'برنامه فروردین'!$F$5:$F$29,""))&(IF('برنامه فروردین'!$N$5:$N$29=دیتا!$F$7,'برنامه فروردین'!$F$5:$F$29,""))&(IF('برنامه فروردین'!$N$5:$N$29=دیتا!$F$6,'برنامه فروردین'!$F$5:$F$29,"")))} | N18: {=_xlfn.TEXTJOIN(" , ",TRUE,(IF('برنامه فروردین'!$N$5:$N$29=دیتا!$F$4,'برنامه فروردین'!$F$5:$F$29,""))&(IF('برنامه فروردین'!$N$5:$N$29=دیتا!$F$6,'برنامه فروردین'!$F$5:$F$29,"")&(IF('برنامه فروردین'!$N$5:$N$29=دیتا!$F$8,'برنامه فروردین'!$F$5:$F$29,""))))} -> دکتر خالد | V18: {=_xlfn.TEXTJOIN(" , ",TRUE,(IF('برنامه فروردین'!$N$5:$N$29=دیتا!$F$5,'برنامه فروردین'!$F$5:$F$29,""))&(IF('برنامه فروردین'!$N$5:$N$29=دیتا!$F$7,'برنامه فروردین'!$F$5:$F$29,""))&(IF('برنامه فروردین'!$N$5:$N$29=دیتا!$F$8,'برنامه فروردین'!$F$5:$F$29,"")))} -> دکتر علی , دکتر خالد
C19: =IF(C18="شنبه","یکشنبه",IF(C18="یکشنبه","دوشنبه",IF(C18="دوشنبه","سه شنبه",IF(C18="سه شنبه","چهار شنبه",IF(C18="چهار شنبه","پنج شنبه",IF(C18="پنج شنبه","جمعه",IF(C18="جمعه","شنبه"))))))) -> پنج شنبه | E19: 9 | F19: {=_xlfn.TEXTJOIN(" , ",TRUE,(IF('برنامه فروردین'!$O$5:$O$29=دیتا!$F$3,'برنامه فروردین'!$F$5:$F$29,""))&(IF('برنامه فروردین'!$O$5:$O$29=دیتا!$F$7,'برنامه فروردین'!$F$5:$F$29,""))&(IF('برنامه فروردین'!$O$5:$O$29=دیتا!$F$6,'برنامه فروردین'!$F$5:$F$29,"")))} -> دکتر محسن | N19: {=_xlfn.TEXTJOIN(" , ",TRUE,(IF('برنامه فروردین'!$O$5:$O$29=دیتا!$F$4,'برنامه فروردین'!$F$5:$F$29,""))&(IF('برنامه فروردین'!$O$5:$O$29=دیتا!$F$6,'برنامه فروردین'!$F$5:$F$29,""))&(IF('برنامه فروردین'!$O$5:$O$29=دیتا!$F$8,'برنامه فروردین'!$F$5:$F$29,"")))} | V19: {=_xlfn.TEXTJOIN(" , ",TRUE,(IF('برنامه فروردین'!$O$5:$O$29=دیتا!$F$5,'برنامه فروردین'!$F$5:$F$29,""))&(IF('برنامه فروردین'!$O$5:$O$29=دیتا!$F$7,'برنامه فروردین'!$F$5:$F$29,""))&(IF('برنامه فروردین'!$O$5:$O$29=دیتا!$F$8,'برنامه فروردین'!$F$5:$F$29,"")))} -> دکتر خالد
C20: =IF(C19="شنبه","یکشنبه",IF(C19="یکشنبه","دوشنبه",IF(C19="دوشنبه","سه شنبه",IF(C19="سه شنبه","چهار شنبه",IF(C19="چهار شنبه","پنج شنبه",IF(C19="پنج شنبه","جمعه",IF(C19="جمعه","شنبه"))))))) -> جمعه | E20: 10 | F20: {=_xlfn.TEXTJOIN(" , ",TRUE,(IF('برنامه فروردین'!$P$5:$P$29=دیتا!$F$3,'برنامه فروردین'!$F$5:$F$29,""))&(IF('برنامه فروردین'!$P$5:$P$29=دیتا!$F$7,'برنامه فروردین'!$F$5:$F$29,""))&(IF('برنامه فروردین'!$P$5:$P$29=دیتا!$F$6,'برنامه فروردین'!$F$5:$F$29,"")))} | N20: {=_xlfn.TEXTJOIN(" , ",TRUE,(IF('برنامه فروردین'!$P$5:$P$29=دیتا!$F$4,'برنامه فروردین'!$F$5:$F$29,""))&(IF('برنامه فروردین'!$P$5:$P$29=دیتا!$F$6,'برنامه فروردین'!$F$5:$F$29,"")&(IF('برنامه فروردین'!$P$5:$P$29=دیتا!$F$8,'برنامه فروردین'!$F$5:$F$29,""))))} -> دکتر علی | V20: {=_xlfn.TEXTJOIN(" , ",TRUE,(IF('برنامه فروردین'!$P$5:$P$29=دیتا!$F$5,'برنامه فروردین'!$F$5:$F$29,""))&(IF('برنامه فروردین'!$P$5:$P$29=دیتا!$F$7,'برنامه فروردین'!$F$5:$F$29,""))&(IF('برنامه فروردین'!$P$5:$P$29=دیتا!$F$8,'برنامه فروردین'!$F$5:$F$29,"")))} -> دکتر محسن
C21: =IF(C20="شنبه","یکشنبه",IF(C20="یکشنبه","دوشنبه",IF(C20="دوشنبه","سه شنبه",IF(C20="سه شنبه","چهار شنبه",IF(C20="چهار شنبه","پنج شنبه",IF(C20="پنج شنبه","جمعه",IF(C20="جمعه","شنبه"))))))) -> شنبه | E21: 11 | F21: {=_xlfn.TEXTJOIN(" , ",TRUE,(IF('برنامه فروردین'!$Q$5:$Q$29=دیتا!$F$3,'برنامه فروردین'!$F$5:$F$29,""))&(IF('برنامه فروردین'!$Q$5:$Q$29=دیتا!$F$7,'برنامه فروردین'!$F$5:$F$29,""))&(IF('برنامه فروردین'!$Q$5:$Q$29=دیتا!$F$6,'برنامه فروردین'!$F$5:$F$29,"")))} -> دکتر علی | N21: {=_xlfn.TEXTJOIN(" , ",TRUE,(IF('برنامه فروردین'!$Q$5:$Q$29=دیتا!$F$4,'برنامه فروردین'!$F$5:$F$29,""))&(IF('برنامه فروردین'!$Q$5:$Q$29=دیتا!$F$6,'برنامه فروردین'!$F$5:$F$29,""))&(IF('برنامه فروردین'!$Q$5:$Q$29=دیتا!$F$8,'برنامه فروردین'!$F$5:$F$29,"")))} | V21: {=_xlfn.TEXTJOIN(" , ",TRUE,(IF('برنامه فروردین'!$Q$5:$Q$29=دیتا!$F$5,'برنامه فروردین'!$F$5:$F$29,""))&(IF('برنامه فروردین'!$Q$5:$Q$29=دیتا!$F$7,'برنامه فروردین'!$F$5:$F$29,""))&(IF('برنامه فروردین'!$Q$5:$Q$29=دیتا!$F$8,'برنامه فروردین'!$F$5:$F$29,"")))} -> دکتر علی
C22: =IF(C21="شنبه","یکشنبه",IF(C21="یکشنبه","دوشنبه",IF(C21="دوشنبه","سه شنبه",IF(C21="سه شنبه","چهار شنبه",IF(C21="چهار شنبه","پنج شنبه",IF(C21="پنج شنبه","جمعه",IF(C21="جمعه","شنبه"))))))) -> یکشنبه | E22: 12 | F22: {=_xlfn.TEXTJOIN(" , ",TRUE,(IF('برنامه فروردین'!$R$5:$R$29=دیتا!$F$3,'برنامه فروردین'!$F$5:$F$29,""))&(IF('برنامه فروردین'!$R$5:$R$29=دیتا!$F$7,'برنامه فروردین'!$F$5:$F$29,""))&(IF('برنامه فروردین'!$R$5:$R$29=دیتا!$F$6,'برنامه فروردین'!$F$5:$F$29,"")))} | N22: {=_xlfn.TEXTJOIN(" , ",TRUE,(IF('برنامه فروردین'!$R$5:$R$29=دیتا!$F$4,'برنامه فروردین'!$F$5:$F$29,""))&(IF('برنامه فروردین'!$R$5:$R$29=دیتا!$F$6,'برنامه فروردین'!$F$5:$F$29,""))&(IF('برنامه فروردین'!$R$5:$R$29=دیتا!$F$8,'برنامه فروردین'!$F$5:$F$29,"")))} -> دکتر محسن | V22: {=_xlfn.TEXTJOIN(" , ",TRUE,(IF('برنامه فروردین'!$R$5:$R$29=دیتا!$F$5,'برنامه فروردین'!$F$5:$F$29,""))&(IF('برنامه فروردین'!$R$5:$R$29=دیتا!$F$7,'برنامه فروردین'!$F$5:$F$29,""))&(IF('برنامه فروردین'!$R$5:$R$29=دیتا!$F$8,'برنامه فروردین'!$F$5:$F$29,"")))} -> دکتر علی
C23: =IF(C22="شنبه","یکشنبه",IF(C22="یکشنبه","دوشنبه",IF(C22="دوشنبه","سه شنبه",IF(C22="سه شنبه","چهار شنبه",IF(C22="چهار شنبه","پنج شنبه",IF(C22="پنج شنبه","جمعه",IF(C22="جمعه","شنبه"))))))) -> دوشنبه | E23: 13 | F23: {=_xlfn.TEXTJOIN(" , ",TRUE,(IF('برنامه فروردین'!$S$5:$S$29=دیتا!$F$3,'برنامه فروردین'!$F$5:$F$29,""))&(IF('برنامه فروردین'!$S$5:$S$29=دیتا!$F$7,'برنامه فروردین'!$F$5:$F$29,""))&(IF('برنامه فروردین'!$S$5:$S$29=دیتا!$F$6,'برنامه فروردین'!$F$5:$F$29,"")))} -> دکتر محسن | N23: {=_xlfn.TEXTJOIN(" , ",TRUE,(IF('برنامه فروردین'!$S$5:$S$29=دیتا!$F$4,'برنامه فروردین'!$F$5:$F$29,""))&(IF('برنامه فروردین'!$S$5:$S$29=دیتا!$F$6,'برنامه فروردین'!$F$5:$F$29,""))&(IF('برنامه فروردین'!$S$5:$S$29=دیتا!$F$8,'برنامه فروردین'!$F$5:$F$29,"")))} -> دکتر علی | V23: {=_xlfn.TEXTJOIN(" , ",TRUE,(IF('برنامه فروردین'!$S$5:$S$29=دیتا!$F$5,'برنامه فروردین'!$F$5:$F$29,""))&(IF('برنامه فروردین'!$S$5:$S$29=دیتا!$F$7,'برنامه فروردین'!$F$5:$F$29,""))&(IF('برنامه فروردین'!$S$5:$S$29=دیتا!$F$8,'برنامه فروردین'!$F$5:$F$29,"")))} -> دکتر صبا
C24: =IF(C23="شنبه","یکشنبه",IF(C23="یکشنبه","دوشنبه",IF(C23="دوشنبه","سه شنبه",IF(C23="سه شنبه","چهار شنبه",IF(C23="چهار شنبه","پنج شنبه",IF(C23="پنج شنبه","جمعه",IF(C23="جمعه","شنبه"))))))) -> سه شنبه | E24: 14 | F24: {=_xlfn.TEXTJOIN(" , ",TRUE,(IF('برنامه فروردین'!$T$5:$T$29=دیتا!$F$3,'برنامه فروردین'!$F$5:$F$29,""))&(IF('برنامه فروردین'!$T$5:$T$29=دیتا!$F$7,'برنامه فروردین'!$F$5:$F$29,""))&(IF('برنامه فروردین'!$T$5:$T$29=دیتا!$F$6,'برنامه فروردین'!$F$5:$F$29,"")))} -> دکتر علی | N24: {=_xlfn.TEXTJOIN(" , ",TRUE,(IF('برنامه فروردین'!$T$5:$T$29=دیتا!$F$4,'برنامه فروردین'!$F$5:$F$29,""))&(IF('برنامه فروردین'!$T$5:$T$29=دیتا!$F$6,'برنامه فروردین'!$F$5:$F$29,""))&(IF('برنامه فروردین'!$T$5:$T$29=دیتا!$F$8,'برنامه فروردین'!$F$5:$F$29,"")))} | V24: {=_xlfn.TEXTJOIN(" , ",TRUE,(IF('برنامه فروردین'!$T$5:$T$29=دیتا!$F$5,'برنامه فروردین'!$F$5:$F$29,""))&(IF('برنامه فروردین'!$T$5:$T$29=دیتا!$F$7,'برنامه فروردین'!$F$5:$F$29,""))&(IF('برنامه فروردین'!$T$5:$T$29=دیتا!$F$8,'برنامه فروردین'!$F$5:$F$29,"")))} -> دکتر خالد
C25: =IF(C24="شنبه","یکشنبه",IF(C24="یکشنبه","دوشنبه",IF(C24="دوشنبه","سه شنبه",IF(C24="سه شنبه","چهار شنبه",IF(C24="چهار شنبه","پنج شنبه",IF(C24="پنج شنبه","جمعه",IF(C24="جمعه","شنبه"))))))) -> چهار شنبه | E25: 15 | F25: {=_xlfn.TEXTJOIN(" , ",TRUE,(IF('برنامه فروردین'!$U$5:$U$29=دیتا!$F$3,'برنامه فروردین'!$F$5:$F$29,""))&(IF('برنامه فروردین'!$U$5:$U$29=دیتا!$F$7,'برنامه فروردین'!$F$5:$F$29,""))&(IF('برنامه فروردین'!$U$5:$U$29=دیتا!$F$6,'برنامه فروردین'!$F$5:$F$29,"")))} -> دکتر صبا | N25: {=_xlfn.TEXTJOIN(" , ",TRUE,(IF('برنامه فروردین'!$U$5:$U$29=دیتا!$F$4,'برنامه فروردین'!$F$5:$F$29,""))&(IF('برنامه فروردین'!$U$5:$U$29=دیتا!$F$6,'برنامه فروردین'!$F$5:$F$29,"")&(IF('برنامه فروردین'!$U$5:$U$29=دیتا!$F$8,'برنامه فروردین'!$F$5:$F$29,""))))} | V25: {=_xlfn.TEXTJOIN(" , ",TRUE,(IF('برنامه فروردین'!$U$5:$U$29=دیتا!$F$5,'برنامه فروردین'!$F$5:$F$29,""))&(IF('برنامه فروردین'!$U$5:$U$29=دیتا!$F$7,'برنامه فروردین'!$F$5:$F$29,""))&(IF('برنامه فروردین'!$U$5:$U$29=دیتا!$F$8,'برنامه فروردین'!$F$5:$F$29,"")))} -> دکتر خالد
C26: =IF(C25="شنبه","یکشنبه",IF(C25="یکشنبه","دوشنبه",IF(C25="دوشنبه","سه شنبه",IF(C25="سه شنبه","چهار شنبه",IF(C25="چهار شنبه","پنج شنبه",IF(C25="پنج شنبه","جمعه",IF(C25="جمعه","شنبه"))))))) -> پنج شنبه | E26: 16 | F26: {=_xlfn.TEXTJOIN(" , ",TRUE,(IF('برنامه فروردین'!$V$5:$V$29=دیتا!$F$3,'برنامه فروردین'!$F$5:$F$29,""))&(IF('برنامه فروردین'!$V$5:$V$29=دیتا!$F$7,'برنامه فروردین'!$F$5:$F$29,""))&(IF('برنامه فروردین'!$V$5:$V$29=دیتا!$F$6,'برنامه فروردین'!$F$5:$F$29,"")))} -> دکتر علی | N26: {=_xlfn.TEXTJOIN(" , ",TRUE,(IF('برنامه فروردین'!$V$5:$V$29=دیتا!$F$4,'برنامه فروردین'!$F$5:$F$29,""))&(IF('برنامه فروردین'!$V$5:$V$29=دیتا!$F$6,'برنامه فروردین'!$F$5:$F$29,""))&(IF('برنامه فروردین'!$V$5:$V$29=دیتا!$F$8,'برنامه فروردین'!$F$5:$F$29,"")))} | V26: {=_xlfn.TEXTJOIN(" , ",TRUE,(IF('برنامه فروردین'!$V$5:$V$29=دیتا!$F$5,'برنامه فروردین'!$F$5:$F$29,""))&(IF('برنامه فروردین'!$V$5:$V$29=دیتا!$F$7,'برنامه فروردین'!$F$5:$F$29,""))&(IF('برنامه فروردین'!$V$5:$V$29=دیتا!$F$8,'برنامه فروردین'!$F$5:$F$29,"")))}
C27: =IF(C26="شنبه","یکشنبه",IF(C26="یکشنبه","دوشنبه",IF(C26="دوشنبه","سه شنبه",IF(C26="سه شنبه","چهار شنبه",IF(C26="چهار شنبه","پنج شنبه",IF(C26="پنج شنبه","جمعه",IF(C26="جمعه","شنبه"))))))) -> جمعه | E27: 17 | F27: {=_xlfn.TEXTJOIN(" , ",TRUE,(IF('برنامه فروردین'!$W$5:$W$29=دیتا!$F$3,'برنامه فروردین'!$F$5:$F$29,""))&(IF('برنامه فروردین'!$W$5:$W$29=دیتا!$F$7,'برنامه فروردین'!$F$5:$F$29,""))&(IF('برنامه فروردین'!$W$5:$W$29=دیتا!$F$6,'برنامه فروردین'!$F$5:$F$29,"")))} -> دکتر خالد | N27: {=_xlfn.TEXTJOIN(" , ",TRUE,(IF('برنامه فروردین'!$W$5:$W$29=دیتا!$F$4,'برنامه فروردین'!$F$5:$F$29,""))&(IF('برنامه فروردین'!$W$5:$W$29=دیتا!$F$6,'برنامه فروردین'!$F$5:$F$29,""))&(IF('برنامه فروردین'!$W$5:$W$29=دیتا!$F$8,'برنامه فروردین'!$F$5:$F$29,"")))} | V27: {=_xlfn.TEXTJOIN(" , ",TRUE,(IF('برنامه فروردین'!$W$5:$W$29=دیتا!$F$5,'برنامه فروردین'!$F$5:$F$29,""))&(IF('برنامه فروردین'!$W$5:$W$29=دیتا!$F$7,'برنامه فروردین'!$F$5:$F$29,""))&(IF('برنامه فروردین'!$W$5:$W$29=دیتا!$F$8,'برنامه فروردین'!$F$5:$F$29,"")))} -> دکتر علی
C28: =IF(C27="شنبه","یکشنبه",IF(C27="یکشنبه","دوشنبه",IF(C27="دوشنبه","سه شنبه",IF(C27="سه شنبه","چهار شنبه",IF(C27="چهار شنبه","پنج شنبه",IF(C27="پنج شنبه","جمعه",IF(C27="جمعه","شنبه"))))))) -> شنبه | E28: 18 | F28: {=_xlfn.TEXTJOIN(" , ",TRUE,(IF('برنامه فروردین'!$X$5:$X$29=دیتا!$F$3,'برنامه فروردین'!$F$5:$F$29,""))&(IF('برنامه فروردین'!$X$5:$X$29=دیتا!$F$7,'برنامه فروردین'!$F$5:$F$29,""))&(IF('برنامه فروردین'!$X$5:$X$29=دیتا!$F$6,'برنامه فروردین'!$F$5:$F$29,"")))} | N28: {=_xlfn.TEXTJOIN(" , ",TRUE,(IF('برنامه فروردین'!$X$5:$X$29=دیتا!$F$4,'برنامه فروردین'!$F$5:$F$29,""))&(IF('برنامه فروردین'!$X$5:$X$29=دیتا!$F$6,'برنامه فروردین'!$F$5:$F$29,""))&(IF('برنامه فروردین'!$X$5:$X$29=دیتا!$F$8,'برنامه فروردین'!$F$5:$F$29,"")))} -> دکتر علی | V28: {=_xlfn.TEXTJOIN(" , ",TRUE,(IF('برنامه فروردین'!$X$5:$X$29=دیتا!$F$5,'برنامه فروردین'!$F$5:$F$29,""))&(IF('برنامه فروردین'!$X$5:$X$29=دیتا!$F$7,'برنامه فروردین'!$F$5:$F$29,""))&(IF('برنامه فروردین'!$X$5:$X$29=دیتا!$F$8,'برنامه فروردین'!$F$5:$F$29,"")))} -> دکتر خالد
C29: =IF(C28="شنبه","یکشنبه",IF(C28="یکشنبه","دوشنبه",IF(C28="دوشنبه","سه شنبه",IF(C28="سه شنبه","چهار شنبه",IF(C28="چهار شنبه","پنج شنبه",IF(C28="پنج شنبه","جمعه",IF(C28="جمعه","شنبه"))))))) -> یکشنبه | E29: 19 | F29: {=_xlfn.TEXTJOIN(" , ",TRUE,(IF('برنامه فروردین'!$Y$5:$Y$29=دیتا!$F$3,'برنامه فروردین'!$F$5:$F$29,""))&(IF('برنامه فروردین'!$Y$5:$Y$29=دیتا!$F$7,'برنامه فروردین'!$F$5:$F$29,""))&(IF('برنامه فروردین'!$Y$5:$Y$29=دیتا!$F$6,'برنامه فروردین'!$F$5:$F$29,"")))} -> دکتر صبا | N29: {=_xlfn.TEXTJOIN(" , ",TRUE,(IF('برنامه فروردین'!$Y$5:$Y$29=دیتا!$F$4,'برنامه فروردین'!$F$5:$F$29,""))&(IF('برنامه فروردین'!$Y$5:$Y$29=دیتا!$F$6,'برنامه فروردین'!$F$5:$F$29,""))&(IF('برنامه فروردین'!$Y$5:$Y$29=دیتا!$F$8,'برنامه فروردین'!$F$5:$F$29,"")))} -> دکتر خالد | V29: {=_xlfn.TEXTJOIN(" , ",TRUE,(IF('برنامه فروردین'!$Y$5:$Y$29=دیتا!$F$5,'برنامه فروردین'!$F$5:$F$29,""))&(IF('برنامه فروردین'!$Y$5:$Y$29=دیتا!$F$7,'برنامه فروردین'!$F$5:$F$29,""))&(IF('برنامه فروردین'!$Y$5:$Y$29=دیتا!$F$8,'برنامه فروردین'!$F$5:$F$29,"")))} -> دکتر صبا
C30: =IF(C29="شنبه","یکشنبه",IF(C29="یکشنبه","دوشنبه",IF(C29="دوشنبه","سه شنبه",IF(C29="سه شنبه","چهار شنبه",IF(C29="چهار شنبه","پنج شنبه",IF(C29="پنج شنبه","جمعه",IF(C29="جمعه","شنبه"))))))) -> دوشنبه | E30: 20 | F30: {=_xlfn.TEXTJOIN(" , ",TRUE,(IF('برنامه فروردین'!$Z$5:$Z$29=دیتا!$F$3,'برنامه فروردین'!$F$5:$F$29,""))&(IF('برنامه فروردین'!$Z$5:$Z$29=دیتا!$F$7,'برنامه فروردین'!$F$5:$F$29,""))&(IF('برنامه فروردین'!$Z$5:$Z$29=دیتا!$F$6,'برنامه فروردین'!$F$5:$F$29,"")))} -> دکتر خالد | N30: {=_xlfn.TEXTJOIN(" , ",TRUE,(IF('برنامه فروردین'!$Z$5:$Z$29=دیتا!$F$4,'برنامه فروردین'!$F$5:$F$29,""))&(IF('برنامه فروردین'!$Z$5:$Z$29=دیتا!$F$6,'برنامه فروردین'!$F$5:$F$29,""))&(IF('برنامه فروردین'!$Z$5:$Z$29=دیتا!$F$8,'برنامه فروردین'!$F$5:$F$29,"")))} -> دکتر محسن | V30: {=_xlfn.TEXTJOIN(" , ",TRUE,(IF('برنامه فروردین'!$Z$5:$Z$29=دیتا!$F$5,'برنامه فروردین'!$F$5:$F$29,""))&(IF('برنامه فروردین'!$Z$5:$Z$29=دیتا!$F$7,'برنامه فروردین'!$F$5:$F$29,""))&(IF('برنامه فروردین'!$Z$5:$Z$29=دیتا!$F$8,'برنامه فروردین'!$F$5:$F$29,"")))} -> دکتر علی
C31: =IF(C30="شنبه","یکشنبه",IF(C30="یکشنبه","دوشنبه",IF(C30="دوشنبه","سه شنبه",IF(C30="سه شنبه","چهار شنبه",IF(C30="چهار شنبه","پنج شنبه",IF(C30="پنج شنبه","جمعه",IF(C30="جمعه","شنبه"))))))) -> سه شنبه | E31: 21 | F31: {=_xlfn.TEXTJOIN(" , ",TRUE,(IF('برنامه فروردین'!$AA$5:$AA$29=دیتا!$F$3,'برنامه فروردین'!$F$5:$F$29,""))&(IF('برنامه فروردین'!$AA$5:$AA$29=دیتا!$F$7,'برنامه فروردین'!$F$5:$F$29,""))&(IF('برنامه فروردین'!$AA$5:$AA$29=دیتا!$F$6,'برنامه فروردین'!$F$5:$F$29,"")))} -> دکتر خالد | N31: {=_xlfn.TEXTJOIN(" , ",TRUE,(IF('برنامه فروردین'!$AA$5:$AA$29=دیتا!$F$4,'برنامه فروردین'!$F$5:$F$29,""))&(IF('برنامه فروردین'!$AA$5:$AA$29=دیتا!$F$6,'برنامه فروردین'!$F$5:$F$29,""))&(IF('برنامه فروردین'!$AA$5:$AA$29=دیتا!$F$8,'برنامه فروردین'!$F$5:$F$29,"")))} -> دکتر علی | V31: {=_xlfn.TEXTJOIN(" , ",TRUE,(IF('برنامه فروردین'!$AA$5:$AA$29=دیتا!$F$5,'برنامه فروردین'!$F$5:$F$29,""))&(IF('برنامه فروردین'!$AA$5:$AA$29=دیتا!$F$7,'برنامه فروردین'!$F$5:$F$29,""))&(IF('برنامه فروردین'!$AA$5:$AA$29=دیتا!$F$8,'برنامه فروردین'!$F$5:$F$29,"")))} -> دکتر صبا
C32: =IF(C31="شنبه","یکشنبه",IF(C31="یکشنبه","دوشنبه",IF(C31="دوشنبه","سه شنبه",IF(C31="سه شنبه","چهار شنبه",IF(C31="چهار شنبه","پنج شنبه",IF(C31="پنج شنبه","جمعه",IF(C31="جمعه","شنبه"))))))) -> چهار شنبه | E32: 22 | F32: {=_xlfn.TEXTJOIN(" , ",TRUE,(IF('برنامه فروردین'!$AB$5:$AB$29=دیتا!$F$3,'برنامه فروردین'!$F$5:$F$29,""))&(IF('برنامه فروردین'!$AB$5:$AB$29=دیتا!$F$7,'برنامه فروردین'!$F$5:$F$29,""))&(IF('برنامه فروردین'!$AB$5:$AB$29=دیتا!$F$6,'برنامه فروردین'!$F$5:$F$29,"")))} | N32: {=_xlfn.TEXTJOIN(" , ",TRUE,(IF('برنامه فروردین'!$AB$5:$AB$29=دیتا!$F$4,'برنامه فروردین'!$F$5:$F$29,""))&(IF('برنامه فروردین'!$AB$5:$AB$29=دیتا!$F$6,'برنامه فروردین'!$F$5:$F$29,""))&(IF('برنامه فروردین'!$AB$5:$AB$29=دیتا!$F$8,'برنامه فروردین'!$F$5:$F$29,"")))} | V32: {=_xlfn.TEXTJOIN(" , ",TRUE,(IF('برنامه فروردین'!$AB$5:$AB$29=دیتا!$F$5,'برنامه فروردین'!$F$5:$F$29,""))&(IF('برنامه فروردین'!$AB$5:$AB$29=دیتا!$F$7,'برنامه فروردین'!$F$5:$F$29,""))&(IF('برنامه فروردین'!$AB$5:$AB$29=دیتا!$F$8,'برنامه فروردین'!$F$5:$F$29,"")))} -> دکتر محسن
C33: =IF(C32="شنبه","یکشنبه",IF(C32="یکشنبه","دوشنبه",IF(C32="دوشنبه","سه شنبه",IF(C32="سه شنبه","چهار شنبه",IF(C32="چهار شنبه","پنج شنبه",IF(C32="پنج شنبه","جمعه",IF(C32="جمعه","شنبه"))))))) -> پنج شنبه | E33: 23 | F33: {=_xlfn.TEXTJOIN(" , ",TRUE,(IF('برنامه فروردین'!$AC$5:$AC$29=دیتا!$F$3,'برنامه فروردین'!$F$5:$F$29,""))&(IF('برنامه فروردین'!$AC$5:$AC$29=دیتا!$F$7,'برنامه فروردین'!$F$5:$F$29,""))&(IF('برنامه فروردین'!$AC$5:$AC$29=دیتا!$F$6,'برنامه فروردین'!$F$5:$F$29,"")))} -> دکتر صبا | N33: {=_xlfn.TEXTJOIN(" , ",TRUE,(IF('برنامه فروردین'!$AC$5:$AC$29=دیتا!$F$4,'برنامه فروردین'!$F$5:$F$29,""))&(IF('برنامه فروردین'!$AC$5:$AC$29=دیتا!$F$6,'برنامه فروردین'!$F$5:$F$29,""))&(IF('برنامه فروردین'!$AC$5:$AC$29=دیتا!$F$8,'برنامه فروردین'!$F$5:$F$29,"")))} | V33: {=_xlfn.TEXTJOIN(" , ",TRUE,(IF('برنامه فروردین'!$AC$5:$AC$29=دیتا!$F$5,'برنامه فروردین'!$F$5:$F$29,""))&(IF('برنامه فروردین'!$AC$5:$AC$29=دیتا!$F$7,'برنامه فروردین'!$F$5:$F$29,""))&(IF('برنامه فروردین'!$AC$5:$AC$29=دیتا!$F$8,'برنامه فروردین'!$F$5:$F$29,"")))} -> دکتر محسن
C34: =IF(C33="شنبه","یکشنبه",IF(C33="یکشنبه","دوشنبه",IF(C33="دوشنبه","سه شنبه",IF(C33="سه شنبه","چهار شنبه",IF(C33="چهار شنبه","پنج شنبه",IF(C33="پنج شنبه","جمعه",IF(C33="جمعه","شنبه"))))))) -> جمعه | E34: 24 | F34: {=_xlfn.TEXTJOIN(" , ",TRUE,(IF('برنامه فروردین'!$AD$5:$AD$29=دیتا!$F$3,'برنامه فروردین'!$F$5:$F$29,""))&(IF('برنامه فروردین'!$AD$5:$AD$29=دیتا!$F$7,'برنامه فروردین'!$F$5:$F$29,""))&(IF('برنامه فروردین'!$AD$5:$AD$29=دیتا!$F$6,'برنامه فروردین'!$F$5:$F$29,"")))} | N34: {=_xlfn.TEXTJOIN(" , ",TRUE,(IF('برنامه فروردین'!$AD$5:$AD$29=دیتا!$F$4,'برنامه فروردین'!$F$5:$F$29,""))&(IF('برنامه فروردین'!$AD$5:$AD$29=دیتا!$F$6,'برنامه فروردین'!$F$5:$F$29,""))&(IF('برنامه فروردین'!$AD$5:$AD$29=دیتا!$F$8,'برنامه فروردین'!$F$5:$F$29,"")))} | V34: {=_xlfn.TEXTJOIN(" , ",TRUE,(IF('برنامه فروردین'!$AD$5:$AD$29=دیتا!$F$5,'برنامه فروردین'!$F$5:$F$29,""))&(IF('برنامه فروردین'!$AD$5:$AD$29=دیتا!$F$7,'برنامه فروردین'!$F$5:$F$29,""))&(IF('برنامه فروردین'!$AD$5:$AD$29=دیتا!$F$8,'برنامه فروردین'!$F$5:$F$29,"")))} -> دکتر صبا
C35: =IF(C34="شنبه","یکشنبه",IF(C34="یکشنبه","دوشنبه",IF(C34="دوشنبه","سه شنبه",IF(C34="سه شنبه","چهار شنبه",IF(C34="چهار شنبه","پنج شنبه",IF(C34="پنج شنبه","جمعه",IF(C34="جمعه","شنبه"))))))) -> شنبه | E35: 25 | F35: {=_xlfn.TEXTJOIN(" , ",TRUE,(IF('برنامه فروردین'!$AE$5:$AE$29=دیتا!$F$3,'برنامه فروردین'!$F$5:$F$29,""))&(IF('برنامه فروردین'!$AE$5:$AE$29=دیتا!$F$7,'برنامه فروردین'!$F$5:$F$29,""))&(IF('برنامه فروردین'!$AE$5:$AE$29=دیتا!$F$6,'برنامه فروردین'!$F$5:$F$29,"")))} -> دکتر محسن | N35: {=_xlfn.TEXTJOIN(" , ",TRUE,(IF('برنامه فروردین'!$AE$5:$AE$29=دیتا!$F$4,'برنامه فروردین'!$F$5:$F$29,""))&(IF('برنامه فروردین'!$AE$5:$AE$29=دیتا!$F$6,'برنامه فروردین'!$F$5:$F$29,""))&(IF('برنامه فروردین'!$AE$5:$AE$29=دیتا!$F$8,'برنامه فروردین'!$F$5:$F$29,"")))} | V35: {=_xlfn.TEXTJOIN(" , ",TRUE,(IF('برنامه فروردین'!$AE$5:$AE$29=دیتا!$F$5,'برنامه فروردین'!$F$5:$F$29,""))&(IF('برنامه فروردین'!$AE$5:$AE$29=دیتا!$F$7,'برنامه فروردین'!$F$5:$F$29,""))&(IF('برنامه فروردین'!$AE$5:$AE$29=دیتا!$F$8,'برنامه فروردین'!$F$5:$F$29,"")))} -> دکتر محسن
C36: =IF(C35="شنبه","یکشنبه",IF(C35="یکشنبه","دوشنبه",IF(C35="دوشنبه","سه شنبه",IF(C35="سه شنبه","چهار شنبه",IF(C35="چهار شنبه","پنج شنبه",IF(C35="پنج شنبه","جمعه",IF(C35="جمعه","شنبه"))))))) -> یکشنبه | E36: 26 | F36: {=_xlfn.TEXTJOIN(" , ",TRUE,(IF('برنامه فروردین'!$AF$5:$AF$29=دیتا!$F$3,'برنامه فروردین'!$F$5:$F$29,""))&(IF('برنامه فروردین'!$AF$5:$AF$29=دیتا!$F$7,'برنامه فروردین'!$F$5:$F$29,""))&(IF('برنامه فروردین'!$AF$5:$AF$29=دیتا!$F$6,'برنامه فروردین'!$F$5:$F$29,"")))} -> دکتر صبا | N36: {=_xlfn.TEXTJOIN(" , ",TRUE,(IF('برنامه فروردین'!$AF$5:$AF$29=دیتا!$F$4,'برنامه فروردین'!$F$5:$F$29,""))&(IF('برنامه فروردین'!$AF$5:$AF$29=دیتا!$F$6,'برنامه فروردین'!$F$5:$F$29,""))&(IF('برنامه فروردین'!$AF$5:$AF$29=دیتا!$F$8,'برنامه فروردین'!$F$5:$F$29,"")))} -> دکتر محسن | V36: {=_xlfn.TEXTJOIN(" , ",TRUE,(IF('برنامه فروردین'!$AF$5:$AF$29=دیتا!$F$5,'برنامه فروردین'!$F$5:$F$29,""))&(IF('برنامه فروردین'!$AF$5:$AF$29=دیتا!$F$7,'برنامه فروردین'!$F$5:$F$29,""))&(IF('برنامه فروردین'!$AF$5:$AF$29=دیتا!$F$8,'برنامه فروردین'!$F$5:$F$29,"")))} -> دکتر علی
C37: =IF(C36="شنبه","یکشنبه",IF(C36="یکشنبه","دوشنبه",IF(C36="دوشنبه","سه شنبه",IF(C36="سه شنبه","چهار شنبه",IF(C36="چهار شنبه","پنج شنبه",IF(C36="پنج شنبه","جمعه",IF(C36="جمعه","شنبه"))))))) -> دوشنبه | E37: 27 | F37: {=_xlfn.TEXTJOIN(" , ",TRUE,(IF('برنامه فروردین'!$AG$5:$AG$29=دیتا!$F$3,'برنامه فروردین'!$F$5:$F$29,""))&(IF('برنامه فروردین'!$AG$5:$AG$29=دیتا!$F$7,'برنامه فروردین'!$F$5:$F$29,""))&(IF('برنامه فروردین'!$AG$5:$AG$29=دیتا!$F$6,'برنامه فروردین'!$F$5:$F$29,"")))} | N37: {=_xlfn.TEXTJOIN(" , ",TRUE,(IF('برنامه فروردین'!$AG$5:$AG$29=دیتا!$F$4,'برنامه فروردین'!$F$5:$F$29,""))&(IF('برنامه فروردین'!$AG$5:$AG$29=دیتا!$F$6,'برنامه فروردین'!$F$5:$F$29,""))&(IF('برنامه فروردین'!$AG$5:$AG$29=دیتا!$F$8,'برنامه فروردین'!$F$5:$F$29,"")))} -> دکتر محسن | V37: {=_xlfn.TEXTJOIN(" , ",TRUE,(IF('برنامه فروردین'!$AG$5:$AG$29=دیتا!$F$5,'برنامه فروردین'!$F$5:$F$29,""))&(IF('برنامه فروردین'!$AG$5:$AG$29=دیتا!$F$7,'برنامه فروردین'!$F$5:$F$29,""))&(IF('برنامه فروردین'!$AG$5:$AG$29=دیتا!$F$8,'برنامه فروردین'!$F$5:$F$29,"")))} -> دکتر علی
C38: =IF(C37="شنبه","یکشنبه",IF(C37="یکشنبه","دوشنبه",IF(C37="دوشنبه","سه شنبه",IF(C37="سه شنبه","چهار شنبه",IF(C37="چهار شنبه","پنج شنبه",IF(C37="پنج شنبه","جمعه",IF(C37="جمعه","شنبه"))))))) -> سه شنبه | E38: 28 | F38: {=_xlfn.TEXTJOIN(" , ",TRUE,(IF('برنامه فروردین'!$AH$5:$AH$29=دیتا!$F$3,'برنامه فروردین'!$F$5:$F$29,""))&(IF('برنامه فروردین'!$AH$5:$AH$29=دیتا!$F$7,'برنامه فروردین'!$F$5:$F$29,""))&(IF('برنامه فروردین'!$AH$5:$AH$29=دیتا!$F$6,'برنامه فروردین'!$F$5:$F$29,"")))} -> دکتر خالد | N38: {=_xlfn.TEXTJOIN(" , ",TRUE,(IF('برنامه فروردین'!$AH$5:$AH$29=دیتا!$F$4,'برنامه فروردین'!$F$5:$F$29,""))&(IF('برنامه فروردین'!$AH$5:$AH$29=دیتا!$F$6,'برنامه فروردین'!$F$5:$F$29,""))&(IF('برنامه فروردین'!$AH$5:$AH$29=دیتا!$F$8,'برنامه فروردین'!$F$5:$F$29,"")))} -> دکتر محسن | V38: {=_xlfn.TEXTJOIN(" , ",TRUE,(IF('برنامه فروردین'!$AH$5:$AH$29=دیتا!$F$5,'برنامه فروردین'!$F$5:$F$29,""))&(IF('برنامه فروردین'!$AH$5:$AH$29=دیتا!$F$7,'برنامه فروردین'!$F$5:$F$29,""))&(IF('برنامه فروردین'!$AH$5:$AH$29=دیتا!$F$8,'برنامه فروردین'!$F$5:$F$29,"")))} -> دکتر صبا
C39: =IF(C38="شنبه","یکشنبه",IF(C38="یکشنبه","دوشنبه",IF(C38="دوشنبه","سه شنبه",IF(C38="سه شنبه","چهار شنبه",IF(C38="چهار شنبه","پنج شنبه",IF(C38="پنج شنبه","جمعه",IF(C38="جمعه","شنبه"))))))) -> چهار شنبه | E39: 29 | F39: {=_xlfn.TEXTJOIN(" , ",TRUE,(IF('برنامه فروردین'!$AI$5:$AI$29=دیتا!$F$3,'برنامه فروردین'!$F$5:$F$29,""))&(IF('برنامه فروردین'!$AI$5:$AI$29=دیتا!$F$7,'برنامه فروردین'!$F$5:$F$29,""))&(IF('برنامه فروردین'!$AI$5:$AI$29=دیتا!$F$6,'برنامه فروردین'!$F$5:$F$29,"")))} | N39: {=_xlfn.TEXTJOIN(" , ",TRUE,(IF('برنامه فروردین'!$AI$5:$AI$29=دیتا!$F$4,'برنامه فروردین'!$F$5:$F$29,""))&(IF('برنامه فروردین'!$AI$5:$AI$29=دیتا!$F$6,'برنامه فروردین'!$F$5:$F$29,""))&(IF('برنامه فروردین'!$AI$5:$AI$29=دیتا!$F$8,'برنامه فروردین'!$F$5:$F$29,"")))} | V39: {=_xlfn.TEXTJOIN(" , ",TRUE,(IF('برنامه فروردین'!$AI$5:$AI$29=دیتا!$F$5,'برنامه فروردین'!$F$5:$F$29,""))&(IF('برنامه فروردین'!$AI$5:$AI$29=دیتا!$F$7,'برنامه فروردین'!$F$5:$F$29,""))&(IF('برنامه فروردین'!$AI$5:$AI$29=دیتا!$F$8,'برنامه فروردین'!$F$5:$F$29,"")))} -> دکتر خالد
C40: =IF(C39="شنبه","یکشنبه",IF(C39="یکشنبه","دوشنبه",IF(C39="دوشنبه","سه شنبه",IF(C39="سه شنبه","چهار شنبه",IF(C39="چهار شنبه","پنج شنبه",IF(C39="پنج شنبه","جمعه",IF(C39="جمعه","شنبه"))))))) -> پنج شنبه | E40: 30 | F40: {=_xlfn.TEXTJOIN(" , ",TRUE,(IF('برنامه فروردین'!$AJ$5:$AJ$29=دیتا!$F$3,'برنامه فروردین'!$F$5:$F$29,""))&(IF('برنامه فروردین'!$AJ$5:$AJ$29=دیتا!$F$7,'برنامه فروردین'!$F$5:$F$29,""))&(IF('برنامه فروردین'!$AJ$5:$AJ$29=دیتا!$F$6,'برنامه فروردین'!$F$5:$F$29,"")))} | N40: {=_xlfn.TEXTJOIN(" , ",TRUE,(IF('برنامه فروردین'!$AJ$5:$AJ$29=دیتا!$F$4,'برنامه فروردین'!$F$5:$F$29,""))&(IF('برنامه فروردین'!$AJ$5:$AJ$29=دیتا!$F$6,'برنامه فروردین'!$F$5:$F$29,""))&(IF('برنامه فروردین'!$AJ$5:$AJ$29=دیتا!$F$8,'برنامه فروردین'!$F$5:$F$29,"")))} -> دکتر علی | V40: {=_xlfn.TEXTJOIN(" , ",TRUE,(IF('برنامه فروردین'!$AJ$5:$AJ$29=دیتا!$F$5,'برنامه فروردین'!$F$5:$F$29,""))&(IF('برنامه فروردین'!$AJ$5:$AJ$29=دیتا!$F$7,'برنامه فروردین'!$F$5:$F$29,""))&(IF('برنامه فروردین'!$AJ$5:$AJ$29=دیتا!$F$8,'برنامه فروردین'!$F$5:$F$29,"")))}
C41: =IF(C40="شنبه","یکشنبه",IF(C40="یکشنبه","دوشنبه",IF(C40="دوشنبه","سه شنبه",IF(C40="سه شنبه","چهار شنبه",IF(C40="چهار شنبه","پنج شنبه",IF(C40="پنج شنبه","جمعه",IF(C40="جمعه","شنبه"))))))) -> جمعه | E41: 31 | F41: {=_xlfn.TEXTJOIN(" , ",TRUE,(IF('برنامه فروردین'!$AK$5:$AK$29=دیتا!$F$3,'برنامه فروردین'!$F$5:$F$29,""))&(IF('برنامه فروردین'!$AK$5:$AK$29=دیتا!$F$7,'برنامه فروردین'!$F$5:$F$29,""))&(IF('برنامه فروردین'!$AK$5:$AK$29=دیتا!$F$6,'برنامه فروردین'!$F$5:$F$29,"")))} | N41: {=_xlfn.TEXTJOIN(" , ",TRUE,(IF('برنامه فروردین'!$AK$5:$AK$29=دیتا!$F$4,'برنامه فروردین'!$F$5:$F$29,""))&(IF('برنامه فروردین'!$AK$5:$AK$29=دیتا!$F$6,'برنامه فروردین'!$F$5:$F$29,""))&(IF('برنامه فروردین'!$AK$5:$AK$29=دیتا!$F$8,'برنامه فروردین'!$F$5:$F$29,"")))} | V41: {=_xlfn.TEXTJOIN(" , ",TRUE,(IF('برنامه فروردین'!$AK$5:$AK$29=دیتا!$F$5,'برنامه فروردین'!$F$5:$F$29,""))&(IF('برنامه فروردین'!$AK$5:$AK$29=دیتا!$F$7,'برنامه فروردین'!$F$5:$F$29,""))&(IF('برنامه فروردین'!$AK$5:$AK$29=دیتا!$F$8,'برنامه فروردین'!$F$5:$F$29,"")))}
E43: مسئول بخش: | U43: رییس بیمارستان:
E47: =تنظیمات!O19 -> 0 | U47: =تنظیمات!O15 -> 0

Sheet کارکرد 
B2: =تنظیمات!F2 -> مرکز آموزشی پژوهشی درمانی بیمارستان بنت الهدی | H2: =تنظیمات!A2 -> برنامه عملکرد پزشکان | L2: ='برنامه فروردین'!AI1 -> اورژانس | O2: ='برنامه فروردین'!$S$1&" "&تنظیمات!$O$2 -> فروردین 1403
B3: C | C3: نام نام خانودگی | D3: موظف قانون کار | E3: غیر موظف | F3: موظف قانون ارتقاء بهره وری | G3: کل کارکرد | H3: موظف در هفته | I3: اضافات، کسورات | J3: استعلاجی | K3: استحقاقی | L3: صبح و عصر ★تعطیل★ | M3: صبح و عصر عادی | N3: صبح یا عصر ★تعطیل★ | O3: صبح یا عصر عادی | P3: شب | Q3: روزهای کاری ماه
B4: 1 | C4: ='برنامه فروردین'!F5 | D4: =IF(OR(H4="",H4=" "),"",SUM((Q4:Q28)-(J4:J28+K4:K28))*7.333) | E4: =IF(G4>F4,IF(OR(H4="",H4=" "),G4,IFERROR(($G$4:$G$28-$F$4:$F$28),"")),"") | F4: =IFERROR(($H$4:$H$28/6)*(($Q$4:$Q$28)-($J$4:$J$28+$K$4:$K$28)),"") | G4: =IF(OR(H4=44,H4=""),(('کارکرد '!P4*تنظیمات!$O$10)+('کارکرد '!O4*تنظیمات!$O$8)+('کارکرد '!N4*تنظیمات!$O$8)+('کارکرد '!M4*(تنظیمات!$O$8+تنظیمات!$O$9))+('کارکرد '!L4*(تنظیمات!$O$8+تنظیمات!$O$9))+'کارکرد '!I4),('کارکرد '!P4*تنظیمات!$O$10*1.5)+('کارکرد '!O4*تنظیمات!$O$8)+('کارکرد '!N4*تنظیمات!$O$8*1.5)+('کارکرد '!M4*(تنظیمات!$O$8+تنظیمات!$O$9))+('کارکرد '!L4*(تنظیمات!$O$8+تنظیمات!$O$9)*1.5)+'کارکرد '!I4) -> 0 | H4: =IFERROR(INDEX(دیتا!$K$2:$T$26,MATCH('کارکرد '!C4,دیتا!$K$2:$K$26,0),9),"") | J4: ='برنامه فروردین'!AP5 -> 0 | K4: ='برنامه فروردین'!AO5 -> 0 | L4: =COUNTIFS('برنامه فروردین'!G5:AK5,"=me",'برنامه فروردین'!G3:AK3,"<>") -> 0 | M4: =COUNTIFS('برنامه فروردین'!G5:AK5,"=me",'برنامه فروردین'!G3:AK3,"") -> 0 | N4: {=SUM(COUNTIFS('برنامه فروردین'!G5:AK5,{"M","MN","E","en"},'برنامه فروردین'!$G$3:$AK$3,"<>"))} -> 0 | O4: {=SUM(COUNTIFS('برنامه فروردین'!G5:AK5,{"M","MN","E","en"},'برنامه فروردین'!$G$3:$AK$3,""))} -> 0 | P4: ='برنامه فروردین'!AN5 -> 0 | Q4: =COUNTIF('برنامه فروردین'!G3:AK3,"") -> 27
B5: 2 | C5: ='برنامه فروردین'!F6 -> دکتر علی | D5: =IF(OR(H5="",H5=" "),"",SUM((Q5:Q29)-(J5:J29+K5:K29))*7.333) -> 197.991 | E5: =IF(G5>F5,IF(OR(H5="",H5=" "),G5,IFERROR(($G$4:$G$28-$F$4:$F$28),"")),"") | F5: =IFERROR(($H$4:$H$28/6)*(($Q$4:$Q$28)-($J$4:$J$28+$K$4:$K$28)),"") -> 198 | G5: =IF(OR(H5=44,H5=""),(('کارکرد '!P5*تنظیمات!$O$10)+('کارکرد '!O5*تنظیمات!$O$8)+('کارکرد '!N5*تنظیمات!$O$8)+('کارکرد '!M5*(تنظیمات!$O$8+تنظیمات!$O$9))+('کارکرد '!L5*(تنظیمات!$O$8+تنظیمات!$O$9))+'کارکرد '!I5),('کارکرد '!P5*تنظیمات!$O$10*1.5)+('کارکرد '!O5*تنظیمات!$O$8)+('کارکرد '!N5*تنظیمات!$O$8*1.5)+('کارکرد '!M5*(تنظیمات!$O$8+تنظیمات!$O$9))+('کارکرد '!L5*(تنظیمات!$O$8+تنظیمات!$O$9)*1.5)+'کارکرد '!I5) -> 168 | H5: =IFERROR(INDEX(دیتا!$K$2:$T$26,MATCH('کارکرد '!C5,دیتا!$K$2:$K$26,0),9),"") -> 44 | J5: ='برنامه فروردین'!AP6 -> 0 | K5: ='برنامه فروردین'!AO6 -> 0 | L5: =COUNTIFS('برنامه فروردین'!G6:AK6,"=me",'برنامه فروردین'!G3:AK3,"<>") -> 0 | M5: =COUNTIFS('برنامه فروردین'!G6:AK6,"=me",'برنامه فروردین'!G3:AK3,"") -> 0 | N5: {=SUM(COUNTIFS('برنامه فروردین'!G6:AK6,{"M","MN","E","en"},'برنامه فروردین'!$G$3:$AK$3,"<>"))} -> 1 | O5: {=SUM(COUNTIFS('برنامه فروردین'!G6:AK6,{"M","MN","E","en"},'برنامه فروردین'!$G$3:$AK$3,""))} -> 9 | P5: ='برنامه فروردین'!AN6 -> 9 | Q5: =Q4 -> 27
B6: 3 | C6: ='برنامه فروردین'!F7 -> دکتر خالد | D6: =IF(OR(H6="",H6=" "),"",SUM((Q6:Q30)-(J6:J30+K6:K30))*7.333) -> 183.325 | E6: =IF(G6>F6,IF(OR(H6="",H6=" "),G6,IFERROR(($G$4:$G$28-$F$4:$F$28),"")),"") -> 21.416667 | F6: =IFERROR(($H$4:$H$28/6)*(($Q$4:$Q$28)-($J$4:$J$28+$K$4:$K$28)),"") -> 164.58333 | G6: =IF(OR(H6=44,H6=""),(('کارکرد '!P6*تنظیمات!$O$10)+('کارکرد '!O6*تنظیمات!$O$8)+('کارکرد '!N6*تنظیمات!$O$8)+('کارکرد '!M6*(تنظیمات!$O$8+تنظیمات!$O$9))+('کارکرد '!L6*(تنظیمات!$O$8+تنظیمات!$O$9))+'کارکرد '!I6),('کارکرد '!P6*تنظیمات!$O$10*1.5)+('کارکرد '!O6*تنظیمات!$O$8)+('کارکرد '!N6*تنظیمات!$O$8*1.5)+('کارکرد '!M6*(تنظیمات!$O$8+تنظیمات!$O$9))+('کارکرد '!L6*(تنظیمات!$O$8+تنظیمات!$O$9)*1.5)+'کارکرد '!I6) -> 186 | H6: =IFERROR(INDEX(دیتا!$K$2:$T$26,MATCH('کارکرد '!C6,دیتا!$K$2:$K$26,0),9),"") -> 39.5 | J6: ='برنامه فروردین'!AP7 -> 0 | K6: ='برنامه فروردین'!AO7 -> 2 | L6: =COUNTIFS('برنامه فروردین'!G7:AK7,"=me",'برنامه فروردین'!G3:AK3,"<>") -> 0 | M6: =COUNTIFS('برنامه فروردین'!G7:AK7,"=me",'برنامه فروردین'!G3:AK3,"") -> 0 | N6: {=SUM(COUNTIFS('برنامه فروردین'!G7:AK7,{"M","MN","E","en"},'برنامه فروردین'!$G$3:$AK$3,"<>"))} -> 2 | O6: {=SUM(COUNTIFS('برنامه فروردین'!G7:AK7,{"M","MN","E","en"},'برنامه فروردین'!$G$3:$AK$3,""))} -> 7 | P6: ='برنامه فروردین'!AN7 -> 7 | Q6: =Q5 -> 27
B7: 4 | C7: ='برنامه فروردین'!F8 | D7: =IF(OR(H7="",H7=" "),"",SUM((Q7:Q31)-(J7:J31+K7:K31))*7.333) | E7: =IF(G7>F7,IF(OR(H7="",H7=" "),G7,IFERROR(($G$4:$G$28-$F$4:$F$28),"")),"") | F7: =IFERROR(($H$4:$H$28/6)*(($Q$4:$Q$28)-($J$4:$J$28+$K$4:$K$28)),"") | G7: =IF(OR(H7=44,H7=""),(('کارکرد '!P7*تنظیمات!$O$10)+('کارکرد '!O7*تنظیمات!$O$8)+('کارکرد '!N7*تنظیمات!$O$8)+('کارکرد '!M7*(تنظیمات!$O$8+تنظیمات!$O$9))+('کارکرد '!L7*(تنظیمات!$O$8+تنظیمات!$O$9))+'کارکرد '!I7),('کارکرد '!P7*تنظیمات!$O$10*1.5)+('کارکرد '!O7*تنظیمات!$O$8)+('کارکرد '!N7*تنظیمات!$O$8*1.5)+('کارکرد '!M7*(تنظیمات!$O$8+تنظیمات!$O$9))+('کارکرد '!L7*(تنظیمات!$O$8+تنظیمات!$O$9)*1.5)+'کارکرد '!I7) -> 0 | H7: =IFERROR(INDEX(دیتا!$K$2:$T$26,MATCH('کارکرد '!C7,دیتا!$K$2:$K$26,0),9),"") | J7: ='برنامه فروردین'!AP8 -> 0 | K7: ='برنامه فروردین'!AO8 -> 0 | L7: =COUNTIFS('برنامه فروردین'!G8:AK8,"=me",'برنامه فروردین'!G3:AK3,"<>") -> 0 | M7: =COUNTIFS('برنامه فروردین'!G8:AK8,"=me",'برنامه فروردین'!G3:AK3,"") -> 0 | N7: {=SUM(COUNTIFS('برنامه فروردین'!G8:AK8,{"M","MN","E","en"},'برنامه فروردین'!$G$3:$AK$3,"<>"))} -> 0 | O7: {=SUM(COUNTIFS('برنامه فروردین'!G8:AK8,{"M","MN","E","en"},'برنامه فروردین'!$G$3:$AK$3,""))} -> 0 | P7: ='برنامه فروردین'!AN8 -> 0 | Q7: =Q6 -> 27
B8: 5 | C8: ='برنامه فروردین'!F9 | D8: =IF(OR(H8="",H8=" "),"",SUM((Q8:Q32)-(J8:J32+K8:K32))*7.333) | E8: =IF(G8>F8,IF(OR(H8="",H8=" "),G8,IFERROR(($G$4:$G$28-$F$4:$F$28),"")),"") | F8: =IFERROR(($H$4:$H$28/6)*(($Q$4:$Q$28)-($J$4:$J$28+$K$4:$K$28)),"") | G8: =IF(OR(H8=44,H8=""),(('کارکرد '!P8*تنظیمات!$O$10)+('کارکرد '!O8*تنظیمات!$O$8)+('کارکرد '!N8*تنظیمات!$O$8)+('کارکرد '!M8*(تنظیمات!$O$8+تنظیمات!$O$9))+('کارکرد '!L8*(تنظیمات!$O$8+تنظیمات!$O$9))+'کارکرد '!I8),('کارکرد '!P8*تنظیمات!$O$10*1.5)+('کارکرد '!O8*تنظیمات!$O$8)+('کارکرد '!N8*تنظیمات!$O$8*1.5)+('کارکرد '!M8*(تنظیمات!$O$8+تنظیمات!$O$9))+('کارکرد '!L8*(تنظیمات!$O$8+تنظیمات!$O$9)*1.5)+'کارکرد '!I8) -> 6 | H8: =IFERROR(INDEX(دیتا!$K$2:$T$26,MATCH('کارکرد '!C8,دیتا!$K$2:$K$26,0),9),"") | J8: ='برنامه فروردین'!AP9 -> 0 | K8: ='برنامه فروردین'!AO9 -> 0 | L8: =COUNTIFS('برنامه فروردین'!G9:AK9,"=me",'برنامه فروردین'!G3:AK3,"<>") -> 0 | M8: =COUNTIFS('برنامه فروردین'!G9:AK9,"=me",'برنامه فروردین'!G3:AK3,"") -> 0 | N8: {=SUM(COUNTIFS('برنامه فروردین'!G9:AK9,{"M","MN","E","en"},'برنامه فروردین'!$G$3:$AK$3,"<>"))} -> 0 | O8: {=SUM(COUNTIFS('برنامه فروردین'!G9:AK9,{"M","MN","E","en"},'برنامه فروردین'!$G$3:$AK$3,""))} -> 1 | P8: ='برنامه فروردین'!AN9 -> 0 | Q8: =Q7 -> 27
B9: 6 | C9: ='برنامه فروردین'!F10 -> دکتر صبا | D9: =IF(OR(H9="",H9=" "),"",SUM((Q9:Q33)-(J9:J33+K9:K33))*7.333) -> 197.991 | E9: =IF(G9>F9,IF(OR(H9="",H9=" "),G9,IFERROR(($G$4:$G$28-$F$4:$F$28),"")),"") | F9: =IFERROR(($H$4:$H$28/6)*(($Q$4:$Q$28)-($J$4:$J$28+$K$4:$K$28)),"") -> 182.25 | G9: =IF(OR(H9=44,H9=""),(('کارکرد '!P9*تنظیمات!$O$10)+('کارکرد '!O9*تنظیمات!$O$8)+('کارکرد '!N9*تنظیمات!$O$8)+('کارکرد '!M9*(تنظیمات!$O$8+تنظیمات!$O$9))+('کارکرد '!L9*(تنظیمات!$O$8+تنظیمات!$O$9))+'کارکرد '!I9),('کارکرد '!P9*تنظیمات!$O$10*1.5)+('کارکرد '!O9*تنظیمات!$O$8)+('کارکرد '!N9*تنظیمات!$O$8*1.5)+('کارکرد '!M9*(تنظیمات!$O$8+تنظیمات!$O$9))+('کارکرد '!L9*(تنظیمات!$O$8+تنظیمات!$O$9)*1.5)+'کارکرد '!I9) -> 165 | H9: =IFERROR(INDEX(دیتا!$K$2:$T$26,MATCH('کارکرد '!C9,دیتا!$K$2:$K$26,0),9),"") -> 40.5 | J9: ='برنامه فروردین'!AP10 -> 0 | K9: ='برنامه فروردین'!AO10 -> 0 | L9: =COUNTIFS('برنامه فروردین'!G10:AK10,"=me",'برنامه فروردین'!G3:AK3,"<>") -> 0 | M9: =COUNTIFS('برنامه فروردین'!G10:AK10,"=me",'برنامه فروردین'!G3:AK3,"") -> 0 | N9: {=SUM(COUNTIFS('برنامه فروردین'!G10:AK10,{"M","MN","E","en"},'برنامه فروردین'!$G$3:$AK$3,"<>"))} -> 3 | O9: {=SUM(COUNTIFS('برنامه فروردین'!G10:AK10,{"M","MN","E","en"},'برنامه فروردین'!$G$3:$AK$3,""))} -> 2 | P9: ='برنامه فروردین'!AN10 -> 7 | Q9: =Q8 -> 27
B10: 7 | C10: ='برنامه فروردین'!F11 -> دکتر لیلا | D10: =IF(OR(H10="",H10=" "),"",SUM((Q10:Q34)-(J10:J34+K10:K34))*7.333) | E10: =IF(G10>F10,IF(OR(H10="",H10=" "),G10,IFERROR(($G$4:$G$28-$F$4:$F$28),"")),"") | F10: =IFERROR(($H$4:$H$28/6)*(($Q$4:$Q$28)-($J$4:$J$28+$K$4:$K$28)),"") | G10: =IF(OR(H10=44,H10=""),(('کارکرد '!P10*تنظیمات!$O$10)+('کارکرد '!O10*تنظیمات!$O$8)+('کارکرد '!N10*تنظیمات!$O$8)+('کارکرد '!M10*(تنظیمات!$O$8+تنظیمات!$O$9))+('کارکرد '!L10*(تنظیمات!$O$8+تنظیمات!$O$9))+'کارکرد '!I10),('کارکرد '!P10*تنظیمات!$O$10*1.5)+('کارکرد '!O10*تنظیمات!$O$8)+('کارکرد '!N10*تنظیمات!$O$8*1.5)+('کارکرد '!M10*(تنظیمات!$O$8+تنظیمات!$O$9))+('کارکرد '!L10*(تنظیمات!$O$8+تنظیمات!$O$9)*1.5)+'کارکرد '!I10) -> 0 | H10: =IFERROR(INDEX(دیتا!$K$2:$T$26,MATCH('کارکرد '!C10,دیتا!$K$2:$K$26,0),9),"") | J10: ='برنامه فروردین'!AP11 -> 0 | K10: ='برنامه فروردین'!AO11 -> 0 | L10: =COUNTIFS('برنامه فروردین'!G11:AK11,"=me",'برنامه فروردین'!G3:AK3,"<>") -> 0 | M10: =COUNTIFS('برنامه فروردین'!G11:AK11,"=me",'برنامه فروردین'!G3:AK3,"") -> 0 | N10: {=SUM(COUNTIFS('برنامه فروردین'!G11:AK11,{"M","MN","E","en"},'برنامه فروردین'!$G$3:$AK$3,"<>"))} -> 0 | O10: {=SUM(COUNTIFS('برنامه فروردین'!G11:AK11,{"M","MN","E","en"},'برنامه فروردین'!$G$3:$AK$3,""))} -> 0 | P10: ='برنامه فروردین'!AN11 -> 0 | Q10: =Q9 -> 27
B11: 8 | C11: ='برنامه فروردین'!F12 -> دکتر محسن | D11: =IF(OR(H11="",H11=" "),"",SUM((Q11:Q35)-(J11:J35+K11:K35))*7.333) -> 197.991 | E11: =IF(G11>F11,IF(OR(H11="",H11=" "),G11,IFERROR(($G$4:$G$28-$F$4:$F$28),"")),"") | F11: =IFERROR(($H$4:$H$28/6)*(($Q$4:$Q$28)-($J$4:$J$28+$K$4:$K$28)),"") -> 182.25 | G11: =IF(OR(H11=44,H11=""),(('کارکرد '!P11*تنظیمات!$O$10)+('کارکرد '!O11*تنظیمات!$O$8)+('کارکرد '!N11*تنظیمات!$O$8)+('کارکرد '!M11*(تنظیمات!$O$8+تنظیمات!$O$9))+('کارکرد '!L11*(تنظیمات!$O$8+تنظیمات!$O$9))+'کارکرد '!I11),('کارکرد '!P11*تنظیمات!$O$10*1.5)+('کارکرد '!O11*تنظیمات!$O$8)+('کارکرد '!N11*تنظیمات!$O$8*1.5)+('کارکرد '!M11*(تنظیمات!$O$8+تنظیمات!$O$9))+('کارکرد '!L11*(تنظیمات!$O$8+تنظیمات!$O$9)*1.5)+'کارکرد '!I11) -> 174 | H11: =IFERROR(INDEX(دیتا!$K$2:$T$26,MATCH('کارکرد '!C11,دیتا!$K$2:$K$26,0),9),"") -> 40.5 | J11: ='برنامه فروردین'!AP12 -> 0 | K11: ='برنامه فروردین'!AO12 -> 0 | L11: =COUNTIFS('برنامه فروردین'!G12:AK12,"=me",'برنامه فروردین'!G3:AK3,"<>") -> 0 | M11: =COUNTIFS('برنامه فروردین'!G12:AK12,"=me",'برنامه فروردین'!G3:AK3,"") -> 0 | N11: {=SUM(COUNTIFS('برنامه فروردین'!G12:AK12,{"M","MN","E","en"},'برنامه فروردین'!$G$3:$AK$3,"<>"))} -> 2 | O11: {=SUM(COUNTIFS('برنامه فروردین'!G12:AK12,{"M","MN","E","en"},'برنامه فروردین'!$G$3:$AK$3,""))} -> 8 | P11: ='برنامه فروردین'!AN12 -> 6 | Q11: =Q10 -> 27
B12: 9 | C12: ='برنامه فروردین'!F13 | D12: =IF(OR(H12="",H12=" "),"",SUM((Q12:Q36)-(J12:J36+K12:K36))*7.333) | E12: =IF(G12>F12,IF(OR(H12="",H12=" "),G12,IFERROR(($G$4:$G$28-$F$4:$F$28),"")),"") | F12: =IFERROR(($H$4:$H$28/6)*(($Q$4:$Q$28)-($J$4:$J$28+$K$4:$K$28)),"") | G12: =IF(OR(H12=44,H12=""),(('کارکرد '!P12*تنظیمات!$O$10)+('کارکرد '!O12*تنظیمات!$O$8)+('کارکرد '!N12*تنظیمات!$O$8)+('کارکرد '!M12*(تنظیمات!$O$8+تنظیمات!$O$9))+('کارکرد '!L12*(تنظیمات!$O$8+تنظیمات!$O$9))+'کارکرد '!I12),('کارکرد '!P12*تنظیمات!$O$10*1.5)+('کارکرد '!O12*تنظیمات!$O$8)+('کارکرد '!N12*تنظیمات!$O$8*1.5)+('کارکرد '!M12*(تنظیمات!$O$8+تنظیمات!$O$9))+('کارکرد '!L12*(تنظیمات!$O$8+تنظیمات!$O$9)*1.5)+'کارکرد '!I12) -> 54 | H12: =IFERROR(INDEX(دیتا!$K$2:$T$26,MATCH('کارکرد '!C12,دیتا!$K$2:$K$26,0),9),"") | J12: ='برنامه فروردین'!AP13 -> 0 | K12: ='برنامه فروردین'!AO13 -> 0 | L12: =COUNTIFS('برنامه فروردین'!G13:AK13,"=me",'برنامه فروردین'!G3:AK3,"<>") -> 0 | M12: =COUNTIFS('برنامه فروردین'!G13:AK13,"=me",'برنامه فروردین'!G3:AK3,"") -> 0 | N12: {=SUM(COUNTIFS('برنامه فروردین'!G13:AK13,{"M","MN","E","en"},'برنامه فروردین'!$G$3:$AK$3,"<>"))} -> 0 | O12: {=SUM(COUNTIFS('برنامه فروردین'!G13:AK13,{"M","MN","E","en"},'برنامه فروردین'!$G$3:$AK$3,""))} -> 5 | P12: ='برنامه فروردین'!AN13 -> 2 | Q12: =Q11 -> 27
B13: 10 | C13: ='برنامه فروردین'!F14 | D13: =IF(OR(H13="",H13=" "),"",SUM((Q13:Q37)-(J13:J37+K13:K37))*7.333) | E13: =IF(G13>F13,IF(OR(H13="",H13=" "),G13,IFERROR(($G$4:$G$28-$F$4:$F$28),"")),"") | F13: =IFERROR(($H$4:$H$28/6)*(($Q$4:$Q$28)-($J$4:$J$28+$K$4:$K$28)),"") | G13: =IF(OR(H13=44,H13=""),(('کارکرد '!P13*تنظیمات!$O$10)+('کارکرد '!O13*تنظیمات!$O$8)+('کارکرد '!N13*تنظیمات!$O$8)+('کارکرد '!M13*(تنظیمات!$O$8+تنظیمات!$O$9))+('کارکرد '!L13*(تنظیمات!$O$8+تنظیمات!$O$9))+'کارکرد '!I13),('کارکرد '!P13*تنظیمات!$O$10*1.5)+('کارکرد '!O13*تنظیمات!$O$8)+('کارکرد '!N13*تنظیمات!$O$8*1.5)+('کارکرد '!M13*(تنظیمات!$O$8+تنظیمات!$O$9))+('کارکرد '!L13*(تنظیمات!$O$8+تنظیمات!$O$9)*1.5)+'کارکرد '!I13) -> 126 | H13: =IFERROR(INDEX(دیتا!$K$2:$T$26,MATCH('کارکرد '!C13,دیتا!$K$2:$K$26,0),9),"") | J13: ='برنامه فروردین'!AP14 -> 0 | K13: ='برنامه فروردین'!AO14 -> 0 | L13: =COUNTIFS('برنامه فروردین'!G14:AK14,"=me",'برنامه فروردین'!G3:AK3,"<>") -> 0 | M13: =COUNTIFS('برنامه فروردین'!G14:AK14,"=me",'برنامه فروردین'!G3:AK3,"") -> 3 | N13: {=SUM(COUNTIFS('برنامه فروردین'!G14:AK14,{"M","MN","E","en"},'برنامه فروردین'!$G$3:$AK$3,"<>"))} -> 0 | O13: {=SUM(COUNTIFS('برنامه فروردین'!G14:AK14,{"M","MN","E","en"},'برنامه فروردین'!$G$3:$AK$3,""))} -> 15 | P13: ='برنامه فروردین'!AN14 -> 0 | Q13: =Q12 -> 27
B14: 11 | C14: ='برنامه فروردین'!F15 -> دکتر عاطفه | D14: =IF(OR(H14="",H14=" "),"",SUM((Q14:Q38)-(J14:J38+K14:K38))*7.333) -> 197.991 | E14: =IF(G14>F14,IF(OR(H14="",H14=" "),G14,IFERROR(($G$4:$G$28-$F$4:$F$28),"")),"") | F14: =IFERROR(($H$4:$H$28/6)*(($Q$4:$Q$28)-($J$4:$J$28+$K$4:$K$28)),"") -> 182.25 | G14: =IF(OR(H14=44,H14=""),(('کارکرد '!P14*تنظیمات!$O$10)+('کارکرد '!O14*تنظیمات!$O$8)+('کارکرد '!N14*تنظیمات!$O$8)+('کارکرد '!M14*(تنظیمات!$O$8+تنظیمات!$O$9))+('کارکرد '!L14*(تنظیمات!$O$8+تنظیمات!$O$9))+'کارکرد '!I14),('کارکرد '!P14*تنظیمات!$O$10*1.5)+('کارکرد '!O14*تنظیمات!$O$8)+('کارکرد '!N14*تنظیمات!$O$8*1.5)+('کارکرد '!M14*(تنظیمات!$O$8+تنظیمات!$O$9))+('کارکرد '!L14*(تنظیمات!$O$8+تنظیمات!$O$9)*1.5)+'کارکرد '!I14) -> 0 | H14: =IFERROR(INDEX(دیتا!$K$2:$T$26,MATCH('کارکرد '!C14,دیتا!$K$2:$K$26,0),9),"") -> 40.5 | J14: ='برنامه فروردین'!AP15 -> 0 | K14: ='برنامه فروردین'!AO15 -> 0 | L14: =COUNTIFS('برنامه فروردین'!G15:AK15,"=me",'برنامه فروردین'!G3:AK3,"<>") -> 0 | M14: =COUNTIFS('برنامه فروردین'!G15:AK15,"=me",'برنامه فروردین'!G3:AK3,"") -> 0 | N14: {=SUM(COUNTIFS('برنامه فروردین'!G15:AK15,{"M","MN","E","en"},'برنامه فروردین'!$G$3:$AK$3,"<>"))} -> 0 | O14: {=SUM(COUNTIFS('برنامه فروردین'!G15:AK15,{"M","MN","E","en"},'برنامه فروردین'!$G$3:$AK$3,""))} -> 0 | P14: ='برنامه فروردین'!AN15 -> 0 | Q14: =Q13 -> 27
B15: 12 | C15: ='برنامه فروردین'!F16 | D15: =IF(OR(H15="",H15=" "),"",SUM((Q15:Q39)-(J15:J39+K15:K39))*7.333) | E15: =IF(G15>F15,IF(OR(H15="",H15=" "),G15,IFERROR(($G$4:$G$28-$F$4:$F$28),"")),"") | F15: =IFERROR(($H$4:$H$28/6)*(($Q$4:$Q$28)-($J$4:$J$28+$K$4:$K$28)),"") | G15: =IF(OR(H15=44,H15=""),(('کارکرد '!P15*تنظیمات!$O$10)+('کارکرد '!O15*تنظیمات!$O$8)+('کارکرد '!N15*تنظیمات!$O$8)+('کارکرد '!M15*(تنظیمات!$O$8+تنظیمات!$O$9))+('کارکرد '!L15*(تنظیمات!$O$8+تنظیمات!$O$9))+'کارکرد '!I15),('کارکرد '!P15*تنظیمات!$O$10*1.5)+('کارکرد '!O15*تنظیمات!$O$8)+('کارکرد '!N15*تنظیمات!$O$8*1.5)+('کارکرد '!M15*(تنظیمات!$O$8+تنظیمات!$O$9))+('کارکرد '!L15*(تنظیمات!$O$8+تنظیمات!$O$9)*1.5)+'کارکرد '!I15) -> 0 | H15: =IFERROR(INDEX(دیتا!$K$2:$T$26,MATCH('کارکرد '!C15,دیتا!$K$2:$K$26,0),9),"") | J15: ='برنامه فروردین'!AP16 -> 0 | K15: ='برنامه فروردین'!AO16 -> 0 | L15: =COUNTIFS('برنامه فروردین'!G16:AK16,"=me",'برنامه فروردین'!G3:AK3,"<>") -> 0 | M15: =COUNTIFS('برنامه فروردین'!G16:AK16,"=me",'برنامه فروردین'!G3:AK3,"") -> 0 | N15: {=SUM(COUNTIFS('برنامه فروردین'!G16:AK16,{"M","MN","E","en"},'برنامه فروردین'!$G$3:$AK$3,"<>"))} -> 0 | O15: {=SUM(COUNTIFS('برنامه فروردین'!G16:AK16,{"M","MN","E","en"},'برنامه فروردین'!$G$3:$AK$3,""))} -> 0 | P15: ='برنامه فروردین'!AN16 -> 0 | Q15: =Q14 -> 27
B16: 13 | C16: ='برنامه فروردین'!F17 | D16: =IF(OR(H16="",H16=" "),"",SUM((Q16:Q40)-(J16:J40+K16:K40))*7.333) | E16: =IF(G16>F16,IF(OR(H16="",H16=" "),G16,IFERROR(($G$4:$G$28-$F$4:$F$28),"")),"") | F16: =IFERROR(($H$4:$H$28/6)*(($Q$4:$Q$28)-($J$4:$J$28+$K$4:$K$28)),"") | G16: =IF(OR(H16=44,H16=""),(('کارکرد '!P16*تنظیمات!$O$10)+('کارکرد '!O16*تنظیمات!$O$8)+('کارکرد '!N16*تنظیمات!$O$8)+('کارکرد '!M16*(تنظیمات!$O$8+تنظیمات!$O$9))+('کارکرد '!L16*(تنظیمات!$O$8+تنظیمات!$O$9))+'کارکرد '!I16),('کارکرد '!P16*تنظیمات!$O$10*1.5)+('کارکرد '!O16*تنظیمات!$O$8)+('کارکرد '!N16*تنظیمات!$O$8*1.5)+('کارکرد '!M16*(تنظیمات!$O$8+تنظیمات!$O$9))+('کارکرد '!L16*(تنظیمات!$O$8+تنظیمات!$O$9)*1.5)+'کارکرد '!I16) -> 0 | H16: =IFERROR(INDEX(دیتا!$K$2:$T$26,MATCH('کارکرد '!C16,دیتا!$K$2:$K$26,0),9),"") | J16: ='برنامه فروردین'!AP17 -> 0 | K16: ='برنامه فروردین'!AO17 -> 0 | L16: =COUNTIFS('برنامه فروردین'!G17:AK17,"=me",'برنامه فروردین'!G3:AK3,"<>") -> 0 | M16: =COUNTIFS('برنامه فروردین'!G17:AK17,"=me",'برنامه فروردین'!G3:AK3,"") -> 0 | N16: {=SUM(COUNTIFS('برنامه فروردین'!G17:AK17,{"M","MN","E","en"},'برنامه فروردین'!$G$3:$AK$3,"<>"))} -> 0 | O16: {=SUM(COUNTIFS('برنامه فروردین'!G17:AK17,{"M","MN","E","en"},'برنامه فروردین'!$G$3:$AK$3,""))} -> 0 | P16: ='برنامه فروردین'!AN17 -> 0 | Q16: =Q15 -> 27
B17: 14 | C17: ='برنامه فروردین'!F18 | D17: =IF(OR(H17="",H17=" "),"",SUM((Q17:Q41)-(J17:J41+K17:K41))*7.333) | E17: =IF(G17>F17,IF(OR(H17="",H17=" "),G17,IFERROR(($G$4:$G$28-$F$4:$F$28),"")),"") | F17: =IFERROR(($H$4:$H$28/6)*(($Q$4:$Q$28)-($J$4:$J$28+$K$4:$K$28)),"") | G17: =IF(OR(H17=44,H17=""),(('کارکرد '!P17*تنظیمات!$O$10)+('کارکرد '!O17*تنظیمات!$O$8)+('کارکرد '!N17*تنظیمات!$O$8)+('کارکرد '!M17*(تنظیمات!$O$8+تنظیمات!$O$9))+('کارکرد '!L17*(تنظیمات!$O$8+تنظیمات!$O$9))+'کارکرد '!I17),('کارکرد '!P17*تنظیمات!$O$10*1.5)+('کارکرد '!O17*تنظیمات!$O$8)+('کارکرد '!N17*تنظیمات!$O$8*1.5)+('کارکرد '!M17*(تنظیمات!$O$8+تنظیمات!$O$9))+('کارکرد '!L17*(تنظیمات!$O$8+تنظیمات!$O$9)*1.5)+'کارکرد '!I17) -> 0 | H17: =IFERROR(INDEX(دیتا!$K$2:$T$26,MATCH('کارکرد '!C17,دیتا!$K$2:$K$26,0),9),"") | J17: ='برنامه فروردین'!AP18 -> 0 | K17: ='برنامه فروردین'!AO18 -> 0 | L17: =COUNTIFS('برنامه فروردین'!G18:AK18,"=me",'برنامه فروردین'!G3:AK3,"<>") -> 0 | M17: =COUNTIFS('برنامه فروردین'!G18:AK18,"=me",'برنامه فروردین'!G3:AK3,"") -> 0 | N17: {=SUM(COUNTIFS('برنامه فروردین'!G18:AK18,{"M","MN","E","en"},'برنامه فروردین'!$G$3:$AK$3,"<>"))} -> 0 | O17: {=SUM(COUNTIFS('برنامه فروردین'!G18:AK18,{"M","MN","E","en"},'برنامه فروردین'!$G$3:$AK$3,""))} -> 0 | P17: ='برنامه فروردین'!AN18 -> 0 | Q17: =Q16 -> 27
B18: 15 | C18: ='برنامه فروردین'!F19 | D18: =IF(OR(H18="",H18=" "),"",SUM((Q18:Q42)-(J18:J42+K18:K42))*7.333) | E18: =IF(G18>F18,IF(OR(H18="",H18=" "),G18,IFERROR(($G$4:$G$28-$F$4:$F$28),"")),"") | F18: =IFERROR(($H$4:$H$28/6)*(($Q$4:$Q$28)-($J$4:$J$28+$K$4:$K$28)),"") | G18: =IF(OR(H18=44,H18=""),(('کارکرد '!P18*تنظیمات!$O$10)+('کارکرد '!O18*تنظیمات!$O$8)+('کارکرد '!N18*تنظیمات!$O$8)+('کارکرد '!M18*(تنظیمات!$O$8+تنظیمات!$O$9))+('کارکرد '!L18*(تنظیمات!$O$8+تنظیمات!$O$9))+'کارکرد '!I18),('کارکرد '!P18*تنظیمات!$O$10*1.5)+('کارکرد '!O18*تنظیمات!$O$8)+('کارکرد '!N18*تنظیمات!$O$8*1.5)+('کارکرد '!M18*(تنظیمات!$O$8+تنظیمات!$O$9))+('کارکرد '!L18*(تنظیمات!$O$8+تنظیمات!$O$9)*1.5)+'کارکرد '!I18) -> 0 | H18: =IFERROR(INDEX(دیتا!$K$2:$T$26,MATCH('کارکرد '!C18,دیتا!$K$2:$K$26,0),9),"") | J18: ='برنامه فروردین'!AP19 -> 0 | K18: ='برنامه فروردین'!AO19 -> 0 | L18: =COUNTIFS('برنامه فروردین'!G19:AK19,"=me",'برنامه فروردین'!G3:AK3,"<>") -> 0 | M18: =COUNTIFS('برنامه فروردین'!G19:AK19,"=me",'برنامه فروردین'!G3:AK3,"") -> 0 | N18: {=SUM(COUNTIFS('برنامه فروردین'!G19:AK19,{"M","MN","E","en"},'برنامه فروردین'!$G$3:$AK$3,"<>"))} -> 0 | O18: {=SUM(COUNTIFS('برنامه فروردین'!G19:AK19,{"M","MN","E","en"},'برنامه فروردین'!$G$3:$AK$3,""))} -> 0 | P18: ='برنامه فروردین'!AN19 -> 0 | Q18: =Q17 -> 27
B19: 16 | C19: ='برنامه فروردین'!F20 | D19: =IF(OR(H19="",H19=" "),"",SUM((Q19:Q43)-(J19:J43+K19:K43))*7.333) | E19: =IF(G19>F19,IF(OR(H19="",H19=" "),G19,IFERROR(($G$4:$G$28-$F$4:$F$28),"")),"") | F19: =IFERROR(($H$4:$H$28/6)*(($Q$4:$Q$28)-($J$4:$J$28+$K$4:$K$28)),"") | G19: =IF(OR(H19=44,H19=""),(('کارکرد '!P19*تنظیمات!$O$10)+('کارکرد '!O19*تنظیمات!$O$8)+('کارکرد '!N19*تنظیمات!$O$8)+('کارکرد '!M19*(تنظیمات!$O$8+تنظیمات!$O$9))+('کارکرد '!L19*(تنظیمات!$O$8+تنظیمات!$O$9))+'کارکرد '!I19),('کارکرد '!P19*تنظیمات!$O$10*1.5)+('کارکرد '!O19*تنظیمات!$O$8)+('کارکرد '!N19*تنظیمات!$O$8*1.5)+('کارکرد '!M19*(تنظیمات!$O$8+تنظیمات!$O$9))+('کارکرد '!L19*(تنظیمات!$O$8+تنظیمات!$O$9)*1.5)+'کارکرد '!I19) -> 0 | H19: =IFERROR(INDEX(دیتا!$K$2:$T$26,MATCH('کارکرد '!C19,دیتا!$K$2:$K$26,0),9),"") | J19: ='برنامه فروردین'!AP20 -> 0 | K19: ='برنامه فروردین'!AO20 -> 0 | L19: =COUNTIFS('برنامه فروردین'!G20:AK20,"=me",'برنامه فروردین'!G3:AK3,"<>") -> 0 | M19: =COUNTIFS('برنامه فروردین'!G20:AK20,"=me",'برنامه فروردین'!G3:AK3,"") -> 0 | N19: {=SUM(COUNTIFS('برنامه فروردین'!G20:AK20,{"M","MN","E","en"},'برنامه فروردین'!$G$3:$AK$3,"<>"))} -> 0 | O19: {=SUM(COUNTIFS('برنامه فروردین'!G20:AK20,{"M","MN","E","en"},'برنامه فروردین'!$G$3:$AK$3,""))} -> 0 | P19: ='برنامه فروردین'!AN20 -> 0 | Q19: =Q18 -> 27
B20: 17 | C20: ='برنامه فروردین'!F21 | D20: =IF(OR(H20="",H20=" "),"",SUM((Q20:Q44)-(J20:J44+K20:K44))*7.333) | E20: =IF(G20>F20,IF(OR(H20="",H20=" "),G20,IFERROR(($G$4:$G$28-$F$4:$F$28),"")),"") | F20: =IFERROR(($H$4:$H$28/6)*(($Q$4:$Q$28)-($J$4:$J$28+$K$4:$K$28)),"") | G20: =IF(OR(H20=44,H20=""),(('کارکرد '!P20*تنظیمات!$O$10)+('کارکرد '!O20*تنظیمات!$O$8)+('کارکرد '!N20*تنظیمات!$O$8)+('کارکرد '!M20*(تنظیمات!$O$8+تنظیمات!$O$9))+('کارکرد '!L20*(تنظیمات!$O$8+تنظیمات!$O$9))+'کارکرد '!I20),('کارکرد '!P20*تنظیمات!$O$10*1.5)+('کارکرد '!O20*تنظیمات!$O$8)+('کارکرد '!N20*تنظیمات!$O$8*1.5)+('کارکرد '!M20*(تنظیمات!$O$8+تنظیمات!$O$9))+('کارکرد '!L20*(تنظیمات!$O$8+تنظیمات!$O$9)*1.5)+'کارکرد '!I20) -> 0 | H20: =IFERROR(INDEX(دیتا!$K$2:$T$26,MATCH('کارکرد '!C20,دیتا!$K$2:$K$26,0),9),"") | J20: ='برنامه فروردین'!AP21 -> 0 | K20: ='برنامه فروردین'!AO21 -> 0 | L20: =COUNTIFS('برنامه فروردین'!G21:AK21,"=me",'برنامه فروردین'!G3:AK3,"<>") -> 0 | M20: =COUNTIFS('برنامه فروردین'!G21:AK21,"=me",'برنامه فروردین'!G3:AK3,"") -> 0 | N20: {=SUM(COUNTIFS('برنامه فروردین'!G21:AK21,{"M","MN","E","en"},'برنامه فروردین'!$G$3:$AK$3,"<>"))} -> 0 | O20: {=SUM(COUNTIFS('برنامه فروردین'!G21:AK21,{"M","MN","E","en"},'برنامه فروردین'!$G$3:$AK$3,""))} -> 0 | P20: ='برنامه فروردین'!AN21 -> 0 | Q20: =Q19 -> 27
B21: 18 | C21: ='برنامه فروردین'!F22 | D21: =IF(OR(H21="",H21=" "),"",SUM((Q21:Q45)-(J21:J45+K21:K45))*7.333) | E21: =IF(G21>F21,IF(OR(H21="",H21=" "),G21,IFERROR(($G$4:$G$28-$F$4:$F$28),"")),"") | F21: =IFERROR(($H$4:$H$28/6)*(($Q$4:$Q$28)-($J$4:$J$28+$K$4:$K$28)),"") | G21: =IF(OR(H21=44,H21=""),(('کارکرد '!P21*تنظیمات!$O$10)+('کارکرد '!O21*تنظیمات!$O$8)+('کارکرد '!N21*تنظیمات!$O$8)+('کارکرد '!M21*(تنظیمات!$O$8+تنظیمات!$O$9))+('کارکرد '!L21*(تنظیمات!$O$8+تنظیمات!$O$9))+'کارکرد '!I21),('کارکرد '!P21*تنظیمات!$O$10*1.5)+('کارکرد '!O21*تنظیمات!$O$8)+('کارکرد '!N21*تنظیمات!$O$8*1.5)+('کارکرد '!M21*(تنظیمات!$O$8+تنظیمات!$O$9))+('کارکرد '!L21*(تنظیمات!$O$8+تنظیمات!$O$9)*1.5)+'کارکرد '!I21) -> 0 | H21: =IFERROR(INDEX(دیتا!$K$2:$T$26,MATCH('کارکرد '!C21,دیتا!$K$2:$K$26,0),9),"") | J21: ='برنامه فروردین'!AP22 -> 0 | K21: ='برنامه فروردین'!AO22 -> 0 | L21: =COUNTIFS('برنامه فروردین'!G22:AK22,"=me",'برنامه فروردین'!G3:AK3,"<>") -> 0 | M21: =COUNTIFS('برنامه فروردین'!G22:AK22,"=me",'برنامه فروردین'!G3:AK3,"") -> 0 | N21: {=SUM(COUNTIFS('برنامه فروردین'!G22:AK22,{"M","MN","E","en"},'برنامه فروردین'!$G$3:$AK$3,"<>"))} -> 0 | O21: {=SUM(COUNTIFS('برنامه فروردین'!G22:AK22,{"M","MN","E","en"},'برنامه فروردین'!$G$3:$AK$3,""))} -> 0 | P21: ='برنامه فروردین'!AN22 -> 0 | Q21: =Q20 -> 27
B22: 19 | C22: ='برنامه فروردین'!F23 | D22: =IF(OR(H22="",H22=" "),"",SUM((Q22:Q46)-(J22:J46+K22:K46))*7.333) | E22: =IF(G22>F22,IF(OR(H22="",H22=" "),G22,IFERROR(($G$4:$G$28-$F$4:$F$28),"")),"") | F22: =IFERROR(($H$4:$H$28/6)*(($Q$4:$Q$28)-($J$4:$J$28+$K$4:$K$28)),"") | G22: =IF(OR(H22=44,H22=""),(('کارکرد '!P22*تنظیمات!$O$10)+('کارکرد '!O22*تنظیمات!$O$8)+('کارکرد '!N22*تنظیمات!$O$8)+('کارکرد '!M22*(تنظیمات!$O$8+تنظیمات!$O$9))+('کارکرد '!L22*(تنظیمات!$O$8+تنظیمات!$O$9))+'کارکرد '!I22),('کارکرد '!P22*تنظیمات!$O$10*1.5)+('کارکرد '!O22*تنظیمات!$O$8)+('کارکرد '!N22*تنظیمات!$O$8*1.5)+('کارکرد '!M22*(تنظیمات!$O$8+تنظیمات!$O$9))+('کارکرد '!L22*(تنظیمات!$O$8+تنظیمات!$O$9)*1.5)+'کارکرد '!I22) -> 0 | H22: =IFERROR(INDEX(دیتا!$K$2:$T$26,MATCH('کارکرد '!C22,دیتا!$K$2:$K$26,0),9),"") | J22: ='برنامه فروردین'!AP23 -> 0 | K22: ='برنامه فروردین'!AO23 -> 0 | L22: =COUNTIFS('برنامه فروردین'!G23:AK23,"=me",'برنامه فروردین'!G3:AK3,"<>") -> 0 | M22: =COUNTIFS('برنامه فروردین'!G23:AK23,"=me",'برنامه فروردین'!G3:AK3,"") -> 0 | N22: {=SUM(COUNTIFS('برنامه فروردین'!G23:AK23,{"M","MN","E","en"},'برنامه فروردین'!$G$3:$AK$3,"<>"))} -> 0 | O22: {=SUM(COUNTIFS('برنامه فروردین'!G23:AK23,{"M","MN","E","en"},'برنامه فروردین'!$G$3:$AK$3,""))} -> 0 | P22: ='برنامه فروردین'!AN23 -> 0 | Q22: =Q21 -> 27
B23: 20 | C23: ='برنامه فروردین'!F24 | D23: =IF(OR(H23="",H23=" "),"",SUM((Q23:Q47)-(J23:J47+K23:K47))*7.333) | E23: =IF(G23>F23,IF(OR(H23="",H23=" "),G23,IFERROR(($G$4:$G$28-$F$4:$F$28),"")),"") | F23: =IFERROR(($H$4:$H$28/6)*(($Q$4:$Q$28)-($J$4:$J$28+$K$4:$K$28)),"") | G23: =IF(OR(H23=44,H23=""),(('کارکرد '!P23*تنظیمات!$O$10)+('کارکرد '!O23*تنظیمات!$O$8)+('کارکرد '!N23*تنظیمات!$O$8)+('کارکرد '!M23*(تنظیمات!$O$8+تنظیمات!$O$9))+('کارکرد '!L23*(تنظیمات!$O$8+تنظیمات!$O$9))+'کارکرد '!I23),('کارکرد '!P23*تنظیمات!$O$10*1.5)+('کارکرد '!O23*تنظیمات!$O$8)+('کارکرد '!N23*تنظیمات!$O$8*1.5)+('کارکرد '!M23*(تنظیمات!$O$8+تنظیمات!$O$9))+('کارکرد '!L23*(تنظیمات!$O$8+تنظیمات!$O$9)*1.5)+'کارکرد '!I23) -> 0 | H23: =IFERROR(INDEX(دیتا!$K$2:$T$26,MATCH('کارکرد '!C23,دیتا!$K$2:$K$26,0),9),"") | J23: ='برنامه فروردین'!AP24 -> 0 | K23: ='برنامه فروردین'!AO24 -> 0 | L23: =COUNTIFS('برنامه فروردین'!G24:AK24,"=me",'برنامه فروردین'!G3:AK3,"<>") -> 0 | M23: =COUNTIFS('برنامه فروردین'!G24:AK24,"=me",'برنامه فروردین'!G3:AK3,"") -> 0 | N23: {=SUM(COUNTIFS('برنامه فروردین'!G24:AK24,{"M","MN","E","en"},'برنامه فروردین'!$G$3:$AK$3,"<>"))} -> 0 | O23: {=SUM(COUNTIFS('برنامه فروردین'!G24:AK24,{"M","MN","E","en"},'برنامه فروردین'!$G$3:$AK$3,""))} -> 0 | P23: ='برنامه فروردین'!AN24 -> 0 | Q23: =Q22 -> 27
B24: 21 | C24: ='برنامه فروردین'!F25 | D24: =IF(OR(H24="",H24=" "),"",SUM((Q24:Q48)-(J24:J48+K24:K48))*7.333) | E24: =IF(G24>F24,IF(OR(H24="",H24=" "),G24,IFERROR(($G$4:$G$28-$F$4:$F$28),"")),"") | F24: =IFERROR(($H$4:$H$28/6)*(($Q$4:$Q$28)-($J$4:$J$28+$K$4:$K$28)),"") | G24: =IF(OR(H24=44,H24=""),(('کارکرد '!P24*تنظیمات!$O$10)+('کارکرد '!O24*تنظیمات!$O$8)+('کارکرد '!N24*تنظیمات!$O$8)+('کارکرد '!M24*(تنظیمات!$O$8+تنظیمات!$O$9))+('کارکرد '!L24*(تنظیمات!$O$8+تنظیمات!$O$9))+'کارکرد '!I24),('کارکرد '!P24*تنظیمات!$O$10*1.5)+('کارکرد '!O24*تنظیمات!$O$8)+('کارکرد '!N24*تنظیمات!$O$8*1.5)+('کارکرد '!M24*(تنظیمات!$O$8+تنظیمات!$O$9))+('کارکرد '!L24*(تنظیمات!$O$8+تنظیمات!$O$9)*1.5)+'کارکرد '!I24) -> 0 | H24: =IFERROR(INDEX(دیتا!$K$2:$T$26,MATCH('کارکرد '!C24,دیتا!$K$2:$K$26,0),9),"") | J24: ='برنامه فروردین'!AP25 -> 0 | K24: ='برنامه فروردین'!AO25 -> 0 | L24: =COUNTIFS('برنامه فروردین'!G25:AK25,"=me",'برنامه فروردین'!G3:AK3,"<>") -> 0 | M24: =COUNTIFS('برنامه فروردین'!G25:AK25,"=me",'برنامه فروردین'!G3:AK3,"") -> 0 | N24: {=SUM(COUNTIFS('برنامه فروردین'!G25:AK25,{"M","MN","E","en"},'برنامه فروردین'!$G$3:$AK$3,"<>"))} -> 0 | O24: {=SUM(COUNTIFS('برنامه فروردین'!G25:AK25,{"M","MN","E","en"},'برنامه فروردین'!$G$3:$AK$3,""))} -> 0 | P24: ='برنامه فروردین'!AN25 -> 0 | Q24: =Q23 -> 27
B25: 22 | C25: ='برنامه فروردین'!F26 | D25: =IF(OR(H25="",H25=" "),"",SUM((Q25:Q49)-(J25:J49+K25:K49))*7.333) | E25: =IF(G25>F25,IF(OR(H25="",H25=" "),G25,IFERROR(($G$4:$G$28-$F$4:$F$28),"")),"") | F25: =IFERROR(($H$4:$H$28/6)*(($Q$4:$Q$28)-($J$4:$J$28+$K$4:$K$28)),"") | G25: =IF(OR(H25=44,H25=""),(('کارکرد '!P25*تنظیمات!$O$10)+('کارکرد '!O25*تنظیمات!$O$8)+('کارکرد '!N25*تنظیمات!$O$8)+('کارکرد '!M25*(تنظیمات!$O$8+تنظیمات!$O$9))+('کارکرد '!L25*(تنظیمات!$O$8+تنظیمات!$O$9))+'کارکرد '!I25),('کارکرد '!P25*تنظیمات!$O$10*1.5)+('کارکرد '!O25*تنظیمات!$O$8)+('کارکرد '!N25*تنظیمات!$O$8*1.5)+('کارکرد '!M25*(تنظیمات!$O$8+تنظیمات!$O$9))+('کارکرد '!L25*(تنظیمات!$O$8+تنظیمات!$O$9)*1.5)+'کارکرد '!I25) -> 0 | H25: =IFERROR(INDEX(دیتا!$K$2:$T$26,MATCH('کارکرد '!C25,دیتا!$K$2:$K$26,0),9),"") | J25: ='برنامه فروردین'!AP26 -> 0 | K25: ='برنامه فروردین'!AO26 -> 0 | L25: =COUNTIFS('برنامه فروردین'!G26:AK26,"=me",'برنامه فروردین'!G3:AK3,"<>") -> 0 | M25: =COUNTIFS('برنامه فروردین'!G26:AK26,"=me",'برنامه فروردین'!G3:AK3,"") -> 0 | N25: {=SUM(COUNTIFS('برنامه فروردین'!G26:AK26,{"M","MN","E","en"},'برنامه فروردین'!$G$3:$AK$3,"<>"))} -> 0 | O25: {=SUM(COUNTIFS('برنامه فروردین'!G26:AK26,{"M","MN","E","en"},'برنامه فروردین'!$G$3:$AK$3,""))} -> 0 | P25: ='برنامه فروردین'!AN26 -> 0 | Q25: =Q24 -> 27
B26: 23 | C26: ='برنامه فروردین'!F27 | D26: =IF(OR(H26="",H26=" "),"",SUM((Q26:Q50)-(J26:J50+K26:K50))*7.333) | E26: =IF(G26>F26,IF(OR(H26="",H26=" "),G26,IFERROR(($G$4:$G$28-$F$4:$F$28),"")),"") | F26: =IFERROR(($H$4:$H$28/6)*(($Q$4:$Q$28)-($J$4:$J$28+$K$4:$K$28)),"") | G26: =IF(OR(H26=44,H26=""),(('کارکرد '!P26*تنظیمات!$O$10)+('کارکرد '!O26*تنظیمات!$O$8)+('کارکرد '!N26*تنظیمات!$O$8)+('کارکرد '!M26*(تنظیمات!$O$8+تنظیمات!$O$9))+('کارکرد '!L26*(تنظیمات!$O$8+تنظیمات!$O$9))+'کارکرد '!I26),('کارکرد '!P26*تنظیمات!$O$10*1.5)+('کارکرد '!O26*تنظیمات!$O$8)+('کارکرد '!N26*تنظیمات!$O$8*1.5)+('کارکرد '!M26*(تنظیمات!$O$8+تنظیمات!$O$9))+('کارکرد '!L26*(تنظیمات!$O$8+تنظیمات!$O$9)*1.5)+'کارکرد '!I26) -> 0 | H26: =IFERROR(INDEX(دیتا!$K$2:$T$26,MATCH('کارکرد '!C26,دیتا!$K$2:$K$26,0),9),"") | J26: ='برنامه فروردین'!AP27 -> 0 | K26: ='برنامه فروردین'!AO27 -> 0 | L26: =COUNTIFS('برنامه فروردین'!G27:AK27,"=me",'برنامه فروردین'!G3:AK3,"<>") -> 0 | M26: =COUNTIFS('برنامه فروردین'!G27:AK27,"=me",'برنامه فروردین'!G3:AK3,"") -> 0 | N26: {=SUM(COUNTIFS('برنامه فروردین'!G27:AK27,{"M","MN","E","en"},'برنامه فروردین'!$G$3:$AK$3,"<>"))} -> 0 | O26: {=SUM(COUNTIFS('برنامه فروردین'!G27:AK27,{"M","MN","E","en"},'برنامه فروردین'!$G$3:$AK$3,""))} -> 0 | P26: ='برنامه فروردین'!AN27 -> 0 | Q26: =Q25 -> 27
B27: 24 | C27: ='برنامه فروردین'!F28 | D27: =IF(OR(H27="",H27=" "),"",SUM((Q27:Q51)-(J27:J51+K27:K51))*7.333) | E27: =IF(G27>F27,IF(OR(H27="",H27=" "),G27,IFERROR(($G$4:$G$28-$F$4:$F$28),"")),"") | F27: =IFERROR(($H$4:$H$28/6)*(($Q$4:$Q$28)-($J$4:$J$28+$K$4:$K$28)),"") | G27: =IF(OR(H27=44,H27=""),(('کارکرد '!P27*تنظیمات!$O$10)+('کارکرد '!O27*تنظیمات!$O$8)+('کارکرد '!N27*تنظیمات!$O$8)+('کارکرد '!M27*(تنظیمات!$O$8+تنظیمات!$O$9))+('کارکرد '!L27*(تنظیمات!$O$8+تنظیمات!$O$9))+'کارکرد '!I27),('کارکرد '!P27*تنظیمات!$O$10*1.5)+('کارکرد '!O27*تنظیمات!$O$8)+('کارکرد '!N27*تنظیمات!$O$8*1.5)+('کارکرد '!M27*(تنظیمات!$O$8+تنظیمات!$O$9))+('کارکرد '!L27*(تنظیمات!$O$8+تنظیمات!$O$9)*1.5)+'کارکرد '!I27) -> 0 | H27: =IFERROR(INDEX(دیتا!$K$2:$T$26,MATCH('کارکرد '!C27,دیتا!$K$2:$K$26,0),9),"") | J27: ='برنامه فروردین'!AP28 -> 0 | K27: ='برنامه فروردین'!AO28 -> 0 | L27: =COUNTIFS('برنامه فروردین'!G28:AK28,"=me",'برنامه فروردین'!G3:AK3,"<>") -> 0 | M27: =COUNTIFS('برنامه فروردین'!G28:AK28,"=me",'برنامه فروردین'!G3:AK3,"") -> 0 | N27: {=SUM(COUNTIFS('برنامه فروردین'!G28:AK28,{"M","MN","E","en"},'برنامه فروردین'!$G$3:$AK$3,"<>"))} -> 0 | O27: {=SUM(COUNTIFS('برنامه فروردین'!G28:AK28,{"M","MN","E","en"},'برنامه فروردین'!$G$3:$AK$3,""))} -> 0 | P27: ='برنامه فروردین'!AN28 -> 0 | Q27: =Q26 -> 27
B28: 25 | C28: ='برنامه فروردین'!F29 | D28: =IF(OR(H28="",H28=" "),"",SUM((Q28:Q52)-(J28:J52+K28:K52))*7.333) | E28: =IF(G28>F28,IF(OR(H28="",H28=" "),G28,IFERROR(($G$4:$G$28-$F$4:$F$28),"")),"") | F28: =IFERROR(($H$4:$H$28/6)*(($Q$4:$Q$28)-($J$4:$J$28+$K$4:$K$28)),"") | G28: =IF(OR(H28=44,H28=""),(('کارکرد '!P28*تنظیمات!$O$10)+('کارکرد '!O28*تنظیمات!$O$8)+('کارکرد '!N28*تنظیمات!$O$8)+('کارکرد '!M28*(تنظیمات!$O$8+تنظیمات!$O$9))+('کارکرد '!L28*(تنظیمات!$O$8+تنظیمات!$O$9))+'کارکرد '!I28),('کارکرد '!P28*تنظیمات!$O$10*1.5)+('کارکرد '!O28*تنظیمات!$O$8)+('کارکرد '!N28*تنظیمات!$O$8*1.5)+('کارکرد '!M28*(تنظیمات!$O$8+تنظیمات!$O$9))+('کارکرد '!L28*(تنظیمات!$O$8+تنظیمات!$O$9)*1.5)+'کارکرد '!I28) -> 0 | H28: =IFERROR(INDEX(دیتا!$K$2:$T$26,MATCH('کارکرد '!C28,دیتا!$K$2:$K$26,0),9),"") | J28: ='برنامه فروردین'!AP29 -> 0 | K28: ='برنامه فروردین'!AO29 -> 0 | L28: =COUNTIFS('برنامه فروردین'!G29:AK29,"=me",'برنامه فروردین'!G3:AK3,"<>") -> 0 | M28: =COUNTIFS('برنامه فروردین'!G29:AK29,"=me",'برنامه فروردین'!G3:AK3,"") -> 0 | N28: {=SUM(COUNTIFS('برنامه فروردین'!G29:AK29,{"M","MN","E","en"},'برنامه فروردین'!$G$3:$AK$3,"<>"))} -> 0 | O28: {=SUM(COUNTIFS('برنامه فروردین'!G29:AK29,{"M","MN","E","en"},'برنامه فروردین'!$G$3:$AK$3,""))} -> 0 | P28: ='برنامه فروردین'!AN29 -> 0 | Q28: =Q27 -> 27
B29: ± | C29: مجموع | D29: =SUM(D4:D28) -> 975.289 | E29: =IF(G29>F29,IF(OR(H29="",H29=" "),G29,IFERROR(($G$4:$G$28-$F$4:$F$28),"")),"") | F29: =SUM(F4:F28) -> 909.33333 | G29: =SUM(G4:G28) -> 879 | H29: =SUM(H4:H28) -> 205 | I29: =SUM(I4:I28) -> 0 | J29: =SUM(J4:J28) -> 0 | K29: =SUM(K4:K28) -> 2 | L29: =SUM(L4:L28) -> 0 | M29: =SUM(M4:M28) -> 3 | ... P29: =SUM(P4:P28) -> 31
B30: کل نیرو های بخش | D30: سرانه اضافه کار | F30: میانگین موظف در هفته | H30: کل اضافه کار نیروهای بخش | M30: مهر و امضا مسئول بخش
B31: =COUNTIF(F4:F28,">85") -> 5 | D31: =H31/B31 -> 4.2833333 | F31: =AVERAGE(H4:H28) -> 41 | H31: =SUMIF(F4:F28,">85",E4:E28) -> 21.416667
A34: ="مسئول کارگزینی بیمارستان: "&تنظیمات!O18 -> مسئول کارگزینی بیمارستان: | F34: ="مدیر بیمارستان: "&تنظیمات!O16 -> مدیر بیمارستان: | K34: ="رییس بیمارستان: "&تنظیمات!O15 -> رییس بیمارستان:
R35: طراح :س . رحیمی

Sheet مبالغ
F2: دانشگاه علوم پزشکی خراسان شمالی
F3: =تنظیمات!F2 -> مرکز آموزشی پژوهشی درمانی بیمارستان بنت الهدی
G4: ="مبالغ پرداختی جزء حرفه ای و اضافه کار "&'برنامه شیفت'!V7 -> مبالغ پرداختی جزء حرفه ای و اضافه کار فروردین ماه 1403
C5: ردیف | D5: نام و نام خانوادگی | E5: مدرک تحصیلی | F5: سابقه کاری | G5: نوع استخدام | H5: تعهد تمام وقت | I5: کارکرد | J5: موظف | K5: غیرموظف | L5: جزء حرفه محاسبه شده ماه | M5: جزء حرفه ای قاصدک | N5: مبلغ اضافه کار | O5: کل دریافتی
C6: 1 | D6: ='برنامه فروردین'!F5 | E6: ='برنامه فروردین'!C5 | F6: =IF(OR('برنامه فروردین'!D5<>"",'برنامه فروردین'!E5<>""),'برنامه فروردین'!D5&" سال "&'برنامه فروردین'!E5&" ماه ","") | G6: ='برنامه فروردین'!B5 | H6: =IFERROR(INDEX(دیتا!$K$2:$R$26,MATCH(مبالغ!D6,دیتا!$K$2:$K$26,0),8),"") -> 0 | I6: ='کارکرد '!G4 -> 0 | J6: ='کارکرد '!D4 | K6: ='کارکرد '!E4 | M6: =IFERROR(((L6/I6)*J6),"") | N6: =IFERROR(IF(AND(H6=دیتا!$T$3,G6<>دیتا!$I$2),مبالغ!K6*تنظیمات!$O$12,IF(مبالغ!G6=دیتا!$I$2,مبالغ!I6*تنظیمات!$O$13,IF(مبالغ!G6=دیتا!$I$3,K6*تنظیمات!$O$12,IF(K6>60,(K6-60)*تنظیمات!$O$12,"")))),"") | O6: =IFERROR((N6+M6),"")
C7: 2 | D7: ='برنامه فروردین'!F6 -> دکتر علی | E7: ='برنامه فروردین'!C6 -> دکتری عمومی | F7: =IF(OR('برنامه فروردین'!D6<>"",'برنامه فروردین'!E6<>""),'برنامه فروردین'!D6&" سال "&'برنامه فروردین'!E6&" ماه ","") -> 17 سال 2 ماه | G7: ='برنامه فروردین'!B6 -> رسمی | H7: =IFERROR(INDEX(دیتا!$K$2:$R$26,MATCH(مبالغ!D7,دیتا!$K$2:$K$26,0),8),"") -> ❌ | I7: ='کارکرد '!G5 -> 168 | J7: ='کارکرد '!D5 -> 197.991 | K7: ='کارکرد '!E5 | M7: =IFERROR(((L7/I7)*J7),"") -> 0 | N7: =IFERROR(IF(AND(H7=دیتا!$T$3,G7<>دیتا!$I$2),مبالغ!K7*تنظیمات!$O$12,IF(مبالغ!G7=دیتا!$I$2,مبالغ!I7*تنظیمات!$O$13,IF(مبالغ!G7=دیتا!$I$3,K7*تنظیمات!$O$12,IF(K7>60,(K7-60)*تنظیمات!$O$12,"")))),"") | O7: =IFERROR((N7+M7),"")
C8: 3 | D8: ='برنامه فروردین'!F7 -> دکتر خالد | E8: ='برنامه فروردین'!C7 -> دکتری عمومی | F8: =IF(OR('برنامه فروردین'!D7<>"",'برنامه فروردین'!E7<>""),'برنامه فروردین'!D7&" سال "&'برنامه فروردین'!E7&" ماه ","") -> 5 سال 4 ماه | G8: ='برنامه فروردین'!B7 -> پیمانی | H8: =IFERROR(INDEX(دیتا!$K$2:$R$26,MATCH(مبالغ!D8,دیتا!$K$2:$K$26,0),8),"") -> ✔ | I8: ='کارکرد '!G6 -> 186 | J8: ='کارکرد '!D6 -> 183.325 | K8: ='کارکرد '!E6 -> 21.416667 | M8: =IFERROR(((L8/I8)*J8),"") | N8: =IFERROR(IF(AND(H8=دیتا!$T$3,G8<>دیتا!$I$2),مبالغ!K8*تنظیمات!$O$12,IF(مبالغ!G8=دیتا!$I$2,مبالغ!I8*تنظیمات!$O$13,IF(مبالغ!G8=دیتا!$I$3,K8*تنظیمات!$O$12,IF(K8>60,(K8-60)*تنظیمات!$O$12,"")))),"") | O8: =IFERROR((N8+M8),"")
C9: 4 | D9: ='برنامه فروردین'!F8 | E9: ='برنامه فروردین'!C8 | F9: =IF(OR('برنامه فروردین'!D8<>"",'برنامه فروردین'!E8<>""),'برنامه فروردین'!D8&" سال "&'برنامه فروردین'!E8&" ماه ","") | G9: ='برنامه فروردین'!B8 | H9: =IFERROR(INDEX(دیتا!$K$2:$R$26,MATCH(مبالغ!D9,دیتا!$K$2:$K$26,0),8),"") -> 0 | I9: ='کارکرد '!G7 -> 0 | J9: ='کارکرد '!D7 | K9: ='کارکرد '!E7 | M9: =IFERROR(((L9/I9)*J9),"") | N9: =IFERROR(IF(AND(H9=دیتا!$T$3,G9<>دیتا!$I$2),مبالغ!K9*تنظیمات!$O$12,IF(مبالغ!G9=دیتا!$I$2,مبالغ!I9*تنظیمات!$O$13,IF(مبالغ!G9=دیتا!$I$3,K9*تنظیمات!$O$12,IF(K9>60,(K9-60)*تنظیمات!$O$12,"")))),"") | O9: =IFERROR((N9+M9),"")
C10: 5 | D10: ='برنامه فروردین'!F9 | E10: ='برنامه فروردین'!C9 | F10: =IF(OR('برنامه فروردین'!D9<>"",'برنامه فروردین'!E9<>""),'برنامه فروردین'!D9&" سال "&'برنامه فروردین'!E9&" ماه ","") | G10: ='برنامه فروردین'!B9 | H10: =IFERROR(INDEX(دیتا!$K$2:$R$26,MATCH(مبالغ!D10,دیتا!$K$2:$K$26,0),8),"") -> 0 | I10: ='کارکرد '!G8 -> 6 | J10: ='کارکرد '!D8 | K10: ='کارکرد '!E8 | M10: =IFERROR(((L10/I10)*J10),"") | N10: =IFERROR(IF(AND(H10=دیتا!$T$3,G10<>دیتا!$I$2),مبالغ!K10*تنظیمات!$O$12,IF(مبالغ!G10=دیتا!$I$2,مبالغ!I10*تنظیمات!$O$13,IF(مبالغ!G10=دیتا!$I$3,K10*تنظیمات!$O$12,IF(K10>60,(K10-60)*تنظیمات!$O$12,"")))),"") | O10: =IFERROR((N10+M10),"")
C11: 6 | D11: ='برنامه فروردین'!F10 -> دکتر صبا | E11: ='برنامه فروردین'!C10 -> دکتری عمومی | F11: =IF(OR('برنامه فروردین'!D10<>"",'برنامه فروردین'!E10<>""),'برنامه فروردین'!D10&" سال "&'برنامه فروردین'!E10&" ماه ","") -> 0 سال 12 ماه | G11: ='برنامه فروردین'!B10 -> طرحی | H11: =IFERROR(INDEX(دیتا!$K$2:$R$26,MATCH(مبالغ!D11,دیتا!$K$2:$K$26,0),8),"") -> ✔ | I11: ='کارکرد '!G9 -> 165 | J11: ='کارکرد '!D9 -> 197.991 | K11: ='کارکرد '!E9 | M11: =IFERROR(((L11/I11)*J11),"") -> 0 | N11: =IFERROR(IF(AND(H11=دیتا!$T$3,G11<>دیتا!$I$2),مبالغ!K11*تنظیمات!$O$12,IF(مبالغ!G11=دیتا!$I$2,مبالغ!I11*تنظیمات!$O$13,IF(مبالغ!G11=دیتا!$I$3,K11*تنظیمات!$O$12,IF(K11>60,(K11-60)*تنظیمات!$O$12,"")))),"") | O11: =IFERROR((N11+M11),"")
C12: 7 | D12: ='برنامه فروردین'!F11 -> دکتر لیلا | E12: ='برنامه فروردین'!C11 -> دکتری عمومی | F12: =IF(OR('برنامه فروردین'!D11<>"",'برنامه فروردین'!E11<>""),'برنامه فروردین'!D11&" سال "&'برنامه فروردین'!E11&" ماه ","") -> 0 سال 7 ماه | G12: ='برنامه فروردین'!B11 -> تفاهمی | H12: =IFERROR(INDEX(دیتا!$K$2:$R$26,MATCH(مبالغ!D12,دیتا!$K$2:$K$26,0),8),"") -> ❌ | I12: ='کارکرد '!G10 -> 0 | J12: ='کارکرد '!D10 | K12: ='کارکرد '!E10 | M12: =IFERROR(((L12/I12)*J12),"") | N12: =IFERROR(IF(AND(H12=دیتا!$T$3,G12<>دیتا!$I$2),مبالغ!K12*تنظیمات!$O$12,IF(مبالغ!G12=دیتا!$I$2,مبالغ!I12*تنظیمات!$O$13,IF(مبالغ!G12=دیتا!$I$3,K12*تنظیمات!$O$12,IF(K12>60,(K12-60)*تنظیمات!$O$12,"")))),"") -> 0 | O12: =IFERROR((N12+M12),"")
C13: 8 | D13: ='برنامه فروردین'!F12 -> دکتر محسن | E13: ='برنامه فروردین'!C12 -> دکتری عمومی | F13: =IF(OR('برنامه فروردین'!D12<>"",'برنامه فروردین'!E12<>""),'برنامه فروردین'!D12&" سال "&'برنامه فروردین'!E12&" ماه ","") -> 0 سال 6 ماه | G13: ='برنامه فروردین'!B12 -> طرحی | H13: =IFERROR(INDEX(دیتا!$K$2:$R$26,MATCH(مبالغ!D13,دیتا!$K$2:$K$26,0),8),"") -> ✔ | I13: ='کارکرد '!G11 -> 174 | J13: ='کارکرد '!D11 -> 197.991 | K13: ='کارکرد '!E11 | M13: =IFERROR(((L13/I13)*J13),"") -> 0 | N13: =IFERROR(IF(AND(H13=دیتا!$T$3,G13<>دیتا!$I$2),مبالغ!K13*تنظیمات!$O$12,IF(مبالغ!G13=دیتا!$I$2,مبالغ!I13*تنظیمات!$O$13,IF(مبالغ!G13=دیتا!$I$3,K13*تنظیمات!$O$12,IF(K13>60,(K13-60)*تنظیمات!$O$12,"")))),"") | O13: =IFERROR((N13+M13),"")
C14: 9 | D14: ='برنامه فروردین'!F13 | E14: ='برنامه فروردین'!C13 | F14: =IF(OR('برنامه فروردین'!D13<>"",'برنامه فروردین'!E13<>""),'برنامه فروردین'!D13&" سال "&'برنامه فروردین'!E13&" ماه ","") | G14: ='برنامه فروردین'!B13 | H14: =IFERROR(INDEX(دیتا!$K$2:$R$26,MATCH(مبالغ!D14,دیتا!$K$2:$K$26,0),8),"") -> 0 | I14: ='کارکرد '!G12 -> 54 | J14: ='کارکرد '!D12 | K14: ='کارکرد '!E12 | M14: =IFERROR(((L14/I14)*J14),"") | N14: =IFERROR(IF(AND(H14=دیتا!$T$3,G14<>دیتا!$I$2),مبالغ!K14*تنظیمات!$O$12,IF(مبالغ!G14=دیتا!$I$2,مبالغ!I14*تنظیمات!$O$13,IF(مبالغ!G14=دیتا!$I$3,K14*تنظیمات!$O$12,IF(K14>60,(K14-60)*تنظیمات!$O$12,"")))),"") | O14: =IFERROR((N14+M14),"")
C15: 10 | D15: ='برنامه فروردین'!F14 | E15: ='برنامه فروردین'!C14 | F15: =IF(OR('برنامه فروردین'!D14<>"",'برنامه فروردین'!E14<>""),'برنامه فروردین'!D14&" سال "&'برنامه فروردین'!E14&" ماه ","") | G15: ='برنامه فروردین'!B14 | H15: =IFERROR(INDEX(دیتا!$K$2:$R$26,MATCH(مبالغ!D15,دیتا!$K$2:$K$26,0),8),"") -> 0 | I15: ='کارکرد '!G13 -> 126 | J15: ='کارکرد '!D13 | K15: ='کارکرد '!E13 | M15: =IFERROR(((L15/I15)*J15),"") | N15: =IFERROR(IF(AND(H15=دیتا!$T$3,G15<>دیتا!$I$2),مبالغ!K15*تنظیمات!$O$12,IF(مبالغ!G15=دیتا!$I$2,مبالغ!I15*تنظیمات!$O$13,IF(مبالغ!G15=دیتا!$I$3,K15*تنظیمات!$O$12,IF(K15>60,(K15-60)*تنظیمات!$O$12,"")))),"") | O15: =IFERROR((N15+M15),"")
C16: 11 | D16: ='برنامه فروردین'!F15 -> دکتر عاطفه | E16: ='برنامه فروردین'!C15 -> دکتری عمومی | F16: =IF(OR('برنامه فروردین'!D15<>"",'برنامه فروردین'!E15<>""),'برنامه فروردین'!D15&" سال "&'برنامه فروردین'!E15&" ماه ","") -> 0 سال 0 ماه | G16: ='برنامه فروردین'!B15 -> قراردادی | H16: =IFERROR(INDEX(دیتا!$K$2:$R$26,MATCH(مبالغ!D16,دیتا!$K$2:$K$26,0),8),"") -> ✔ | I16: ='کارکرد '!G14 -> 0 | J16: ='کارکرد '!D14 -> 197.991 | K16: ='کارکرد '!E14 | M16: =IFERROR(((L16/I16)*J16),"") | N16: =IFERROR(IF(AND(H16=دیتا!$T$3,G16<>دیتا!$I$2),مبالغ!K16*تنظیمات!$O$12,IF(مبالغ!G16=دیتا!$I$2,مبالغ!I16*تنظیمات!$O$13,IF(مبالغ!G16=دیتا!$I$3,K16*تنظیمات!$O$12,IF(K16>60,(K16-60)*تنظیمات!$O$12,"")))),"") | O16: =IFERROR((N16+M16),"")
C17: 12 | D17: ='برنامه فروردین'!F16 | E17: ='برنامه فروردین'!C16 | F17: =IF(OR('برنامه فروردین'!D16<>"",'برنامه فروردین'!E16<>""),'برنامه فروردین'!D16&" سال "&'برنامه فروردین'!E16&" ماه ","") | G17: ='برنامه فروردین'!B16 | H17: =IFERROR(INDEX(دیتا!$K$2:$R$26,MATCH(مبالغ!D17,دیتا!$K$2:$K$26,0),8),"") -> 0 | I17: ='کارکرد '!G15 -> 0 | J17: ='کارکرد '!D15 | K17: ='کارکرد '!E15 | M17: =IFERROR(((L17/I17)*J17),"") | N17: =IFERROR(IF(AND(H17=دیتا!$T$3,G17<>دیتا!$I$2),مبالغ!K17*تنظیمات!$O$12,IF(مبالغ!G17=دیتا!$I$2,مبالغ!I17*تنظیمات!$O$13,IF(مبالغ!G17=دیتا!$I$3,K17*تنظیمات!$O$12,IF(K17>60,(K17-60)*تنظیمات!$O$12,"")))),"") | O17: =IFERROR((N17+M17),"")
... C30: 25 | D30: ='برنامه فروردین'!F29 | E30: ='برنامه فروردین'!C29 | F30: =IF(OR('برنامه فروردین'!D29<>"",'برنامه فروردین'!E29<>""),'برنامه فروردین'!D29&" سال "&'برنامه فروردین'!E29&" ماه ","") | G30: ='برنامه فروردین'!B29 | H30: =IFERROR(INDEX(دیتا!$K$2:$R$26,MATCH(مبالغ!D30,دیتا!$K$2:$K$26,0),8),"") -> 0 | I30: ='کارکرد '!G28 -> 0 | J30: ='کارکرد '!D28 | K30: ='کارکرد '!E28 | M30: =IFERROR(((L30/I30)*J30),"") | N30: =IFERROR(IF(AND(H30=دیتا!$T$3,G30<>دیتا!$I$2),مبالغ!K30*تنظیمات!$O$12,IF(مبالغ!G30=دیتا!$I$2,مبالغ!I30*تنظیمات!$O$13,IF(مبالغ!G30=دیتا!$I$3,K30*تنظیمات!$O$12,IF(K30>60,(K30-60)*تنظیمات!$O$12,"")))),"") | O30: =IFERROR((N30+M30),"")
D32: رییس بیمارستان: | E32: مدیر بیمارستان: | G32: مسئول کارگزینی بیمارستان: | I32: مسئول امور مالی: | L32: تنظیم کننده : | N32: مسئول اقتصاد درمان معاونت:
D33: =تنظیمات!O15 -> 0 | E33: =تنظیمات!O16 -> 0 | G33: =تنظیمات!O18 -> 0 | I33: =تنظیمات!O17 -> 0 | L33: =تنظیمات!O20 -> 0 | N33: =تنظیمات!O21 -> 0

Sheet دیتا
A1: ماه ها | B1: سال | C1: اولین روز ماه | D1: روز های هفته | E1: سال | F1: انواع شیفت | G1: جنسیت | H1: مدرک تحصیلی | I1: نوع استخدام | J1: رتبه سابقه | K1: نام پزشک | L1: سابقه به ماه (برای ترتیب) | M1: سابقه به ماه | N1: کسر سابقه کار | O1: کسر سختی کار بخش | P1: کسر شیفت در گردش | Q1: استخدام | R1: تعهد | S1: موظف در هفته
A2: فروردین | B2: 1403 | C2: چهار شنبه | D2: شنبه | E2: 1401 | F2: … | G2: ♂ | H2: دکتری عمومی | I2: تفاهمی | J2: 1 | K2: =IF(تنظیمات!C8="","",تنظیمات!C8) | L2: =IF((IF(تنظیمات!E8=دیتا!$H$3,(((تنظیمات!F8)*12)+تنظیمات!G8)*100,(((تنظیمات!F8)*12)+تنظیمات!G8)))=0,0,IF(تنظیمات!E8=دیتا!$H$3,(((تنظیمات!F8)*12)+تنظیمات!G8)*100,(((تنظیمات!F8)*12)+تنظیمات!G8))) -> 0 | M2: =IF((IF(تنظیمات!E8=دیتا!$H$3,(((تنظیمات!F8)*12)+تنظیمات!G8)*1,(((تنظیمات!F8)*12)+تنظیمات!G8)))=0,0,IF(تنظیمات!E8=دیتا!$H$3,(((تنظیمات!F8)*12)+تنظیمات!G8)*1,(((تنظیمات!F8)*12)+تنظیمات!G8))) -> 0 | N2: =IF(K2="","",IF(M2<49,1,"")&IF(AND(M2>=49,M2<97),2,"")&IF(AND(M2>=97,M2<145),3,"")&IF(AND(M2>=145,M2<193),4,"")&IF(M2>=193,5,"")) | O2: =IF(K2="","",IF(OR(تنظیمات!$E$2=دیتا!$G$15,تنظیمات!$E$2=دیتا!$G$16,تنظیمات!$E$2=دیتا!$G$17,تنظیمات!$E$2=دیتا!$G$18,تنظیمات!$E$2=دیتا!$G$19,تنظیمات!$E$2=دیتا!$G$20,تنظیمات!$E$2=دیتا!$G$21),2,1.5)) | P2: =IF(K2="","",IF(تنظیمات!I8=دیتا!$T$2,1,0)) | Q2: =تنظیمات!J8 -> 0 | R2: =تنظیمات!H8 -> 0 | S2: =IF(AND(دیتا!Q2=دیتا!$I$2,دیتا!R2=دیتا!$T$2)," ",IF(AND(دیتا!Q2=دیتا!$I$2,دیتا!R2=دیتا!$T$3),"",IF(K2="","",IF(تنظیمات!H8=دیتا!$T$2,44-(N2+O2+P2),44)))) | T2: ✔
A3: اردیبهشت | B3: 1403 | C3: شنبه | D3: یکشنبه | E3: 1402 | F3: M | G3: ♀ | H3: متخصص طب اورژانس | I3: طرحی | J3: =IFERROR((IFERROR(RANK(L3,$L$3:$L$41,0)+COUNTIF($L$3:L3,L3)-1,"")+1),"") -> 4 | K3: =IF(تنظیمات!C9="","",تنظیمات!C9) | L3: =IF((IF(تنظیمات!E9=دیتا!$H$3,(((تنظیمات!F9)*12)+تنظیمات!G9)*100,(((تنظیمات!F9)*12)+تنظیمات!G9)))=0,0,IF(تنظیمات!E9=دیتا!$H$3,(((تنظیمات!F9)*12)+تنظیمات!G9)*100,(((تنظیمات!F9)*12)+تنظیمات!G9))) -> 20 | M3: =IF((IF(تنظیمات!E9=دیتا!$H$3,(((تنظیمات!F9)*12)+تنظیمات!G9)*1,(((تنظیمات!F9)*12)+تنظیمات!G9)))=0,0,IF(تنظیمات!E9=دیتا!$H$3,(((تنظیمات!F9)*12)+تنظیمات!G9)*1,(((تنظیمات!F9)*12)+تنظیمات!G9))) -> 20 | N3: =IF(K3="","",IF(M3<49,1,"")&IF(AND(M3>=49,M3<97),2,"")&IF(AND(M3>=97,M3<145),3,"")&IF(AND(M3>=145,M3<193),4,"")&IF(M3>=193,5,"")) | O3: =IF(K3="","",IF(OR(تنظیمات!$E$2=دیتا!$G$15,تنظیمات!$E$2=دیتا!$G$16,تنظیمات!$E$2=دیتا!$G$17,تنظیمات!$E$2=دیتا!$G$18,تنظیمات!$E$2=دیتا!$G$19,تنظیمات!$E$2=دیتا!$G$20,تنظیمات!$E$2=دیتا!$G$21),2,1.5)) | P3: =IF(K3="","",IF(تنظیمات!I9=دیتا!$T$2,1,0)) | Q3: =تنظیمات!J9 -> طرحی | R3: =تنظیمات!H9 -> ✔ | S3: =IF(AND(دیتا!Q3=دیتا!$I$2,دیتا!R3=دیتا!$T$2)," ",IF(AND(دیتا!Q3=دیتا!$I$2,دیتا!R3=دیتا!$T$3),"",IF(K3="","",IF(تنظیمات!H9=دیتا!$T$2,44-(N3+O3+P3),44)))) | T3: ❌
A4: خرداد | B4: 1403 | C4: سه شنبه | D4: دوشنبه | E4: 1403 | F4: E | I4: قراردادی | J4: =IFERROR((IFERROR(RANK(L4,$L$3:$L$41,0)+COUNTIF($L$3:L4,L4)-1,"")+1),"") -> 5 | K4: =IF(تنظیمات!C10="","",تنظیمات!C10) | L4: =IF((IF(تنظیمات!E10=دیتا!$H$3,(((تنظیمات!F10)*12)+تنظیمات!G10)*100,(((تنظیمات!F10)*12)+تنظیمات!G10)))=0,0,IF(تنظیمات!E10=دیتا!$H$3,(((تنظیمات!F10)*12)+تنظیمات!G10)*100,(((تنظیمات!F10)*12)+تنظیمات!G10))) -> 12 | M4: =IF((IF(تنظیمات!E10=دیتا!$H$3,(((تنظیمات!F10)*12)+تنظیمات!G10)*1,(((تنظیمات!F10)*12)+تنظیمات!G10)))=0,0,IF(تنظیمات!E10=دیتا!$H$3,(((تنظیمات!F10)*12)+تنظیمات!G10)*1,(((تنظیمات!F10)*12)+تنظیمات!G10))) -> 12 | N4: =IF(K4="","",IF(M4<49,1,"")&IF(AND(M4>=49,M4<97),2,"")&IF(AND(M4>=97,M4<145),3,"")&IF(AND(M4>=145,M4<193),4,"")&IF(M4>=193,5,"")) | O4: =IF(K4="","",IF(OR(تنظیمات!$E$2=دیتا!$G$15,تنظیمات!$E$2=دیتا!$G$16,تنظیمات!$E$2=دیتا!$G$17,تنظیمات!$E$2=دیتا!$G$18,تنظیمات!$E$2=دیتا!$G$19,تنظیمات!$E$2=دیتا!$G$20,تنظیمات!$E$2=دیتا!$G$21),2,1.5)) | P4: =IF(K4="","",IF(تنظیمات!I10=دیتا!$T$2,1,0)) | Q4: =تنظیمات!J10 -> طرحی | R4: =تنظیمات!H10 -> ✔ | S4: =IF(AND(دیتا!Q4=دیتا!$I$2,دیتا!R4=دیتا!$T$2)," ",IF(AND(دیتا!Q4=دیتا!$I$2,دیتا!R4=دیتا!$T$3),"",IF(K4="","",IF(تنظیمات!H10=دیتا!$T$2,44-(N4+O4+P4),44))))
A5: تیر | B5: 1403 | C5: جمعه | D5: سه شنبه | F5: N | I5: پیمانی | J5: =IFERROR((IFERROR(RANK(L5,$L$3:$L$41,0)+COUNTIF($L$3:L5,L5)-1,"")+1),"") -> 9 | K5: =IF(تنظیمات!C11="","",تنظیمات!C11) | L5: =IF((IF(تنظیمات!E11=دیتا!$H$3,(((تنظیمات!F11)*12)+تنظیمات!G11)*100,(((تنظیمات!F11)*12)+تنظیمات!G11)))=0,0,IF(تنظیمات!E11=دیتا!$H$3,(((تنظیمات!F11)*12)+تنظیمات!G11)*100,(((تنظیمات!F11)*12)+تنظیمات!G11))) -> 0 | M5: =IF((IF(تنظیمات!E11=دیتا!$H$3,(((تنظیمات!F11)*12)+تنظیمات!G11)*1,(((تنظیمات!F11)*12)+تنظیمات!G11)))=0,0,IF(تنظیمات!E11=دیتا!$H$3,(((تنظیمات!F11)*12)+تنظیمات!G11)*1,(((تنظیمات!F11)*12)+تنظیمات!G11))) -> 0 | N5: =IF(K5="","",IF(M5<49,1,"")&IF(AND(M5>=49,M5<97),2,"")&IF(AND(M5>=97,M5<145),3,"")&IF(AND(M5>=145,M5<193),4,"")&IF(M5>=193,5,"")) | O5: =IF(K5="","",IF(OR(تنظیمات!$E$2=دیتا!$G$15,تنظیمات!$E$2=دیتا!$G$16,تنظیمات!$E$2=دیتا!$G$17,تنظیمات!$E$2=دیتا!$G$18,تنظیمات!$E$2=دیتا!$G$19,تنظیمات!$E$2=دیتا!$G$20,تنظیمات!$E$2=دیتا!$G$21),2,1.5)) | P5: =IF(K5="","",IF(تنظیمات!I11=دیتا!$T$2,1,0)) | Q5: =تنظیمات!J11 -> تفاهمی | R5: =تنظیمات!H11 -> ❌ | S5: =IF(AND(دیتا!Q5=دیتا!$I$2,دیتا!R5=دیتا!$T$2)," ",IF(AND(دیتا!Q5=دیتا!$I$2,دیتا!R5=دیتا!$T$3),"",IF(K5="","",IF(تنظیمات!H11=دیتا!$T$2,44-(N5+O5+P5),44))))
A6: مرداد | B6: 1403 | C6: دوشنبه | D6: چهار شنبه | F6: ME | I6: رسمی | J6: =IFERROR((IFERROR(RANK(L6,$L$3:$L$41,0)+COUNTIF($L$3:L6,L6)-1,"")+1),"") -> 10 | K6: =IF(تنظیمات!C12="","",تنظیمات!C12) | L6: =IF((IF(تنظیمات!E12=دیتا!$H$3,(((تنظیمات!F12)*12)+تنظیمات!G12)*100,(((تنظیمات!F12)*12)+تنظیمات!G12)))=0,0,IF(تنظیمات!E12=دیتا!$H$3,(((تنظیمات!F12)*12)+تنظیمات!G12)*100,(((تنظیمات!F12)*12)+تنظیمات!G12))) -> 0 | M6: =IF((IF(تنظیمات!E12=دیتا!$H$3,(((تنظیمات!F12)*12)+تنظیمات!G12)*1,(((تنظیمات!F12)*12)+تنظیمات!G12)))=0,0,IF(تنظیمات!E12=دیتا!$H$3,(((تنظیمات!F12)*12)+تنظیمات!G12)*1,(((تنظیمات!F12)*12)+تنظیمات!G12))) -> 0 | N6: =IF(K6="","",IF(M6<49,1,"")&IF(AND(M6>=49,M6<97),2,"")&IF(AND(M6>=97,M6<145),3,"")&IF(AND(M6>=145,M6<193),4,"")&IF(M6>=193,5,"")) | O6: =IF(K6="","",IF(OR(تنظیمات!$E$2=دیتا!$G$15,تنظیمات!$E$2=دیتا!$G$16,تنظیمات!$E$2=دیتا!$G$17,تنظیمات!$E$2=دیتا!$G$18,تنظیمات!$E$2=دیتا!$G$19,تنظیمات!$E$2=دیتا!$G$20,تنظیمات!$E$2=دیتا!$G$21),2,1.5)) | P6: =IF(K6="","",IF(تنظیمات!I12=دیتا!$T$2,1,0)) | Q6: =تنظیمات!J12 -> تفاهمی | R6: =تنظیمات!H12 -> ✔ | S6: =IF(AND(دیتا!Q6=دیتا!$I$2,دیتا!R6=دیتا!$T$2)," ",IF(AND(دیتا!Q6=دیتا!$I$2,دیتا!R6=دیتا!$T$3),"",IF(K6="","",IF(تنظیمات!H12=دیتا!$T$2,44-(N6+O6+P6),44))))
A7: شهریور | B7: 1403 | C7: پنج شنبه | D7: پنج شنبه | F7: MN | J7: =IFERROR((IFERROR(RANK(L7,$L$3:$L$41,0)+COUNTIF($L$3:L7,L7)-1,"")+1),"") -> 2 | K7: =IF(تنظیمات!C13="","",تنظیمات!C13) -> دکتر علی | L7: =IF((IF(تنظیمات!E13=دیتا!$H$3,(((تنظیمات!F13)*12)+تنظیمات!G13)*100,(((تنظیمات!F13)*12)+تنظیمات!G13)))=0,0,IF(تنظیمات!E13=دیتا!$H$3,(((تنظیمات!F13)*12)+تنظیمات!G13)*100,(((تنظیمات!F13)*12)+تنظیمات!G13))) -> 206 | M7: =IF((IF(تنظیمات!E13=دیتا!$H$3,(((تنظیمات!F13)*12)+تنظیمات!G13)*1,(((تنظیمات!F13)*12)+تنظیمات!G13)))=0,0,IF(تنظیمات!E13=دیتا!$H$3,(((تنظیمات!F13)*12)+تنظیمات!G13)*1,(((تنظیمات!F13)*12)+تنظیمات!G13))) -> 206 | N7: =IF(K7="","",IF(M7<49,1,"")&IF(AND(M7>=49,M7<97),2,"")&IF(AND(M7>=97,M7<145),3,"")&IF(AND(M7>=145,M7<193),4,"")&IF(M7>=193,5,"")) -> 5 | O7: =IF(K7="","",IF(OR(تنظیمات!$E$2=دیتا!$G$15,تنظیمات!$E$2=دیتا!$G$16,تنظیمات!$E$2=دیتا!$G$17,تنظیمات!$E$2=دیتا!$G$18,تنظیمات!$E$2=دیتا!$G$19,تنظیمات!$E$2=دیتا!$G$20,تنظیمات!$E$2=دیتا!$G$21),2,1.5)) -> 1.5 | P7: =IF(K7="","",IF(تنظیمات!I13=دیتا!$T$2,1,0)) -> 1 | Q7: =تنظیمات!J13 -> رسمی | R7: =تنظیمات!H13 -> ❌ | S7: =IF(AND(دیتا!Q7=دیتا!$I$2,دیتا!R7=دیتا!$T$2)," ",IF(AND(دیتا!Q7=دیتا!$I$2,دیتا!R7=دیتا!$T$3),"",IF(K7="","",IF(تنظیمات!H13=دیتا!$T$2,44-(N7+O7+P7),44)))) -> 44
A8: مهر | B8: 1403 | C8: یکشنبه | D8: جمعه | F8: EN | J8: =IFERROR((IFERROR(RANK(L8,$L$3:$L$41,0)+COUNTIF($L$3:L8,L8)-1,"")+1),"") -> 6 | K8: =IF(تنظیمات!C14="","",تنظیمات!C14) -> دکتر صبا | L8: =IF((IF(تنظیمات!E14=دیتا!$H$3,(((تنظیمات!F14)*12)+تنظیمات!G14)*100,(((تنظیمات!F14)*12)+تنظیمات!G14)))=0,0,IF(تنظیمات!E14=دیتا!$H$3,(((تنظیمات!F14)*12)+تنظیمات!G14)*100,(((تنظیمات!F14)*12)+تنظیمات!G14))) -> 12 | M8: =IF((IF(تنظیمات!E14=دیتا!$H$3,(((تنظیمات!F14)*12)+تنظیمات!G14)*1,(((تنظیمات!F14)*12)+تنظیمات!G14)))=0,0,IF(تنظیمات!E14=دیتا!$H$3,(((تنظیمات!F14)*12)+تنظیمات!G14)*1,(((تنظیمات!F14)*12)+تنظیمات!G14))) -> 12 | N8: =IF(K8="","",IF(M8<49,1,"")&IF(AND(M8>=49,M8<97),2,"")&IF(AND(M8>=97,M8<145),3,"")&IF(AND(M8>=145,M8<193),4,"")&IF(M8>=193,5,"")) -> 1 | O8: =IF(K8="","",IF(OR(تنظیمات!$E$2=دیتا!$G$15,تنظیمات!$E$2=دیتا!$G$16,تنظیمات!$E$2=دیتا!$G$17,تنظیمات!$E$2=دیتا!$G$18,تنظیمات!$E$2=دیتا!$G$19,تنظیمات!$E$2=دیتا!$G$20,تنظیمات!$E$2=دیتا!$G$21),2,1.5)) -> 1.5 | P8: =IF(K8="","",IF(تنظیمات!I14=دیتا!$T$2,1,0)) -> 1 | Q8: =تنظیمات!J14 -> طرحی | R8: =تنظیمات!H14 -> ✔ | S8: =IF(AND(دیتا!Q8=دیتا!$I$2,دیتا!R8=دیتا!$T$2)," ",IF(AND(دیتا!Q8=دیتا!$I$2,دیتا!R8=دیتا!$T$3),"",IF(K8="","",IF(تنظیمات!H14=دیتا!$T$2,44-(N8+O8+P8),44)))) -> 40.5 | W8: ='برنامه فروردین'!F11 -> دکتر لیلا
A9: آبان | B9: 1403 | C9: سه شنبه | F9: H | J9: =IFERROR((IFERROR(RANK(L9,$L$3:$L$41,0)+COUNTIF($L$3:L9,L9)-1,"")+1),"") -> 7 | K9: =IF(تنظیمات!C15="","",تنظیمات!C15) -> دکتر لیلا | L9: =IF((IF(تنظیمات!E15=دیتا!$H$3,(((تنظیمات!F15)*12)+تنظیمات!G15)*100,(((تنظیمات!F15)*12)+تنظیمات!G15)))=0,0,IF(تنظیمات!E15=دیتا!$H$3,(((تنظیمات!F15)*12)+تنظیمات!G15)*100,(((تنظیمات!F15)*12)+تنظیمات!G15))) -> 7 | M9: =IF((IF(تنظیمات!E15=دیتا!$H$3,(((تنظیمات!F15)*12)+تنظیمات!G15)*1,(((تنظیمات!F15)*12)+تنظیمات!G15)))=0,0,IF(تنظیمات!E15=دیتا!$H$3,(((تنظیمات!F15)*12)+تنظیمات!G15)*1,(((تنظیمات!F15)*12)+تنظیمات!G15))) -> 7 | N9: =IF(K9="","",IF(M9<49,1,"")&IF(AND(M9>=49,M9<97),2,"")&IF(AND(M9>=97,M9<145),3,"")&IF(AND(M9>=145,M9<193),4,"")&IF(M9>=193,5,"")) -> 1 | O9: =IF(K9="","",IF(OR(تنظیمات!$E$2=دیتا!$G$15,تنظیمات!$E$2=دیتا!$G$16,تنظیمات!$E$2=دیتا!$G$17,تنظیمات!$E$2=دیتا!$G$18,تنظیمات!$E$2=دیتا!$G$19,تنظیمات!$E$2=دیتا!$G$20,تنظیمات!$E$2=دیتا!$G$21),2,1.5)) -> 1.5 | P9: =IF(K9="","",IF(تنظیمات!I15=دیتا!$T$2,1,0)) -> 1 | Q9: =تنظیمات!J15 -> تفاهمی | R9: =تنظیمات!H15 -> ❌ | S9: =IF(AND(دیتا!Q9=دیتا!$I$2,دیتا!R9=دیتا!$T$2)," ",IF(AND(دیتا!Q9=دیتا!$I$2,دیتا!R9=دیتا!$T$3),"",IF(K9="","",IF(تنظیمات!H15=دیتا!$T$2,44-(N9+O9+P9),44)))) | W9: ='برنامه فروردین'!F12 -> دکتر محسن
A10: آذر | B10: 1403 | C10: پنج شنبه | F10: S | J10: =IFERROR((IFERROR(RANK(L10,$L$3:$L$41,0)+COUNTIF($L$3:L10,L10)-1,"")+1),"") -> 11 | K10: =IF(تنظیمات!C16="","",تنظیمات!C16) -> دکتر عاطفه | L10: =IF((IF(تنظیمات!E16=دیتا!$H$3,(((تنظیمات!F16)*12)+تنظیمات!G16)*100,(((تنظیمات!F16)*12)+تنظیمات!G16)))=0,0,IF(تنظیمات!E16=دیتا!$H$3,(((تنظیمات!F16)*12)+تنظیمات!G16)*100,(((تنظیمات!F16)*12)+تنظیمات!G16))) -> 0 | M10: =IF((IF(تنظیمات!E16=دیتا!$H$3,(((تنظیمات!F16)*12)+تنظیمات!G16)*1,(((تنظیمات!F16)*12)+تنظیمات!G16)))=0,0,IF(تنظیمات!E16=دیتا!$H$3,(((تنظیمات!F16)*12)+تنظیمات!G16)*1,(((تنظیمات!F16)*12)+تنظیمات!G16))) -> 0 | N10: =IF(K10="","",IF(M10<49,1,"")&IF(AND(M10>=49,M10<97),2,"")&IF(AND(M10>=97,M10<145),3,"")&IF(AND(M10>=145,M10<193),4,"")&IF(M10>=193,5,"")) -> 1 | O10: =IF(K10="","",IF(OR(تنظیمات!$E$2=دیتا!$G$15,تنظیمات!$E$2=دیتا!$G$16,تنظیمات!$E$2=دیتا!$G$17,تنظیمات!$E$2=دیتا!$G$18,تنظیمات!$E$2=دیتا!$G$19,تنظیمات!$E$2=دیتا!$G$20,تنظیمات!$E$2=دیتا!$G$21),2,1.5)) -> 1.5 | P10: =IF(K10="","",IF(تنظیمات!I16=دیتا!$T$2,1,0)) -> 1 | Q10: =تنظیمات!J16 -> قراردادی | R10: =تنظیمات!H16 -> ✔ | S10: =IF(AND(دیتا!Q10=دیتا!$I$2,دیتا!R10=دیتا!$T$2)," ",IF(AND(دیتا!Q10=دیتا!$I$2,دیتا!R10=دیتا!$T$3),"",IF(K10="","",IF(تنظیمات!H16=دیتا!$T$2,44-(N10+O10+P10),44)))) -> 40.5 | W10: ='برنامه فروردین'!F13
A11: دی | B11: 1403 | C11: شنبه | J11: =IFERROR((IFERROR(RANK(L11,$L$3:$L$41,0)+COUNTIF($L$3:L11,L11)-1,"")+1),"") -> 8 | K11: =IF(تنظیمات!C17="","",تنظیمات!C17) -> دکتر محسن | L11: =IF((IF(تنظیمات!E17=دیتا!$H$3,(((تنظیمات!F17)*12)+تنظیمات!G17)*100,(((تنظیمات!F17)*12)+تنظیمات!G17)))=0,0,IF(تنظیمات!E17=دیتا!$H$3,(((تنظیمات!F17)*12)+تنظیمات!G17)*100,(((تنظیمات!F17)*12)+تنظیمات!G17))) -> 6 | M11: =IF((IF(تنظیمات!E17=دیتا!$H$3,(((تنظیمات!F17)*12)+تنظیمات!G17)*1,(((تنظیمات!F17)*12)+تنظیمات!G17)))=0,0,IF(تنظیمات!E17=دیتا!$H$3,(((تنظیمات!F17)*12)+تنظیمات!G17)*1,(((تنظیمات!F17)*12)+تنظیمات!G17))) -> 6 | N11: =IF(K11="","",IF(M11<49,1,"")&IF(AND(M11>=49,M11<97),2,"")&IF(AND(M11>=97,M11<145),3,"")&IF(AND(M11>=145,M11<193),4,"")&IF(M11>=193,5,"")) -> 1 | O11: =IF(K11="","",IF(OR(تنظیمات!$E$2=دیتا!$G$15,تنظیمات!$E$2=دیتا!$G$16,تنظیمات!$E$2=دیتا!$G$17,تنظیمات!$E$2=دیتا!$G$18,تنظیمات!$E$2=دیتا!$G$19,تنظیمات!$E$2=دیتا!$G$20,تنظیمات!$E$2=دیتا!$G$21),2,1.5)) -> 1.5 | P11: =IF(K11="","",IF(تنظیمات!I17=دیتا!$T$2,1,0)) -> 1 | Q11: =تنظیمات!J17 -> طرحی | R11: =تنظیمات!H17 -> ✔ | S11: =IF(AND(دیتا!Q11=دیتا!$I$2,دیتا!R11=دیتا!$T$2)," ",IF(AND(دیتا!Q11=دیتا!$I$2,دیتا!R11=دیتا!$T$3),"",IF(K11="","",IF(تنظیمات!H17=دیتا!$T$2,44-(N11+O11+P11),44)))) -> 40.5 | W11: ='برنامه فروردین'!F14
A12: بهمن | B12: 1403 | C12: دوشنبه | E12: فرمول اسامی یکبار تکرار شده | J12: =IFERROR((IFERROR(RANK(L12,$L$3:$L$41,0)+COUNTIF($L$3:L12,L12)-1,"")+1),"") -> 3 | K12: =IF(تنظیمات!C18="","",تنظیمات!C18) -> دکتر خالد | L12: =IF((IF(تنظیمات!E18=دیتا!$H$3,(((تنظیمات!F18)*12)+تنظیمات!G18)*100,(((تنظیمات!F18)*12)+تنظیمات!G18)))=0,0,IF(تنظیمات!E18=دیتا!$H$3,(((تنظیمات!F18)*12)+تنظیمات!G18)*100,(((تنظیمات!F18)*12)+تنظیمات!G18))) -> 64 | M12: =IF((IF(تنظیمات!E18=دیتا!$H$3,(((تنظیمات!F18)*12)+تنظیمات!G18)*1,(((تنظیمات!F18)*12)+تنظیمات!G18)))=0,0,IF(تنظیمات!E18=دیتا!$H$3,(((تنظیمات!F18)*12)+تنظیمات!G18)*1,(((تنظیمات!F18)*12)+تنظیمات!G18))) -> 64 | N12: =IF(K12="","",IF(M12<49,1,"")&IF(AND(M12>=49,M12<97),2,"")&IF(AND(M12>=97,M12<145),3,"")&IF(AND(M12>=145,M12<193),4,"")&IF(M12>=193,5,"")) -> 2 | O12: =IF(K12="","",IF(OR(تنظیمات!$E$2=دیتا!$G$15,تنظیمات!$E$2=دیتا!$G$16,تنظیمات!$E$2=دیتا!$G$17,تنظیمات!$E$2=دیتا!$G$18,تنظیمات!$E$2=دیتا!$G$19,تنظیمات!$E$2=دیتا!$G$20,تنظیمات!$E$2=دیتا!$G$21),2,1.5)) -> 1.5 | P12: =IF(K12="","",IF(تنظیمات!I18=دیتا!$T$2,1,0)) -> 1 | Q12: =تنظیمات!J18 -> پیمانی | R12: =تنظیمات!H18 -> ✔ | S12: =IF(AND(دیتا!Q12=دیتا!$I$2,دیتا!R12=دیتا!$T$2)," ",IF(AND(دیتا!Q12=دیتا!$I$2,دیتا!R12=دیتا!$T$3),"",IF(K12="","",IF(تنظیمات!H18=دیتا!$T$2,44-(N12+O12+P12),44)))) -> 39.5 | W12: ='برنامه فروردین'!F15 -> دکتر عاطفه
A13: اسفند | B13: 1403 | C13: چهار شنبه | E13: =SUM(IF(COUNTIF(E5:E35,E5:E35)=1,1,0)) -> 1 | G13: بخش های کسر 2 | J13: =IFERROR((IFERROR(RANK(L13,$L$3:$L$41,0)+COUNTIF($L$3:L13,L13)-1,"")+1),"") -> 12 | K13: =IF(تنظیمات!C19="","",تنظیمات!C19) | L13: =IF((IF(تنظیمات!E19=دیتا!$H$3,(((تنظیمات!F19)*12)+تنظیمات!G19)*100,(((تنظیمات!F19)*12)+تنظیمات!G19)))=0,0,IF(تنظیمات!E19=دیتا!$H$3,(((تنظیمات!F19)*12)+تنظیمات!G19)*100,(((تنظیمات!F19)*12)+تنظیمات!G19))) -> 0 | M13: =IF((IF(تنظیمات!E19=دیتا!$H$3,(((تنظیمات!F19)*12)+تنظیمات!G19)*1,(((تنظیمات!F19)*12)+تنظیمات!G19)))=0,0,IF(تنظیمات!E19=دیتا!$H$3,(((تنظیمات!F19)*12)+تنظیمات!G19)*1,(((تنظیمات!F19)*12)+تنظیمات!G19))) -> 0 | N13: =IF(K13="","",IF(M13<49,1,"")&IF(AND(M13>=49,M13<97),2,"")&IF(AND(M13>=97,M13<145),3,"")&IF(AND(M13>=145,M13<193),4,"")&IF(M13>=193,5,"")) | O13: =IF(K13="","",IF(OR(تنظیمات!$E$2=دیتا!$G$15,تنظیمات!$E$2=دیتا!$G$16,تنظیمات!$E$2=دیتا!$G$17,تنظیمات!$E$2=دیتا!$G$18,تنظیمات!$E$2=دیتا!$G$19,تنظیمات!$E$2=دیتا!$G$20,تنظیمات!$E$2=دیتا!$G$21),2,1.5)) | P13: =IF(K13="","",IF(تنظیمات!I19=دیتا!$T$2,1,0)) | Q13: =تنظیمات!J19 -> 0 | R13: =تنظیمات!H19 -> 0 | S13: =IF(AND(دیتا!Q13=دیتا!$I$2,دیتا!R13=دیتا!$T$2)," ",IF(AND(دیتا!Q13=دیتا!$I$2,دیتا!R13=دیتا!$T$3),"",IF(K13="","",IF(تنظیمات!H19=دیتا!$T$2,44-(N13+O13+P13),44)))) | W13: ='برنامه فروردین'!F16
A14: فروردین | B14: 1401 | C14: دوشنبه | J14: =IFERROR((IFERROR(RANK(L14,$L$3:$L$41,0)+COUNTIF($L$3:L14,L14)-1,"")+1),"") -> 13 | K14: =IF(تنظیمات!C20="","",تنظیمات!C20) | L14: =IF((IF(تنظیمات!E20=دیتا!$H$3,(((تنظیمات!F20)*12)+تنظیمات!G20)*100,(((تنظیمات!F20)*12)+تنظیمات!G20)))=0,0,IF(تنظیمات!E20=دیتا!$H$3,(((تنظیمات!F20)*12)+تنظیمات!G20)*100,(((تنظیمات!F20)*12)+تنظیمات!G20))) -> 0 | M14: =IF((IF(تنظیمات!E20=دیتا!$H$3,(((تنظیمات!F20)*12)+تنظیمات!G20)*1,(((تنظیمات!F20)*12)+تنظیمات!G20)))=0,0,IF(تنظیمات!E20=دیتا!$H$3,(((تنظیمات!F20)*12)+تنظیمات!G20)*1,(((تنظیمات!F20)*12)+تنظیمات!G20))) -> 0 | N14: =IF(K14="","",IF(M14<49,1,"")&IF(AND(M14>=49,M14<97),2,"")&IF(AND(M14>=97,M14<145),3,"")&IF(AND(M14>=145,M14<193),4,"")&IF(M14>=193,5,"")) | O14: =IF(K14="","",IF(OR(تنظیمات!$E$2=دیتا!$G$15,تنظیمات!$E$2=دیتا!$G$16,تنظیمات!$E$2=دیتا!$G$17,تنظیمات!$E$2=دیتا!$G$18,تنظیمات!$E$2=دیتا!$G$19,تنظیمات!$E$2=دیتا!$G$20,تنظیمات!$E$2=دیتا!$G$21),2,1.5)) | P14: =IF(K14="","",IF(تنظیمات!I20=دیتا!$T$2,1,0)) | Q14: =تنظیمات!J20 -> 0 | R14: =تنظیمات!H20 -> 0 | S14: =IF(AND(دیتا!Q14=دیتا!$I$2,دیتا!R14=دیتا!$T$2)," ",IF(AND(دیتا!Q14=دیتا!$I$2,دیتا!R14=دیتا!$T$3),"",IF(K14="","",IF(تنظیمات!H20=دیتا!$T$2,44-(N14+O14+P14),44)))) | W14: ='برنامه فروردین'!F17
A15: اردیبهشت | B15: 1401 | C15: پنج شنبه | G15: ICU 1 | J15: =IFERROR((IFERROR(RANK(L15,$L$3:$L$41,0)+COUNTIF($L$3:L15,L15)-1,"")+1),"") -> 14 | K15: =IF(تنظیمات!C21="","",تنظیمات!C21) | L15: =IF((IF(تنظیمات!E21=دیتا!$H$3,(((تنظیمات!F21)*12)+تنظیمات!G21)*100,(((تنظیمات!F21)*12)+تنظیمات!G21)))=0,0,IF(تنظیمات!E21=دیتا!$H$3,(((تنظیمات!F21)*12)+تنظیمات!G21)*100,(((تنظیمات!F21)*12)+تنظیمات!G21))) -> 0 | M15: =IF((IF(تنظیمات!E21=دیتا!$H$3,(((تنظیمات!F21)*12)+تنظیمات!G21)*1,(((تنظیمات!F21)*12)+تنظیمات!G21)))=0,0,IF(تنظیمات!E21=دیتا!$H$3,(((تنظیمات!F21)*12)+تنظیمات!G21)*1,(((تنظیمات!F21)*12)+تنظیمات!G21))) -> 0 | N15: =IF(K15="","",IF(M15<49,1,"")&IF(AND(M15>=49,M15<97),2,"")&IF(AND(M15>=97,M15<145),3,"")&IF(AND(M15>=145,M15<193),4,"")&IF(M15>=193,5,"")) | O15: =IF(K15="","",IF(OR(تنظیمات!$E$2=دیتا!$G$15,تنظیمات!$E$2=دیتا!$G$16,تنظیمات!$E$2=دیتا!$G$17,تنظیمات!$E$2=دیتا!$G$18,تنظیمات!$E$2=دیتا!$G$19,تنظیمات!$E$2=دیتا!$G$20,تنظیمات!$E$2=دیتا!$G$21),2,1.5)) | P15: =IF(K15="","",IF(تنظیمات!I21=دیتا!$T$2,1,0)) | Q15: =تنظیمات!J21 -> 0 | R15: =تنظیمات!H21 -> 0 | S15: =IF(AND(دیتا!Q15=دیتا!$I$2,دیتا!R15=دیتا!$T$2)," ",IF(AND(دیتا!Q15=دیتا!$I$2,دیتا!R15=دیتا!$T$3),"",IF(K15="","",IF(تنظیمات!H21=دیتا!$T$2,44-(N15+O15+P15),44)))) | W15: ='برنامه فروردین'!F18
A16: خرداد | B16: 1401 | C16: یکشنبه | G16: ICU2 | J16: =IFERROR((IFERROR(RANK(L16,$L$3:$L$41,0)+COUNTIF($L$3:L16,L16)-1,"")+1),"") -> 15 | K16: =IF(تنظیمات!C22="","",تنظیمات!C22) | L16: =IF((IF(تنظیمات!E22=دیتا!$H$3,(((تنظیمات!F22)*12)+تنظیمات!G22)*100,(((تنظیمات!F22)*12)+تنظیمات!G22)))=0,0,IF(تنظیمات!E22=دیتا!$H$3,(((تنظیمات!F22)*12)+تنظیمات!G22)*100,(((تنظیمات!F22)*12)+تنظیمات!G22))) -> 0 | M16: =IF((IF(تنظیمات!E22=دیتا!$H$3,(((تنظیمات!F22)*12)+تنظیمات!G22)*1,(((تنظیمات!F22)*12)+تنظیمات!G22)))=0,0,IF(تنظیمات!E22=دیتا!$H$3,(((تنظیمات!F22)*12)+تنظیمات!G22)*1,(((تنظیمات!F22)*12)+تنظیمات!G22))) -> 0 | N16: =IF(K16="","",IF(M16<49,1,"")&IF(AND(M16>=49,M16<97),2,"")&IF(AND(M16>=97,M16<145),3,"")&IF(AND(M16>=145,M16<193),4,"")&IF(M16>=193,5,"")) | O16: =IF(K16="","",IF(OR(تنظیمات!$E$2=دیتا!$G$15,تنظیمات!$E$2=دیتا!$G$16,تنظیمات!$E$2=دیتا!$G$17,تنظیمات!$E$2=دیتا!$G$18,تنظیمات!$E$2=دیتا!$G$19,تنظیمات!$E$2=دیتا!$G$20,تنظیمات!$E$2=دیتا!$G$21),2,1.5)) | P16: =IF(K16="","",IF(تنظیمات!I22=دیتا!$T$2,1,0)) | Q16: =تنظیمات!J22 -> 0 | R16: =تنظیمات!H22 -> 0 | S16: =IF(AND(دیتا!Q16=دیتا!$I$2,دیتا!R16=دیتا!$T$2)," ",IF(AND(دیتا!Q16=دیتا!$I$2,دیتا!R16=دیتا!$T$3),"",IF(K16="","",IF(تنظیمات!H22=دیتا!$T$2,44-(N16+O16+P16),44)))) | W16: ='برنامه فروردین'!F19
A17: تیر | B17: 1401 | C17: چهار شنبه | G17: ICU3 | J17: =IFERROR((IFERROR(RANK(L17,$L$3:$L$41,0)+COUNTIF($L$3:L17,L17)-1,"")+1),"") -> 16 | K17: =IF(تنظیمات!C23="","",تنظیمات!C23) | L17: =IF((IF(تنظیمات!E23=دیتا!$H$3,(((تنظیمات!F23)*12)+تنظیمات!G23)*100,(((تنظیمات!F23)*12)+تنظیمات!G23)))=0,0,IF(تنظیمات!E23=دیتا!$H$3,(((تنظیمات!F23)*12)+تنظیمات!G23)*100,(((تنظیمات!F23)*12)+تنظیمات!G23))) -> 0 | M17: =IF((IF(تنظیمات!E23=دیتا!$H$3,(((تنظیمات!F23)*12)+تنظیمات!G23)*1,(((تنظیمات!F23)*12)+تنظیمات!G23)))=0,0,IF(تنظیمات!E23=دیتا!$H$3,(((تنظیمات!F23)*12)+تنظیمات!G23)*1,(((تنظیمات!F23)*12)+تنظیمات!G23))) -> 0 | O17: =IF(K17="","",IF(OR(تنظیمات!$E$2=دیتا!$G$15,تنظیمات!$E$2=دیتا!$G$16,تنظیمات!$E$2=دیتا!$G$17,تنظیمات!$E$2=دیتا!$G$18,تنظیمات!$E$2=دیتا!$G$19,تنظیمات!$E$2=دیتا!$G$20,تنظیمات!$E$2=دیتا!$G$21),2,1.5)) | P17: =IF(K17="","",IF(تنظیمات!I23=دیتا!$T$2,1,0)) | Q17: =تنظیمات!J23 -> 0 | R17: =تنظیمات!H23 -> 0 | S17: =IF(AND(دیتا!Q17=دیتا!$I$2,دیتا!R17=دیتا!$T$2)," ",IF(AND(دیتا!Q17=دیتا!$I$2,دیتا!R17=دیتا!$T$3),"",IF(K17="","",IF(تنظیمات!H23=دیتا!$T$2,44-(N17+O17+P17),44)))) | W17: ='برنامه فروردین'!F20
A18: مرداد | B18: 1401 | C18: شنبه | G18: ICU4 | J18: =IFERROR((IFERROR(RANK(L18,$L$3:$L$41,0)+COUNTIF($L$3:L18,L18)-1,"")+1),"") -> 17 | K18: =IF(تنظیمات!C24="","",تنظیمات!C24) | L18: =IF((IF(تنظیمات!E24=دیتا!$H$3,(((تنظیمات!F24)*12)+تنظیمات!G24)*100,(((تنظیمات!F24)*12)+تنظیمات!G24)))=0,0,IF(تنظیمات!E24=دیتا!$H$3,(((تنظیمات!F24)*12)+تنظیمات!G24)*100,(((تنظیمات!F24)*12)+تنظیمات!G24))) -> 0 | M18: =IF((IF(تنظیمات!E24=دیتا!$H$3,(((تنظیمات!F24)*12)+تنظیمات!G24)*1,(((تنظیمات!F24)*12)+تنظیمات!G24)))=0,0,IF(تنظیمات!E24=دیتا!$H$3,(((تنظیمات!F24)*12)+تنظیمات!G24)*1,(((تنظیمات!F24)*12)+تنظیمات!G24))) -> 0 | N18: =IF(K18="","",IF(M18<49,1,"")&IF(AND(M18>=49,M18<97),2,"")&IF(AND(M18>=97,M18<145),3,"")&IF(AND(M18>=145,M18<193),4,"")&IF(M18>=193,5,"")) | O18: =IF(K18="","",IF(OR(تنظیمات!$E$2=دیتا!$G$15,تنظیمات!$E$2=دیتا!$G$16,تنظیمات!$E$2=دیتا!$G$17,تنظیمات!$E$2=دیتا!$G$18,تنظیمات!$E$2=دیتا!$G$19,تنظیمات!$E$2=دیتا!$G$20,تنظیمات!$E$2=دیتا!$G$21),2,1.5)) | P18: =IF(K18="","",IF(تنظیمات!I24=دیتا!$T$2,1,0)) | Q18: =تنظیمات!J24 -> 0 | R18: =تنظیمات!H24 -> 0 | S18: =IF(AND(دیتا!Q18=دیتا!$I$2,دیتا!R18=دیتا!$T$2)," ",IF(AND(دیتا!Q18=دیتا!$I$2,دیتا!R18=دیتا!$T$3),"",IF(K18="","",IF(تنظیمات!H24=دیتا!$T$2,44-(N18+O18+P18),44)))) | W18: ='برنامه فروردین'!F21
A19: شهریور | B19: 1401 | C19: سه شنبه | G19: CCU | J19: =IFERROR((IFERROR(RANK(L19,$L$3:$L$41,0)+COUNTIF($L$3:L19,L19)-1,"")+1),"") -> 18 | K19: =IF(تنظیمات!C25="","",تنظیمات!C25) | L19: =IF((IF(تنظیمات!E25=دیتا!$H$3,(((تنظیمات!F25)*12)+تنظیمات!G25)*100,(((تنظیمات!F25)*12)+تنظیمات!G25)))=0,0,IF(تنظیمات!E25=دیتا!$H$3,(((تنظیمات!F25)*12)+تنظیمات!G25)*100,(((تنظیمات!F25)*12)+تنظیمات!G25))) -> 0 | M19: =IF((IF(تنظیمات!E25=دیتا!$H$3,(((تنظیمات!F25)*12)+تنظیمات!G25)*1,(((تنظیمات!F25)*12)+تنظیمات!G25)))=0,0,IF(تنظیمات!E25=دیتا!$H$3,(((تنظیمات!F25)*12)+تنظیمات!G25)*1,(((تنظیمات!F25)*12)+تنظیمات!G25))) -> 0 | N19: =IF(K19="","",IF(M19<49,1,"")&IF(AND(M19>=49,M19<97),2,"")&IF(AND(M19>=97,M19<145),3,"")&IF(AND(M19>=145,M19<193),4,"")&IF(M19>=193,5,"")) | O19: =IF(K19="","",IF(OR(تنظیمات!$E$2=دیتا!$G$15,تنظیمات!$E$2=دیتا!$G$16,تنظیمات!$E$2=دیتا!$G$17,تنظیمات!$E$2=دیتا!$G$18,تنظیمات!$E$2=دیتا!$G$19,تنظیمات!$E$2=دیتا!$G$20,تنظیمات!$E$2=دیتا!$G$21),2,1.5)) | P19: =IF(K19="","",IF(تنظیمات!I25=دیتا!$T$2,1,0)) | Q19: =تنظیمات!J25 -> 0 | R19: =تنظیمات!H25 -> 0 | S19: =IF(AND(دیتا!Q19=دیتا!$I$2,دیتا!R19=دیتا!$T$2)," ",IF(AND(دیتا!Q19=دیتا!$I$2,دیتا!R19=دیتا!$T$3),"",IF(K19="","",IF(تنظیمات!H25=دیتا!$T$2,44-(N19+O19+P19),44)))) | W19: ='برنامه فروردین'!F22
A20: مهر | B20: 1401 | C20: جمعه | J20: =IFERROR((IFERROR(RANK(L20,$L$3:$L$41,0)+COUNTIF($L$3:L20,L20)-1,"")+1),"") -> 19 | K20: =IF(تنظیمات!C26="","",تنظیمات!C26) | L20: =IF((IF(تنظیمات!E26=دیتا!$H$3,(((تنظیمات!F26)*12)+تنظیمات!G26)*100,(((تنظیمات!F26)*12)+تنظیمات!G26)))=0,0,IF(تنظیمات!E26=دیتا!$H$3,(((تنظیمات!F26)*12)+تنظیمات!G26)*100,(((تنظیمات!F26)*12)+تنظیمات!G26))) -> 0 | M20: =IF((IF(تنظیمات!E26=دیتا!$H$3,(((تنظیمات!F26)*12)+تنظیمات!G26)*1,(((تنظیمات!F26)*12)+تنظیمات!G26)))=0,0,IF(تنظیمات!E26=دیتا!$H$3,(((تنظیمات!F26)*12)+تنظیمات!G26)*1,(((تنظیمات!F26)*12)+تنظیمات!G26))) -> 0 | N20: =IF(K20="","",IF(M20<49,1,"")&IF(AND(M20>=49,M20<97),2,"")&IF(AND(M20>=97,M20<145),3,"")&IF(AND(M20>=145,M20<193),4,"")&IF(M20>=193,5,"")) | O20: =IF(K20="","",IF(OR(تنظیمات!$E$2=دیتا!$G$15,تنظیمات!$E$2=دیتا!$G$16,تنظیمات!$E$2=دیتا!$G$17,تنظیمات!$E$2=دیتا!$G$18,تنظیمات!$E$2=دیتا!$G$19,تنظیمات!$E$2=دیتا!$G$20,تنظیمات!$E$2=دیتا!$G$21),2,1.5)) | P20: =IF(K20="","",IF(تنظیمات!I26=دیتا!$T$2,1,0)) | Q20: =تنظیمات!J26 -> 0 | R20: =تنظیمات!H26 -> 0 | S20: =IF(AND(دیتا!Q20=دیتا!$I$2,دیتا!R20=دیتا!$T$2)," ",IF(AND(دیتا!Q20=دیتا!$I$2,دیتا!R20=دیتا!$T$3),"",IF(K20="","",IF(تنظیمات!H26=دیتا!$T$2,44-(N20+O20+P20),44)))) | W20: ='برنامه فروردین'!F23
A21: آبان | B21: 1401 | C21: یکشنبه | J21: =IFERROR((IFERROR(RANK(L21,$L$3:$L$41,0)+COUNTIF($L$3:L21,L21)-1,"")+1),"") -> 20 | K21: =IF(تنظیمات!C27="","",تنظیمات!C27) | L21: =IF((IF(تنظیمات!E27=دیتا!$H$3,(((تنظیمات!F27)*12)+تنظیمات!G27)*100,(((تنظیمات!F27)*12)+تنظیمات!G27)))=0,0,IF(تنظیمات!E27=دیتا!$H$3,(((تنظیمات!F27)*12)+تنظیمات!G27)*100,(((تنظیمات!F27)*12)+تنظیمات!G27))) -> 0 | M21: =IF((IF(تنظیمات!E27=دیتا!$H$3,(((تنظیمات!F27)*12)+تنظیمات!G27)*1,(((تنظیمات!F27)*12)+تنظیمات!G27)))=0,0,IF(تنظیمات!E27=دیتا!$H$3,(((تنظیمات!F27)*12)+تنظیمات!G27)*1,(((تنظیمات!F27)*12)+تنظیمات!G27))) -> 0 | N21: =IF(K21="","",IF(M21<49,1,"")&IF(AND(M21>=49,M21<97),2,"")&IF(AND(M21>=97,M21<145),3,"")&IF(AND(M21>=145,M21<193),4,"")&IF(M21>=193,5,"")) | O21: =IF(K21="","",IF(OR(تنظیمات!$E$2=دیتا!$G$15,تنظیمات!$E$2=دیتا!$G$16,تنظیمات!$E$2=دیتا!$G$17,تنظیمات!$E$2=دیتا!$G$18,تنظیمات!$E$2=دیتا!$G$19,تنظیمات!$E$2=دیتا!$G$20,تنظیمات!$E$2=دیتا!$G$21),2,1.5)) | P21: =IF(K21="","",IF(تنظیمات!I27=دیتا!$T$2,1,0)) | Q21: =تنظیمات!J27 -> 0 | R21: =تنظیمات!H27 -> 0 | S21: =IF(AND(دیتا!Q21=دیتا!$I$2,دیتا!R21=دیتا!$T$2)," ",IF(AND(دیتا!Q21=دیتا!$I$2,دیتا!R21=دیتا!$T$3),"",IF(K21="","",IF(تنظیمات!H27=دیتا!$T$2,44-(N21+O21+P21),44)))) | W21: ='برنامه فروردین'!F24
A22: آذر | B22: 1401 | C22: سه شنبه | G22: دفتر پرستاری | J22: =IFERROR((IFERROR(RANK(L22,$L$3:$L$41,0)+COUNTIF($L$3:L22,L22)-1,"")+1),"") -> 21 | K22: =IF(تنظیمات!C28="","",تنظیمات!C28) | L22: =IF((IF(تنظیمات!E28=دیتا!$H$3,(((تنظیمات!F28)*12)+تنظیمات!G28)*100,(((تنظیمات!F28)*12)+تنظیمات!G28)))=0,0,IF(تنظیمات!E28=دیتا!$H$3,(((تنظیمات!F28)*12)+تنظیمات!G28)*100,(((تنظیمات!F28)*12)+تنظیمات!G28))) -> 0 | M22: =IF((IF(تنظیمات!E28=دیتا!$H$3,(((تنظیمات!F28)*12)+تنظیمات!G28)*1,(((تنظیمات!F28)*12)+تنظیمات!G28)))=0,0,IF(تنظیمات!E28=دیتا!$H$3,(((تنظیمات!F28)*12)+تنظیمات!G28)*1,(((تنظیمات!F28)*12)+تنظیمات!G28))) -> 0 | N22: =IF(K22="","",IF(M22<49,1,"")&IF(AND(M22>=49,M22<97),2,"")&IF(AND(M22>=97,M22<145),3,"")&IF(AND(M22>=145,M22<193),4,"")&IF(M22>=193,5,"")) | O22: =IF(K22="","",IF(OR(تنظیمات!$E$2=دیتا!$G$15,تنظیمات!$E$2=دیتا!$G$16,تنظیمات!$E$2=دیتا!$G$17,تنظیمات!$E$2=دیتا!$G$18,تنظیمات!$E$2=دیتا!$G$19,تنظیمات!$E$2=دیتا!$G$20,تنظیمات!$E$2=دیتا!$G$21),2,1.5)) | P22: =IF(K22="","",IF(تنظیمات!I28=دیتا!$T$2,1,0)) | Q22: =تنظیمات!J28 -> 0 | R22: =تنظیمات!H28 -> 0 | S22: =IF(AND(دیتا!Q22=دیتا!$I$2,دیتا!R22=دیتا!$T$2)," ",IF(AND(دیتا!Q22=دیتا!$I$2,دیتا!R22=دیتا!$T$3),"",IF(K22="","",IF(تنظیمات!H28=دیتا!$T$2,44-(N22+O22+P22),44)))) | W22: ='برنامه فروردین'!F25
A23: دی | B23: 1401 | C23: پنج شنبه | G23: اورژانس | J23: =IFERROR((IFERROR(RANK(L23,$L$3:$L$41,0)+COUNTIF($L$3:L23,L23)-1,"")+1),"") -> 22 | K23: =IF(تنظیمات!C29="","",تنظیمات!C29) | L23: =IF((IF(تنظیمات!E29=دیتا!$H$3,(((تنظیمات!F29)*12)+تنظیمات!G29)*100,(((تنظیمات!F29)*12)+تنظیمات!G29)))=0,0,IF(تنظیمات!E29=دیتا!$H$3,(((تنظیمات!F29)*12)+تنظیمات!G29)*100,(((تنظیمات!F29)*12)+تنظیمات!G29))) -> 0 | M23: =IF((IF(تنظیمات!E29=دیتا!$H$3,(((تنظیمات!F29)*12)+تنظیمات!G29)*1,(((تنظیمات!F29)*12)+تنظیمات!G29)))=0,0,IF(تنظیمات!E29=دیتا!$H$3,(((تنظیمات!F29)*12)+تنظیمات!G29)*1,(((تنظیمات!F29)*12)+تنظیمات!G29))) -> 0 | N23: =IF(K23="","",IF(M23<49,1,"")&IF(AND(M23>=49,M23<97),2,"")&IF(AND(M23>=97,M23<145),3,"")&IF(AND(M23>=145,M23<193),4,"")&IF(M23>=193,5,"")) | O23: =IF(K23="","",IF(OR(تنظیمات!$E$2=دیتا!$G$15,تنظیمات!$E$2=دیتا!$G$16,تنظیمات!$E$2=دیتا!$G$17,تنظیمات!$E$2=دیتا!$G$18,تنظیمات!$E$2=دیتا!$G$19,تنظیمات!$E$2=دیتا!$G$20,تنظیمات!$E$2=دیتا!$G$21),2,1.5)) | P23: =IF(K23="","",IF(تنظیمات!I29=دیتا!$T$2,1,0)) | Q23: =تنظیمات!J29 -> 0 | R23: =تنظیمات!H29 -> 0 | S23: =IF(AND(دیتا!Q23=دیتا!$I$2,دیتا!R23=دیتا!$T$2)," ",IF(AND(دیتا!Q23=دیتا!$I$2,دیتا!R23=دیتا!$T$3),"",IF(K23="","",IF(تنظیمات!H29=دیتا!$T$2,44-(N23+O23+P23),44)))) | W23: ='برنامه فروردین'!F26
A24: بهمن | B24: 1401 | C24: شنبه | G24: قلب | J24: =IFERROR((IFERROR(RANK(L24,$L$3:$L$41,0)+COUNTIF($L$3:L24,L24)-1,"")+1),"") -> 23 | K24: =IF(تنظیمات!C30="","",تنظیمات!C30) | L24: =IF((IF(تنظیمات!E30=دیتا!$H$3,(((تنظیمات!F30)*12)+تنظیمات!G30)*100,(((تنظیمات!F30)*12)+تنظیمات!G30)))=0,0,IF(تنظیمات!E30=دیتا!$H$3,(((تنظیمات!F30)*12)+تنظیمات!G30)*100,(((تنظیمات!F30)*12)+تنظیمات!G30))) -> 0 | M24: =IF((IF(تنظیمات!E30=دیتا!$H$3,(((تنظیمات!F30)*12)+تنظیمات!G30)*1,(((تنظیمات!F30)*12)+تنظیمات!G30)))=0,0,IF(تنظیمات!E30=دیتا!$H$3,(((تنظیمات!F30)*12)+تنظیمات!G30)*1,(((تنظیمات!F30)*12)+تنظیمات!G30))) -> 0 | N24: =IF(K24="","",IF(M24<49,1,"")&IF(AND(M24>=49,M24<97),2,"")&IF(AND(M24>=97,M24<145),3,"")&IF(AND(M24>=145,M24<193),4,"")&IF(M24>=193,5,"")) | O24: =IF(K24="","",IF(OR(تنظیمات!$E$2=دیتا!$G$15,تنظیمات!$E$2=دیتا!$G$16,تنظیمات!$E$2=دیتا!$G$17,تنظیمات!$E$2=دیتا!$G$18,تنظیمات!$E$2=دیتا!$G$19,تنظیمات!$E$2=دیتا!$G$20,تنظیمات!$E$2=دیتا!$G$21),2,1.5)) | P24: =IF(K24="","",IF(تنظیمات!I30=دیتا!$T$2,1,0)) | Q24: =تنظیمات!J30 -> 0 | R24: =تنظیمات!H30 -> 0 | S24: =IF(AND(دیتا!Q24=دیتا!$I$2,دیتا!R24=دیتا!$T$2)," ",IF(AND(دیتا!Q24=دیتا!$I$2,دیتا!R24=دیتا!$T$3),"",IF(K24="","",IF(تنظیمات!H30=دیتا!$T$2,44-(N24+O24+P24),44)))) | W24: ='برنامه فروردین'!F27
A25: اسفند | B25: 1401 | C25: دوشنبه | G25: CCU | J25: =IFERROR((IFERROR(RANK(L25,$L$3:$L$41,0)+COUNTIF($L$3:L25,L25)-1,"")+1),"") -> 24 | K25: =IF(تنظیمات!C31="","",تنظیمات!C31) | L25: =IF((IF(تنظیمات!E31=دیتا!$H$3,(((تنظیمات!F31)*12)+تنظیمات!G31)*100,(((تنظیمات!F31)*12)+تنظیمات!G31)))=0,0,IF(تنظیمات!E31=دیتا!$H$3,(((تنظیمات!F31)*12)+تنظیمات!G31)*100,(((تنظیمات!F31)*12)+تنظیمات!G31))) -> 0 | M25: =IF((IF(تنظیمات!E31=دیتا!$H$3,(((تنظیمات!F31)*12)+تنظیمات!G31)*1,(((تنظیمات!F31)*12)+تنظیمات!G31)))=0,0,IF(تنظیمات!E31=دیتا!$H$3,(((تنظیمات!F31)*12)+تنظیمات!G31)*1,(((تنظیمات!F31)*12)+تنظیمات!G31))) -> 0 | N25: =IF(K25="","",IF(M25<49,1,"")&IF(AND(M25>=49,M25<97),2,"")&IF(AND(M25>=97,M25<145),3,"")&IF(AND(M25>=145,M25<193),4,"")&IF(M25>=193,5,"")) | O25: =IF(K25="","",IF(OR(تنظیمات!$E$2=دیتا!$G$15,تنظیمات!$E$2=دیتا!$G$16,تنظیمات!$E$2=دیتا!$G$17,تنظیمات!$E$2=دیتا!$G$18,تنظیمات!$E$2=دیتا!$G$19,تنظیمات!$E$2=دیتا!$G$20,تنظیمات!$E$2=دیتا!$G$21),2,1.5)) | P25: =IF(K25="","",IF(تنظیمات!I31=دیتا!$T$2,1,0)) | Q25: =تنظیمات!J31 -> 0 | R25: =تنظیمات!H31 -> 0 | S25: =IF(AND(دیتا!Q25=دیتا!$I$2,دیتا!R25=دیتا!$T$2)," ",IF(AND(دیتا!Q25=دیتا!$I$2,دیتا!R25=دیتا!$T$3),"",IF(K25="","",IF(تنظیمات!H31=دیتا!$T$2,44-(N25+O25+P25),44)))) | W25: ='برنامه فروردین'!F28
A26: فروردین | B26: 1402 | C26: سه شنبه | G26: جنرال ICU | J26: =IFERROR((IFERROR(RANK(L26,$L$3:$L$41,0)+COUNTIF($L$3:L26,L26)-1,"")+1),"") -> 25 | K26: =IF(تنظیمات!C32="","",تنظیمات!C32) | L26: =IF((IF(تنظیمات!E32=دیتا!$H$3,(((تنظیمات!F32)*12)+تنظیمات!G32)*100,(((تنظیمات!F32)*12)+تنظیمات!G32)))=0,0,IF(تنظیمات!E32=دیتا!$H$3,(((تنظیمات!F32)*12)+تنظیمات!G32)*100,(((تنظیمات!F32)*12)+تنظیمات!G32))) -> 0 | M26: =IF((IF(تنظیمات!E32=دیتا!$H$3,(((تنظیمات!F32)*12)+تنظیمات!G32)*1,(((تنظیمات!F32)*12)+تنظیمات!G32)))=0,0,IF(تنظیمات!E32=دیتا!$H$3,(((تنظیمات!F32)*12)+تنظیمات!G32)*1,(((تنظیمات!F32)*12)+تنظیمات!G32))) -> 0 | N26: =IF(K26="","",IF(M26<49,1,"")&IF(AND(M26>=49,M26<97),2,"")&IF(AND(M26>=97,M26<145),3,"")&IF(AND(M26>=145,M26<193),4,"")&IF(M26>=193,5,"")) | O26: =IF(K26="","",IF(OR(تنظیمات!$E$2=دیتا!$G$15,تنظیمات!$E$2=دیتا!$G$16,تنظیمات!$E$2=دیتا!$G$17,تنظیمات!$E$2=دیتا!$G$18,تنظیمات!$E$2=دیتا!$G$19,تنظیمات!$E$2=دیتا!$G$20,تنظیمات!$E$2=دیتا!$G$21),2,1.5)) | P26: =IF(K26="","",IF(تنظیمات!I32=دیتا!$T$2,1,0)) | Q26: =تنظیمات!J32 -> 0 | R26: =تنظیمات!H32 -> 0 | S26: =IF(AND(دیتا!Q26=دیتا!$I$2,دیتا!R26=دیتا!$T$2)," ",IF(AND(دیتا!Q26=دیتا!$I$2,دیتا!R26=دیتا!$T$3),"",IF(K26="","",IF(تنظیمات!H32=دیتا!$T$2,44-(N26+O26+P26),44)))) | W26: ='برنامه فروردین'!F29
A27: اردیبهشت | B27: 1402 | C27: جمعه | G27: ICU نورولوژی | M27: =IF((IF(تنظیمات!E33=دیتا!$H$3,(((تنظیمات!F33)*12)+تنظیمات!G33)*1,(((تنظیمات!F33)*12)+تنظیمات!G33)))=0,0,IF(تنظیمات!E33=دیتا!$H$3,(((تنظیمات!F33)*12)+تنظیمات!G33)*1,(((تنظیمات!F33)*12)+تنظیمات!G33))) -> 0 | N27: =IF(K27="","",IF(M27<49,1,"")&IF(AND(M27>=49,M27<97),2,"")&IF(AND(M27>=97,M27<145),3,"")&IF(AND(M27>=145,M27<193),4,"")&IF(M27>=193,5,"")) | Q27: =تنظیمات!J33 -> 0 | R27: =تنظیمات!H33 -> 0 | S27: =IF(AND(دیتا!Q27=دیتا!$I$2,دیتا!R27=دیتا!$T$2)," ",IF(AND(دیتا!Q27=دیتا!$I$2,دیتا!R27=دیتا!$T$3),"",IF(K27="","",IF(تنظیمات!H33=دیتا!$T$2,44-(N27+O27+P27),44))))
A28: خرداد | B28: 1402 | C28: دوشنبه | G28: نورولوژی | M28: =IF((IF(تنظیمات!E34=دیتا!$H$3,(((تنظیمات!F34)*12)+تنظیمات!G34)*1,(((تنظیمات!F34)*12)+تنظیمات!G34)))=0,0,IF(تنظیمات!E34=دیتا!$H$3,(((تنظیمات!F34)*12)+تنظیمات!G34)*1,(((تنظیمات!F34)*12)+تنظیمات!G34))) -> 0 | N28: =IF(K28="","",IF(M28<49,1,"")&IF(AND(M28>=49,M28<97),2,"")&IF(AND(M28>=97,M28<145),3,"")&IF(AND(M28>=145,M28<193),4,"")&IF(M28>=193,5,"")) | Q28: =تنظیمات!J34 -> 0 | R28: =تنظیمات!H34 -> 0 | S28: =IF(AND(دیتا!Q28=دیتا!$I$2,دیتا!R28=دیتا!$T$2)," ",IF(AND(دیتا!Q28=دیتا!$I$2,دیتا!R28=دیتا!$T$3),"",IF(K28="","",IF(تنظیمات!H34=دیتا!$T$2,44-(N28+O28+P28),44))))
A29: تیر | B29: 1402 | C29: پنج شنبه | G29: اتاق عمل | M29: =IF((IF(تنظیمات!E35=دیتا!$H$3,(((تنظیمات!F35)*12)+تنظیمات!G35)*1,(((تنظیمات!F35)*12)+تنظیمات!G35)))=0,0,IF(تنظیمات!E35=دیتا!$H$3,(((تنظیمات!F35)*12)+تنظیمات!G35)*1,(((تنظیمات!F35)*12)+تنظیمات!G35))) -> 0 | N29: =IF(K29="","",IF(M29<49,1,"")&IF(AND(M29>=49,M29<97),2,"")&IF(AND(M29>=97,M29<145),3,"")&IF(AND(M29>=145,M29<193),4,"")&IF(M29>=193,5,"")) | Q29: =تنظیمات!J35 -> 0 | R29: =تنظیمات!H35 -> 0 | S29: =IF(AND(دیتا!Q29=دیتا!$I$2,دیتا!R29=دیتا!$T$2)," ",IF(AND(دیتا!Q29=دیتا!$I$2,دیتا!R29=دیتا!$T$3),"",IF(K29="","",IF(تنظیمات!H35=دیتا!$T$2,44-(N29+O29+P29),44))))
A30: مرداد | B30: 1402 | C30: یکشنبه | G30: جراحی چشم | M30: =IF((IF(تنظیمات!E36=دیتا!$H$3,(((تنظیمات!F36)*12)+تنظیمات!G36)*1,(((تنظیمات!F36)*12)+تنظیمات!G36)))=0,0,IF(تنظیمات!E36=دیتا!$H$3,(((تنظیمات!F36)*12)+تنظیمات!G36)*1,(((تنظیمات!F36)*12)+تنظیمات!G36))) -> 0 | N30: =IF(K30="","",IF(M30<49,1,"")&IF(AND(M30>=49,M30<97),2,"")&IF(AND(M30>=97,M30<145),3,"")&IF(AND(M30>=145,M30<193),4,"")&IF(M30>=193,5,"")) | Q30: =تنظیمات!J36 -> 0 | R30: =تنظیمات!H36 -> 0 | S30: =IF(AND(دیتا!Q30=دیتا!$I$2,دیتا!R30=دیتا!$T$2)," ",IF(AND(دیتا!Q30=دیتا!$I$2,دیتا!R30=دیتا!$T$3),"",IF(K30="","",IF(تنظیمات!H36=دیتا!$T$2,44-(N30+O30+P30),44))))
A31: شهریور | B31: 1402 | C31: چهار شنبه | G31: فوق تخصصی | M31: =IF((IF(تنظیمات!E37=دیتا!$H$3,(((تنظیمات!F37)*12)+تنظیمات!G37)*1,(((تنظیمات!F37)*12)+تنظیمات!G37)))=0,0,IF(تنظیمات!E37=دیتا!$H$3,(((تنظیمات!F37)*12)+تنظیمات!G37)*1,(((تنظیمات!F37)*12)+تنظیمات!G37))) -> 0 | N31: =IF(K31="","",IF(M31<49,1,"")&IF(AND(M31>=49,M31<97),2,"")&IF(AND(M31>=97,M31<145),3,"")&IF(AND(M31>=145,M31<193),4,"")&IF(M31>=193,5,"")) | Q31: =تنظیمات!J37 -> 0 | R31: =تنظیمات!H37 -> 0 | S31: =IF(AND(دیتا!Q31=دیتا!$I$2,دیتا!R31=دیتا!$T$2)," ",IF(AND(دیتا!Q31=دیتا!$I$2,دیتا!R31=دیتا!$T$3),"",IF(K31="","",IF(تنظیمات!H37=دیتا!$T$2,44-(N31+O31+P31),44))))
A32: مهر | B32: 1402 | C32: شنبه | G32: داخلی یک | M32: =IF((IF(تنظیمات!E38=دیتا!$H$3,(((تنظیمات!F38)*12)+تنظیمات!G38)*1,(((تنظیمات!F38)*12)+تنظیمات!G38)))=0,0,IF(تنظیمات!E38=دیتا!$H$3,(((تنظیمات!F38)*12)+تنظیمات!G38)*1,(((تنظیمات!F38)*12)+تنظیمات!G38))) -> 0 | N32: =IF(K32="","",IF(M32<49,1,"")&IF(AND(M32>=49,M32<97),2,"")&IF(AND(M32>=97,M32<145),3,"")&IF(AND(M32>=145,M32<193),4,"")&IF(M32>=193,5,"")) | Q32: =تنظیمات!J38 -> 0 | R32: =تنظیمات!H38 -> 0 | S32: =IF(AND(دیتا!Q32=دیتا!$I$2,دیتا!R32=دیتا!$T$2)," ",IF(AND(دیتا!Q32=دیتا!$I$2,دیتا!R32=دیتا!$T$3),"",IF(K32="","",IF(تنظیمات!H38=دیتا!$T$2,44-(N32+O32+P32),44))))
A33: آبان | B33: 1402 | C33: دوشنبه | G33: داخلی دو | M33: =IF((IF(تنظیمات!E39=دیتا!$H$3,(((تنظیمات!F39)*12)+تنظیمات!G39)*1,(((تنظیمات!F39)*12)+تنظیمات!G39)))=0,0,IF(تنظیمات!E39=دیتا!$H$3,(((تنظیمات!F39)*12)+تنظیمات!G39)*1,(((تنظیمات!F39)*12)+تنظیمات!G39))) -> 0 | N33: =IF(K33="","",IF(M33<49,1,"")&IF(AND(M33>=49,M33<97),2,"")&IF(AND(M33>=97,M33<145),3,"")&IF(AND(M33>=145,M33<193),4,"")&IF(M33>=193,5,"")) | Q33: =تنظیمات!J39 -> 0 | R33: =تنظیمات!H39 -> 0 | S33: =IF(AND(دیتا!Q33=دیتا!$I$2,دیتا!R33=دیتا!$T$2)," ",IF(AND(دیتا!Q33=دیتا!$I$2,دیتا!R33=دیتا!$T$3),"",IF(K33="","",IF(تنظیمات!H39=دیتا!$T$2,44-(N33+O33+P33),44))))
A34: آذر | B34: 1402 | C34: چهار شنبه | G34: عفونی | M34: =IF((IF(تنظیمات!E40=دیتا!$H$3,(((تنظیمات!F40)*12)+تنظیمات!G40)*1,(((تنظیمات!F40)*12)+تنظیمات!G40)))=0,0,IF(تنظیمات!E40=دیتا!$H$3,(((تنظیمات!F40)*12)+تنظیمات!G40)*1,(((تنظیمات!F40)*12)+تنظیمات!G40))) -> 0 | N34: =IF(K34="","",IF(M34<49,1,"")&IF(AND(M34>=49,M34<97),2,"")&IF(AND(M34>=97,M34<145),3,"")&IF(AND(M34>=145,M34<193),4,"")&IF(M34>=193,5,"")) | Q34: =تنظیمات!J40 -> 0 | R34: =تنظیمات!H40 -> 0 | S34: =IF(AND(دیتا!Q34=دیتا!$I$2,دیتا!R34=دیتا!$T$2)," ",IF(AND(دیتا!Q34=دیتا!$I$2,دیتا!R34=دیتا!$T$3),"",IF(K34="","",IF(تنظیمات!H40=دیتا!$T$2,44-(N34+O34+P34),44))))
A35: دی | B35: 1402 | C35: جمعه | G35: اندوسکوپی | M35: =IF((IF(تنظیمات!E41=دیتا!$H$3,(((تنظیمات!F41)*12)+تنظیمات!G41)*1,(((تنظیمات!F41)*12)+تنظیمات!G41)))=0,0,IF(تنظیمات!E41=دیتا!$H$3,(((تنظیمات!F41)*12)+تنظیمات!G41)*1,(((تنظیمات!F41)*12)+تنظیمات!G41))) -> 0 | N35: =IF(K35="","",IF(M35<49,1,"")&IF(AND(M35>=49,M35<97),2,"")&IF(AND(M35>=97,M35<145),3,"")&IF(AND(M35>=145,M35<193),4,"")&IF(M35>=193,5,"")) | Q35: =تنظیمات!J41 -> 0 | R35: =تنظیمات!H41 -> 0 | S35: =IF(AND(دیتا!Q35=دیتا!$I$2,دیتا!R35=دیتا!$T$2)," ",IF(AND(دیتا!Q35=دیتا!$I$2,دیتا!R35=دیتا!$T$3),"",IF(K35="","",IF(تنظیمات!H41=دیتا!$T$2,44-(N35+O35+P35),44))))
A36: بهمن | B36: 1402 | C36: یکشنبه | G36: دیالیز | M36: =IF((IF(تنظیمات!E42=دیتا!$H$3,(((تنظیمات!F42)*12)+تنظیمات!G42)*1,(((تنظیمات!F42)*12)+تنظیمات!G42)))=0,0,IF(تنظیمات!E42=دیتا!$H$3,(((تنظیمات!F42)*12)+تنظیمات!G42)*1,(((تنظیمات!F42)*12)+تنظیمات!G42))) -> 0 | N36: =IF(K36="","",IF(M36<49,1,"")&IF(AND(M36>=49,M36<97),2,"")&IF(AND(M36>=97,M36<145),3,"")&IF(AND(M36>=145,M36<193),4,"")&IF(M36>=193,5,"")) | Q36: =تنظیمات!J42 -> 0 | R36: =تنظیمات!H42 -> 0 | S36: =IF(AND(دیتا!Q36=دیتا!$I$2,دیتا!R36=دیتا!$T$2)," ",IF(AND(دیتا!Q36=دیتا!$I$2,دیتا!R36=دیتا!$T$3),"",IF(K36="","",IF(تنظیمات!H42=دیتا!$T$2,44-(N36+O36+P36),44))))
A37: اسفند | B37: 1402 | C37: سه شنبه | M37: =IF((IF(تنظیمات!E43=دیتا!$H$3,(((تنظیمات!F43)*12)+تنظیمات!G43)*1,(((تنظیمات!F43)*12)+تنظیمات!G43)))=0,0,IF(تنظیمات!E43=دیتا!$H$3,(((تنظیمات!F43)*12)+تنظیمات!G43)*1,(((تنظیمات!F43)*12)+تنظیمات!G43))) -> 0 | N37: =IF(K37="","",IF(M37<49,1,"")&IF(AND(M37>=49,M37<97),2,"")&IF(AND(M37>=97,M37<145),3,"")&IF(AND(M37>=145,M37<193),4,"")&IF(M37>=193,5,"")) | Q37: =تنظیمات!J43 -> 0 | R37: =تنظیمات!H43 -> 0 | S37: =IF(AND(دیتا!Q37=دیتا!$I$2,دیتا!R37=دیتا!$T$2)," ",IF(AND(دیتا!Q37=دیتا!$I$2,دیتا!R37=دیتا!$T$3),"",IF(K37="","",IF(تنظیمات!H43=دیتا!$T$2,44-(N37+O37+P37),44))))
A38: فروردین | B38: 1403 | C38: چهار شنبه
A39: اردیبهشت | B39: 1403 | C39: شنبه
A40: خرداد | B40: 1403 | C40: سه شنبه
A41: تیر | B41: 1403 | C41: جمعه
A42: مرداد | B42: 1403 | C42: دوشنبه
A43: شهریور | B43: 1403 | C43: پنج شنبه
A44: مهر | B44: 1403 | C44: یکشنبه
A45: آبان | B45: 1403 | C45: سه شنبه
A46: آذر | B46: 1403 | C46: پنج شنبه
A47: دی | B47: 1403 | C47: شنبه
A48: بهمن | B48: 1403 | C48: دوشنبه
A49: اسفند | B49: 1403 | C49: چهار شنبه

Sheet دیتا 2
A1: دفتر پرستاری | B1: فروردین ماه 1397 | C1: 175 | E1: J | F1: طرحی | G1: ♂ | J1: =MOD(K1-L1,1) -> 0.14583333 | K1: 0.79166667 | L1: 0.64583333 | O1: دیپلم | P1: خدمتگذار | Q1: 0 | R1: رسمی | S1: قراردادی | U1: =S1 -> قراردادی | X1: =U1 -> قراردادی | Y1: =X1 -> قراردادی
A2: اورژانس | B2: اردیبهشت ماه 1397 | C2: 80 | D2: ü | E2: K | F2: شرکتی | G2: ♀ | J2: =MOD(K2-L2,1) -> 0.14583333 | K2: 0.0625 | L2: 0.91666667 | O2: کاردان | P2: کمک پرستار | Q2: 1 | R2: قراردادی
A3: قلب | B3: خرداد ماه 1397 | E3: L | F3: قراردادی | J3: =MOD(K3-L3,1) -> 0.5 | K3: 0.125 | L3: 0.625 | O3: کارشناس | P3: کارشناس ترخیص | Q3: =Q2+1 -> 2 | R3: شرکتی
A4: CCU | B4: تیر ماه 1397 | E4: R | F4: پیمانی | J4: =MOD(K4-L4,1) -> 0.11458333 | K4: 0.052083333 | L4: 0.9375 | O4: کارشناس ارشد | Q4: =Q3+1 -> 3
A5: جنرال ICU | B5: مرداد ماه 1397 | E5: T | F5: رسمی | J5: =MOD(K5-L5,1) -> 0 | O5: دکتری | Q5: =Q4+1 -> 4 | V5: =IF(AND(S1=دیتا!A2,V1=دیتا!B2),دیتا!C2,IF(AND(S1=دیتا!A3,V1=دیتا!B3),دیتا!C3,IF(AND(S1=دیتا!A4,V1=دیتا!B4),دیتا!C4,IF(AND(S1=دیتا!A5,V1=دیتا!B5),دیتا!C5,IF(AND(S1=دیتا!A6,V1=دیتا!B6),دیتا!C6,IF(AND(S1=دیتا!A7,V1=دیتا!B7),دیتا!C7,IF(AND(S1=دیتا!A8,V1=دیتا!B8),دیتا!C8,IF(AND(S1=دیتا!A9,V1=دیتا!B9),دیتا!C9,IF(AND(S1=دیتا!A10,V1=دیتا!B10),دیتا!C10,IF(AND(S1=دیتا!A11,V1=دیتا!B11),دیتا!C11,IF(AND(S1=دیتا!A12,V1=دیتا!B12),دیتا!C12,IF(AND(S1=دیتا!A13,V1=دیتا!B13),دیتا!C13,IF(AND(S1=دیتا!A14,V1=دیتا!B14),دیتا!C14,IF(AND(S1=دیتا!A15,V1=دیتا!B15),دیتا!C15,IF(AND(S1=دیتا!A16,V1=دیتا!B16),دیتا!C16,IF(AND(S1=دیتا!A17,V1=دیتا!B17),دیتا!C17,IF(AND(S1=دیتا!A18,V1=دیتا!B18),دیتا!C18,IF(AND(S1=دیتا!A19,V1=دیتا!B19),دیتا!C19,IF(AND(S1=دیتا!A20,V1=دیتا!B20),دیتا!C20,IF(AND(S1=دیتا!A21,V1=دیتا!B21),دیتا!C21,IF(AND(S1=دیتا!A22,V1=دیتا!B22),دیتا!C22,IF(AND(S1=دیتا!A23,V1=دیتا!B23),دیتا!C23,IF(AND(S1=دیتا!A24,V1=دیتا!B24),دیتا!C24,IF(AND(S1=دیتا!A25,V1=دیتا!B25),دیتا!C25,IF(AND(S1=دیتا!A26,V1=دیتا!B26),دیتا!C26,IF(AND(S1=دیتا!A27,V1=دیتا!B27),دیتا!C27,IF(AND(S1=دیتا!A28,V1=دیتا!B28),دیتا!C28,IF(AND(S1=دیتا!A29,V1=دیتا!B29),دیتا!C29,IF(AND(S1=دیتا!A30,V1=دیتا!B30),دیتا!C30,IF(AND(S1=دیتا!A31,V1=دیتا!B31),دیتا!C31,IF(AND(S1=دیتا!A32,V1=دیتا!B32),دیتا!C32,IF(AND(S1=دیتا!A33,V1=دیتا!B33),دیتا!C33,IF(AND(S1=دیتا!A34,V1=دیتا!B34),دیتا!C34,IF(AND(S1=دیتا!A35,V1=دیتا!B35),دیتا!C35,IF(AND(S1=دیتا!A36,V1=دیتا!B36),دیتا!C36,IF(AND(S1=دیتا!A37,V1=دیتا!B37),دیتا!C37,""))))))))))))))))))))))))))))))))))))
A6: ICU نورولوژی | B6: شهریور ماه 1397 | E6: C | J6: =MOD(K6-L6,1) -> 0 | Q6: =Q5+1 -> 5 | V6: v1
A7: نورولوژی | B7: مهرماه 1397 | E7: I | J7: =MOD(K7-L7,1) -> 0 | Q7: =Q6+1 -> 6
A8: اتاق عمل | B8: آبان ماه 1397 | E8: M | J8: =MOD(K8-L8,1) -> 0 | Q8: =Q7+1 -> 7
A9: جراحی چشم | B9: آذر ماه 1397 | E9: O | J9: =MOD(K9-L9,1) -> 0 | Q9: =Q8+1 -> 8
A10: فوق تخصصی | B10: دی ماه 1397 | E10: { | J10: =MOD(K10-L10,1) -> 0 | Q10: =Q9+1 -> 9
A11: داخلی یک | B11: بهمن ماه 1397 | E11: N | J11: =MOD(K11-L11,1) -> 0 | Q11: =Q10+1 -> 10
A12: داخلی دو | B12: اسفند ماه 1397 | E12: ¯ | J12: =MOD(K12-L12,1) -> 0 | Q12: =Q11+1 -> 11
A13: عفونی | E13: A | J13: =MOD(K13-L13,1) -> 0 | Q13: =Q12+1 -> 12
A14: اندوسکوپی | J14: =MOD(K14-L14,1) -> 0 | Q14: =Q13+1 -> 13
A15: دیالیز | J15: =MOD(K15-L15,1) -> 0 | Q15: =Q14+1 -> 14
J16: =MOD(K16-L16,1) -> 0 | Q16: =Q15+1 -> 15
Q17: =Q16+1 -> 16
Q18: =Q17+1 -> 17
Q19: =Q18+1 -> 18
Q20: =Q19+1 -> 19
Q21: =Q20+1 -> 20
Q22: =Q21+1 -> 21
Q23: =Q22+1 -> 22
Q24: =Q23+1 -> 23
Q25: =Q24+1 -> 24
Q26: =Q25+1 -> 25
Q27: =Q26+1 -> 26
Q28: =Q27+1 -> 27
... Q39: =Q38+1 -> 38
