Workbook

Sheet تنظیمات
T1: ="محاسبه پزشکان اورژانس "&F2&M2&" "&"("&O2&")" -> محاسبه پزشکان اورژانس مرکز آموزشی پژوهشی درمانی بیمارستان بنت الهدیفروردین (1403)
A2: برنامه عملکرد پزشکان | E2: اورژانس | F2: مرکز آموزشی پژوهشی درمانی بیمارستان بنت الهدی | M2: فروردین | O2: 1403
B5: ردیف | C5: نام و نام خانوادگی | D5: جنسیت | E5: مدرک تحصیلی | F5: سابقه کاری | H5: تعهد تمام وقت | I5: شیفت در گردش | J5: نوع استخدام | L5: سایر اطلاعات تکمیلی | U5: تاریخ اصلاح: | X5: 44759
F7: سال | G7: ماه | L7: میزان ساعت کاری هر شیفت | U7: نسخه: | X7: v-01
B8: 1 | D8: ♀ | L8: 1 | M8: صبح | O8: 6 | U8: =TODAY()-X5 -> 623 | X8: روز قبل
B9: 2 | D9: ♀ | E9: دکتری عمومی | F9: 1 | G9: 8 | H9: ✔ | I9: ✔ | J9: طرحی | L9: 2 | M9: عصر | O9: 6
B10: 3 | D10: ♀ | E10: دکتری عمومی | G10: 12 | H10: ✔ | I10: ✔ | J10: طرحی | L10: 3 | M10: شب | O10: 12
B11: 4 | D11: ♀ | E11: دکتری عمومی | H11: ❌ | I11: ✔ | J11: تفاهمی | L11: مبلغ ریالی هر ساعت اضافه کار
B12: 5 | D12: ♀ | E12: دکتری عمومی | H12: ✔ | I12: ✔ | J12: تفاهمی | L12: 1 | M12: دارای رابطه استخدامی | O12: 850000
B13: 6 | C13: دکتر علی | D13: ♀ | E13: دکتری عمومی | F13: 17 | G13: 2 | H13: ❌ | I13: ✔ | J13: رسمی | L13: 2 | M13: فاقد رابطه استخدامی | O13: 1800000
B14: 7 | C14: دکتر صبا | D14: ♀ | E14: دکتری عمومی | F14: 0 | G14: 12 | H14: ✔ | I14: ✔ | J14: طرحی | L14: مقامات تایید کننده
B15: 8 | C15: دکتر لیلا | D15: ♀ | E15: دکتری عمومی | F15: 0 | G15: 7 | H15: ❌ | I15: ✔ | J15: تفاهمی | L15: 1 | M15: رییس بیمارستان
B16: 9 | C16: دکتر عاطفه | D16: ♀ | E16: دکتری عمومی | H16: ✔ | I16: ✔ | J16: قراردادی | L16: 2 | M16: مدیر داخلی بیمارستان
B17: 10 | C17: دکتر محسن | D17: ♀ | E17: دکتری عمومی | F17: 0 | G17: 6 | H17: ✔ | I17: ✔ | J17: طرحی | L17: 3 | M17: مسئول امور مالی
B18: 11 | C18: دکتر خالد | D18: ♀ | E18: دکتری عمومی | F18: 5 | G18: 4 | H18: ✔ | I18: ✔ | J18: پیمانی | L18: 4 | M18: مسئول کارگزینی بیمارستان
B19: 12 | L19: 5 | M19: مسئول بخش
B20: 13 | L20: 6 | M20: تنظیم کننده
B21: 14 | L21: 7 | M21: مدیر اقتصاد درمان معاونت
B22: 15
B23: 16
B24: 17
B25: 18
B26: 19
B27: 20
B28: 21
B29: 22
B30: 23
B31: 24
B32: 25
R1370: 66554862

Sheet برنامه فروردین
A1: =تنظیمات!F2 -> مرکز آموزشی پژوهشی درمانی بیمارستان بنت الهدی | O1: برنامه کاری | S1: =تنظیمات!M2 -> فروردین | V1: =تنظیمات!O2 -> 1403 | Y1: =تنظیمات!A2 -> برنامه عملکرد پزشکان | AI1: =تنظیمات!E2 -> اورژانس
A2: ردیف | B2: نوع استخدام | C2: مدرک تحصیلی | D2: سنوات | F2: ایام هفته | G2: =IF(AND(S1=دیتا!A2,V1=دیتا!B2),دیتا!C2,IF(AND(S1=دیتا!A3,V1=دیتا!B3),دیتا!C3,IF(AND(S1=دیتا!A4,V1=دیتا!B4),دیتا!C4,IF(AND(S1=دیتا!A5,V1=دیتا!B5),دیتا!C5,IF(AND(S1=دیتا!A6,V1=دیتا!B6),دیتا!C6,IF(AND(S1=دیتا!A7,V1=دیتا!B7),دیتا!C7,IF(AND(S1=دیتا!A8,V1=دیتا!B8),دیتا!C8,IF(AND(S1=دیتا!A9,V1=دیتا!B9),دیتا!C9,IF(AND(S1=دیتا!A10,V1=دیتا!B10),دیتا!C10,IF(AND(S1=دیتا!A11,V1=دیتا!B11),دیتا!C11,IF(AND(S1=دیتا!A12,V1=دیتا!B12),دیتا!C12,IF(AND(S1=دیتا!A13,V1=دیتا!B13),دیتا!C13,IF(AND(S1=دیتا!A14,V1=دیتا!B14),دیتا!C14,IF(AND(S1=دیتا!A15,V1=دیتا!B15),دیتا!C15,IF(AND(S1=دیتا!A16,V1=دیتا!B16),دیتا!C16,IF(AND(S1=دیتا!A17,V1=دیتا!B17),دیتا!C17,IF(AND(S1=دیتا!A18,V1=دیتا!B18),دیتا!C18,IF(AND(S1=دیتا!A19,V1=دیتا!B19),دیتا!C19,IF(AND(S1=دیتا!A20,V1=دیتا!B20),دیتا!C20,IF(AND(S1=دیتا!A21,V1=دیتا!B21),دیتا!C21,IF(AND(S1=دیتا!A22,V1=دیتا!B22),دیتا!C22,IF(AND(S1=دیتا!A23,V1=دیتا!B23),دیتا!C23,IF(AND(S1=دیتا!A24,V1=دیتا!B24),دیتا!C24,IF(AND(S1=دیتا!A25,V1=دیتا!B25),دیتا!C25,IF(AND(S1=دیتا!A26,V1=دیتا!B26),دیتا!C26,IF(AND(S1=دیتا!A27,V1=دیتا!B27),دیتا!C27,IF(AND(S1=دیتا!A28,V1=دیتا!B28),دیتا!C28,IF(AND(S1=دیتا!A29,V1=دیتا!B29),دیتا!C29,IF(AND(S1=دیتا!A30,V1=دیتا!B30),دیتا!C30,IF(AND(S1=دیتا!A31,V1=دیتا!B31),دیتا!C31,IF(AND(S1=دیتا!A32,V1=دیتا!B32),دیتا!C32,IF(AND(S1=دیتا!A33,V1=دیتا!B33),دیتا!C33,IF(AND(S1=دیتا!A34,V1=دیتا!B34),دیتا!C34,IF(AND(S1=دیتا!A35,V1=دیتا!B35),دیتا!C35,IF(AND(S1=دیتا!A36,V1=دیتا!B36),دیتا!C36,IF(AND(S1=دیتا!A37,V1=دیتا!B37),دیتا!C37,"")))))))))))))))))))))))))))))))))))) -> چهار شنبه | H2: =IF(G2="شنبه","یکشنبه",IF(G2="یکشنبه","دوشنبه",IF(G2="دوشنبه","سه شنبه",IF(G2="سه شنبه","چهار شنبه",IF(G2="چهار شنبه","پنج شنبه",IF(G2="پنج شنبه","جمعه",IF(G2="جمعه","شنبه"))))))) -> پنج شنبه | I2: =IF(H2="شنبه","یکشنبه",IF(H2="یکشنبه","دوشنبه",IF(H2="دوشنبه","سه شنبه",IF(H2="سه شنبه","چهار شنبه",IF(H2="چهار شنبه","پنج شنبه",IF(H2="پنج شنبه","جمعه",IF(H2="جمعه","شنبه"))))))) -> جمعه | J2: =IF(I2="شنبه","یکشنبه",IF(I2="یکشنبه","دوشنبه",IF(I2="دوشنبه","سه شنبه",IF(I2="سه شنبه","چهار شنبه",IF(I2="چهار شنبه","پنج شنبه",IF(I2="پنج شنبه","جمعه",IF(I2="جمعه","شنبه"))))))) -> شنبه | K2: =IF(J2="شنبه","یکشنبه",IF(J2="یکشنبه","دوشنبه",IF(J2="دوشنبه","سه شنبه",IF(J2="سه شنبه","چهار شنبه",IF(J2="چهار شنبه","پنج شنبه",IF(J2="پنج شنبه","جمعه",IF(J2="جمعه","شنبه"))))))) -> یکشنبه | L2: =IF(K2="شنبه","یکشنبه",IF(K2="یکشنبه","دوشنبه",IF(K2="دوشنبه","سه شنبه",IF(K2="سه شنبه","چهار شنبه",IF(K2="چهار شنبه","پنج شنبه",IF(K2="پنج شنبه","جمعه",IF(K2="جمعه","شنبه"))))))) -> دوشنبه | M2: =IF(L2="شنبه","یکشنبه",IF(L2="یکشنبه","دوشنبه",IF(L2="دوشنبه","سه شنبه",IF(L2="سه شنبه","چهار شنبه",IF(L2="چهار شنبه","پنج شنبه",IF(L2="پنج شنبه","جمعه",IF(L2="جمعه","شنبه"))))))) -> سه شنبه | N2: =IF(M2="شنبه","یکشنبه",IF(M2="یکشنبه","دوشنبه",IF(M2="دوشنبه","سه شنبه",IF(M2="سه شنبه","چهار شنبه",IF(M2="چهار شنبه","پنج شنبه",IF(M2="پنج شنبه","جمعه",IF(M2="جمعه","شنبه"))))))) -> چهار شنبه | O2: =IF(N2="شنبه","یکشنبه",IF(N2="یکشنبه","دوشنبه",IF(N2="دوشنبه","سه شنبه",IF(N2="سه شنبه","چهار شنبه",IF(N2="چهار شنبه","پنج شنبه",IF(N2="پنج شنبه","جمعه",IF(N2="جمعه","شنبه"))))))) -> پنج شنبه | ... AK2: =IF(AJ2="شنبه","یکشنبه",IF(AJ2="یکشنبه","دوشنبه",IF(AJ2="دوشنبه","سه شنبه",IF(AJ2="سه شنبه","چهار شنبه",IF(AJ2="چهار شنبه","پنج شنبه",IF(AJ2="پنج شنبه","جمعه",IF(AJ2="جمعه","شنبه"))))))) -> جمعه
D3: سال | E3: ماه | F3: تعطیل | K3: ✔ | S3: ✔ | Y3: ✔ | AF3: ✔
F4: نام و نام خانوادگی | G4: 1 | H4: 2 | I4: 3 | J4: 4 | K4: 5 | L4: 6 | M4: 7 | N4: 8 | O4: 9 | P4: 10 | Q4: 11 | R4: 12 | S4: 13 | T4: 14 | U4: 15 | V4: 16 | W4: 17 | X4: 18 | Y4: 19 | Z4: 20 | AA4: 21 | AB4: 22 | AC4: 23 | AD4: 24 | AE4: 25 | AF4: 26 | AG4: 27 | AH4: 28 | AI4: 29 | AJ4: 30 | AK4: 31 | AL4: M | AM4: E | AN4: N | AO4: H | AP4: S | AQ4: Σ
A5: 1 | B5: =IFERROR(INDEX(تنظیمات!$B$5:$J$32,MATCH('برنامه فروردین'!F5,تنظیمات!$C$5:$C$32,0),9),"") | C5: =IFERROR(INDEX(تنظیمات!$B$5:$J$32,MATCH('برنامه فروردین'!F5,تنظیمات!$C$5:$C$32,0),4),"") | D5: =IFERROR(INDEX(تنظیمات!$B$5:$J$32,MATCH('برنامه فروردین'!F5,تنظیمات!$C$5:$C$32,0),5),"") | E5: =IFERROR(INDEX(تنظیمات!$B$5:$J$32,MATCH('برنامه فروردین'!F5,تنظیمات!$C$5:$C$32,0),6),"") | F5: =IFERROR(INDEX(دیتا!$J$2:$K$26,MATCH('برنامه فروردین'!A5,دیتا!$J$2:$J$26,0),2),"") | AL5: =COUNTIF(G5:AK5,"=M")+COUNTIF(G5:AK5,"=ME")+COUNTIF(G5:AK5,"=MN") -> 0 | AM5: =COUNTIF(G5:AK5,"=E")+COUNTIF(G5:AK5,"=ME")+COUNTIF(G5:AK5,"=en") -> 0 | AN5: =COUNTIF(G5:AK5,"=N")+COUNTIF(G5:AK5,"=MN")+COUNTIF(G5:AK5,"=en") -> 0 | AO5: =COUNTIF(G5:AK5,"=H") -> 0 | AP5: =COUNTIF(G5:AK5,"=S") -> 0 | AQ5: =AL5+AM5+(AN5*2) -> 0
A6: 2 | B6: =IFERROR(INDEX(تنظیمات!$B$5:$J$32,MATCH('برنامه فروردین'!F6,تنظیمات!$C$5:$C$32,0),9),"") -> رسمی | C6: =IFERROR(INDEX(تنظیمات!$B$5:$J$32,MATCH('برنامه فروردین'!F6,تنظیمات!$C$5:$C$32,0),4),"") -> دکتری عمومی | D6: =IFERROR(INDEX(تنظیمات!$B$5:$J$32,MATCH('برنامه فروردین'!F6,تنظیمات!$C$5:$C$32,0),5),"") -> 17 | E6: =IFERROR(INDEX(تنظیمات!$B$5:$J$32,MATCH('برنامه فروردین'!F6,تنظیمات!$C$5:$C$32,0),6),"") -> 2 | F6: =IFERROR(INDEX(دیتا!$J$2:$K$26,MATCH('برنامه فروردین'!A6,دیتا!$J$2:$J$26,0),2),"") -> دکتر علی | G6: N | I6: E | J6: N | L6: E | N6: N | P6: E | Q6: MN | R6: N | S6: E | T6: M | V6: M | W6: N | X6: E | Z6: N | AA6: E | AF6: N | AG6: N | AJ6: E | AL6: =COUNTIF(G6:AK6,"=M")+COUNTIF(G6:AK6,"=ME")+COUNTIF(G6:AK6,"=MN") -> 3 | AM6: =COUNTIF(G6:AK6,"=E")+COUNTIF(G6:AK6,"=ME")+COUNTIF(G6:AK6,"=en") -> 7 | AN6: =COUNTIF(G6:AK6,"=N")+COUNTIF(G6:AK6,"=MN")+COUNTIF(G6:AK6,"=en") -> 9 | AO6: =COUNTIF(G6:AK6,"=H") -> 0 | AP6: =COUNTIF(G6:AK6,"=S") -> 0 | AQ6: =AL6+AM6+(AN6*2) -> 28
A7: 3 | B7: =IFERROR(INDEX(تنظیمات!$B$5:$J$32,MATCH('برنامه فروردین'!F7,تنظیمات!$C$5:$C$32,0),9),"") -> پیمانی | C7: =IFERROR(INDEX(تنظیمات!$B$5:$J$32,MATCH('برنامه فروردین'!F7,تنظیمات!$C$5:$C$32,0),4),"") -> دکتری عمومی | D7: =IFERROR(INDEX(تنظیمات!$B$5:$J$32,MATCH('برنامه فروردین'!F7,تنظیمات!$C$5:$C$32,0),5),"") -> 5 | E7: =IFERROR(INDEX(تنظیمات!$B$5:$J$32,MATCH('برنامه فروردین'!F7,تنظیمات!$C$5:$C$32,0),6),"") -> 4 | F7: =IFERROR(INDEX(دیتا!$J$2:$K$26,MATCH('برنامه فروردین'!A7,دیتا!$J$2:$J$26,0),2),"") -> دکتر خالد | H7: N | J7: M | K7: M | M7: M | N7: EN | O7: N | T7: N | U7: N | W7: M | X7: N | Y7: E | Z7: M | AA7: M | AD7: H | AE7: H | AH7: M | AI7: N | AL7: =COUNTIF(G7:AK7,"=M")+COUNTIF(G7:AK7,"=ME")+COUNTIF(G7:AK7,"=MN") -> 7 | AM7: =COUNTIF(G7:AK7,"=E")+COUNTIF(G7:AK7,"=ME")+COUNTIF(G7:AK7,"=en") -> 2 | AN7: =COUNTIF(G7:AK7,"=N")+COUNTIF(G7:AK7,"=MN")+COUNTIF(G7:AK7,"=en") -> 7 | AO7: =COUNTIF(G7:AK7,"=H") -> 2 | AP7: =COUNTIF(G7:AK7,"=S") -> 0 | AQ7: =AL7+AM7+(AN7*2) -> 23
A8: 4 | B8: =IFERROR(INDEX(تنظیمات!$B$5:$J$32,MATCH('برنامه فروردین'!F8,تنظیمات!$C$5:$C$32,0),9),"") | C8: =IFERROR(INDEX(تنظیمات!$B$5:$J$32,MATCH('برنامه فروردین'!F8,تنظیمات!$C$5:$C$32,0),4),"") | D8: =IFERROR(INDEX(تنظیمات!$B$5:$J$32,MATCH('برنامه فروردین'!F8,تنظیمات!$C$5:$C$32,0),5),"") | E8: =IFERROR(INDEX(تنظیمات!$B$5:$J$32,MATCH('برنامه فروردین'!F8,تنظیمات!$C$5:$C$32,0),6),"") | F8: =IFERROR(INDEX(دیتا!$J$2:$K$26,MATCH('برنامه فروردین'!A8,دیتا!$J$2:$J$26,0),2),"") | AL8: =COUNTIF(G8:AK8,"=M")+COUNTIF(G8:AK8,"=ME")+COUNTIF(G8:AK8,"=MN") -> 0 | AM8: =COUNTIF(G8:AK8,"=E")+COUNTIF(G8:AK8,"=ME")+COUNTIF(G8:AK8,"=en") -> 0 | AN8: =COUNTIF(G8:AK8,"=N")+COUNTIF(G8:AK8,"=MN")+COUNTIF(G8:AK8,"=en") -> 0 | AO8: =COUNTIF(G8:AK8,"=H") -> 0 | AP8: =COUNTIF(G8:AK8,"=S") -> 0 | AQ8: =AL8+AM8+(AN8*2) -> 0
A9: 5 | B9: =IFERROR(INDEX(تنظیمات!$B$5:$J$32,MATCH('برنامه فروردین'!F9,تنظیمات!$C$5:$C$32,0),9),"") | C9: =IFERROR(INDEX(تنظیمات!$B$5:$J$32,MATCH('برنامه فروردین'!F9,تنظیمات!$C$5:$C$32,0),4),"") | D9: =IFERROR(INDEX(تنظیمات!$B$5:$J$32,MATCH('برنامه فروردین'!F9,تنظیمات!$C$5:$C$32,0),5),"") | E9: =IFERROR(INDEX(تنظیمات!$B$5:$J$32,MATCH('برنامه فروردین'!F9,تنظیمات!$C$5:$C$32,0),6),"") | F9: =IFERROR(INDEX(دیتا!$J$2:$K$26,MATCH('برنامه فروردین'!A9,دیتا!$J$2:$J$26,0),2),"") | L9: E | AL9: =COUNTIF(G9:AK9,"=M")+COUNTIF(G9:AK9,"=ME")+COUNTIF(G9:AK9,"=MN") -> 0 | AM9: =COUNTIF(G9:AK9,"=E")+COUNTIF(G9:AK9,"=ME")+COUNTIF(G9:AK9,"=en") -> 1 | AN9: =COUNTIF(G9:AK9,"=N")+COUNTIF(G9:AK9,"=MN")+COUNTIF(G9:AK9,"=en") -> 0 | AO9: =COUNTIF(G9:AK9,"=H") -> 0 | AP9: =COUNTIF(G9:AK9,"=S") -> 0 | AQ9: =AL9+AM9+(AN9*2) -> 1
A10: 6 | B10: =IFERROR(INDEX(تنظیمات!$B$5:$J$32,MATCH('برنامه فروردین'!F10,تنظیمات!$C$5:$C$32,0),9),"") -> طرحی | C10: =IFERROR(INDEX(تنظیمات!$B$5:$J$32,MATCH('برنامه فروردین'!F10,تنظیمات!$C$5:$C$32,0),4),"") -> دکتری عمومی | D10: =IFERROR(INDEX(تنظیمات!$B$5:$J$32,MATCH('برنامه فروردین'!F10,تنظیمات!$C$5:$C$32,0),5),"") -> 0 | E10: =IFERROR(INDEX(تنظیمات!$B$5:$J$32,MATCH('برنامه فروردین'!F10,تنظیمات!$C$5:$C$32,0),6),"") -> 12 | F10: =IFERROR(INDEX(دیتا!$J$2:$K$26,MATCH('برنامه فروردین'!A10,دیتا!$J$2:$J$26,0),2),"") -> دکتر صبا | I10: N | K10: E | L10: N | S10: N | U10: M | Y10: MN | AA10: N | AC10: M | AD10: N | AF10: M | AH10: N | AL10: =COUNTIF(G10:AK10,"=M")+COUNTIF(G10:AK10,"=ME")+COUNTIF(G10:AK10,"=MN") -> 4 | AM10: =COUNTIF(G10:AK10,"=E")+COUNTIF(G10:AK10,"=ME")+COUNTIF(G10:AK10,"=en") -> 1 | AN10: =COUNTIF(G10:AK10,"=N")+COUNTIF(G10:AK10,"=MN")+COUNTIF(G10:AK10,"=en") -> 7 | AO10: =COUNTIF(G10:AK10,"=H") -> 0 | AP10: =COUNTIF(G10:AK10,"=S") -> 0 | AQ10: =AL10+AM10+(AN10*2) -> 19
A11: 7 | B11: =IFERROR(INDEX(تنظیمات!$B$5:$J$32,MATCH('برنامه فروردین'!F11,تنظیمات!$C$5:$C$32,0),9),"") -> تفاهمی | C11: =IFERROR(INDEX(تنظیمات!$B$5:$J$32,MATCH('برنامه فروردین'!F11,تنظیمات!$C$5:$C$32,0),4),"") -> دکتری عمومی | D11: =IFERROR(INDEX(تنظیمات!$B$5:$J$32,MATCH('برنامه فروردین'!F11,تنظیمات!$C$5:$C$32,0),5),"") -> 0 | E11: =IFERROR(INDEX(تنظیمات!$B$5:$J$32,MATCH('برنامه فروردین'!F11,تنظیمات!$C$5:$C$32,0),6),"") -> 7 | F11: =IFERROR(INDEX(دیتا!$J$2:$K$26,MATCH('برنامه فروردین'!A11,دیتا!$J$2:$J$26,0),2),"") -> دکتر لیلا | AL11: =COUNTIF(G11:AK11,"=M")+COUNTIF(G11:AK11,"=ME")+COUNTIF(G11:AK11,"=MN") -> 0 | AM11: =COUNTIF(G11:AK11,"=E")+COUNTIF(G11:AK11,"=ME")+COUNTIF(G11:AK11,"=en") -> 0 | AN11: =COUNTIF(G11:AK11,"=N")+COUNTIF(G11:AK11,"=MN")+COUNTIF(G11:AK11,"=en") -> 0 | AO11: =COUNTIF(G11:AK11,"=H") -> 0 | AP11: =COUNTIF(G11:AK11,"=S") -> 0 | AQ11: =AL11+AM11+(AN11*2) -> 0
A12: 8 | B12: =IFERROR(INDEX(تنظیمات!$B$5:$J$32,MATCH('برنامه فروردین'!F12,تنظیمات!$C$5:$C$32,0),9),"") -> طرحی | C12: =IFERROR(INDEX(تنظیمات!$B$5:$J$32,MATCH('برنامه فروردین'!F12,تنظیمات!$C$5:$C$32,0),4),"") -> دکتری عمومی | D12: =IFERROR(INDEX(تنظیمات!$B$5:$J$32,MATCH('برنامه فروردین'!F12,تنظیمات!$C$5:$C$32,0),5),"") -> 0 | E12: =IFERROR(INDEX(تنظیمات!$B$5:$J$32,MATCH('برنامه فروردین'!F12,تنظیمات!$C$5:$C$32,0),6),"") -> 6 | F12: =IFERROR(INDEX(دیتا!$J$2:$K$26,MATCH('برنامه فروردین'!A12,دیتا!$J$2:$J$26,0),2),"") -> دکتر محسن | H12: E | I12: M | K12: N | M12: N | O12: M | P12: N | R12: E | S12: M | Z12: E | AB12: N | AC12: N | AE12: MN | AF12: E | AG12: E | AH12: E | AL12: =COUNTIF(G12:AK12,"=M")+COUNTIF(G12:AK12,"=ME")+COUNTIF(G12:AK12,"=MN") -> 4 | AM12: =COUNTIF(G12:AK12,"=E")+COUNTIF(G12:AK12,"=ME")+COUNTIF(G12:AK12,"=en") -> 6 | AN12: =COUNTIF(G12:AK12,"=N")+COUNTIF(G12:AK12,"=MN")+COUNTIF(G12:AK12,"=en") -> 6 | AO12: =COUNTIF(G12:AK12,"=H") -> 0 | AP12: =COUNTIF(G12:AK12,"=S") -> 0 | AQ12: =AL12+AM12+(AN12*2) -> 22
A13: 9 | B13: =IFERROR(INDEX(تنظیمات!$B$5:$J$32,MATCH('برنامه فروردین'!F13,تنظیمات!$C$5:$C$32,0),9),"") | C13: =IFERROR(INDEX(تنظیمات!$B$5:$J$32,MATCH('برنامه فروردین'!F13,تنظیمات!$C$5:$C$32,0),4),"") | D13: =IFERROR(INDEX(تنظیمات!$B$5:$J$32,MATCH('برنامه فروردین'!F13,تنظیمات!$C$5:$C$32,0),5),"") | E13: =IFERROR(INDEX(تنظیمات!$B$5:$J$32,MATCH('برنامه فروردین'!F13,تنظیمات!$C$5:$C$32,0),6),"") | F13: =IFERROR(INDEX(دیتا!$J$2:$K$26,MATCH('برنامه فروردین'!A13,دیتا!$J$2:$J$26,0),2),"") | G13: M | R13: M | T13: E | U13: E | V13: N | AC13: E | AJ13: N | AL13: =COUNTIF(G13:AK13,"=M")+COUNTIF(G13:AK13,"=ME")+COUNTIF(G13:AK13,"=MN") -> 2 | AM13: =COUNTIF(G13:AK13,"=E")+COUNTIF(G13:AK13,"=ME")+COUNTIF(G13:AK13,"=en") -> 3 | AN13: =COUNTIF(G13:AK13,"=N")+COUNTIF(G13:AK13,"=MN")+COUNTIF(G13:AK13,"=en") -> 2 | AO13: =COUNTIF(G13:AK13,"=H") -> 0 | AP13: =COUNTIF(G13:AK13,"=S") -> 0 | AQ13: =AL13+AM13+(AN13*2) -> 9
A14: 10 | B14: =IFERROR(INDEX(تنظیمات!$B$5:$J$32,MATCH('برنامه فروردین'!F14,تنظیمات!$C$5:$C$32,0),9),"") | C14: =IFERROR(INDEX(تنظیمات!$B$5:$J$32,MATCH('برنامه فروردین'!F14,تنظیمات!$C$5:$C$32,0),4),"") | D14: =IFERROR(INDEX(تنظیمات!$B$5:$J$32,MATCH('برنامه فروردین'!F14,تنظیمات!$C$5:$C$32,0),5),"") | E14: =IFERROR(INDEX(تنظیمات!$B$5:$J$32,MATCH('برنامه فروردین'!F14,تنظیمات!$C$5:$C$32,0),6),"") | F14: =IFERROR(INDEX(دیتا!$J$2:$K$26,MATCH('برنامه فروردین'!A14,دیتا!$J$2:$J$26,0),2),"") | G14: E | H14: M | J14: E | L14: M | M14: E | N14: E | O14: E | P14: M | Q14: E | V14: E | W14: E | X14: M | AB14: ME | AD14: ME | AE14: E | AG14: M | AI14: ME | AJ14: M | AL14: =COUNTIF(G14:AK14,"=M")+COUNTIF(G14:AK14,"=ME")+COUNTIF(G14:AK14,"=MN") -> 9 | AM14: =COUNTIF(G14:AK14,"=E")+COUNTIF(G14:AK14,"=ME")+COUNTIF(G14:AK14,"=en") -> 12 | AN14: =COUNTIF(G14:AK14,"=N")+COUNTIF(G14:AK14,"=MN")+COUNTIF(G14:AK14,"=en") -> 0 | AO14: =COUNTIF(G14:AK14,"=H") -> 0 | AP14: =COUNTIF(G14:AK14,"=S") -> 0 | AQ14: =AL14+AM14+(AN14*2) -> 21
A15: 11 | B15: =IFERROR(INDEX(تنظیمات!$B$5:$J$32,MATCH('برنامه فروردین'!F15,تنظیمات!$C$5:$C$32,0),9),"") -> قراردادی | C15: =IFERROR(INDEX(تنظیمات!$B$5:$J$32,MATCH('برنامه فروردین'!F15,تنظیمات!$C$5:$C$32,0),4),"") -> دکتری عمومی | D15: =IFERROR(INDEX(تنظیمات!$B$5:$J$32,MATCH('برنامه فروردین'!F15,تنظیمات!$C$5:$C$32,0),5),"") -> 0 | E15: =IFERROR(INDEX(تنظیمات!$B$5:$J$32,MATCH('برنامه فروردین'!F15,تنظیمات!$C$5:$C$32,0),6),"") -> 0 | F15: =IFERROR(INDEX(دیتا!$J$2:$K$26,MATCH('برنامه فروردین'!A15,دیتا!$J$2:$J$26,0),2),"") -> دکتر عاطفه | AL15: =COUNTIF(G15:AK15,"=M")+COUNTIF(G15:AK15,"=ME")+COUNTIF(G15:AK15,"=MN") -> 0 | AM15: =COUNTIF(G15:AK15,"=E")+COUNTIF(G15:AK15,"=ME")+COUNTIF(G15:AK15,"=en") -> 0 | AN15: =COUNTIF(G15:AK15,"=N")+COUNTIF(G15:AK15,"=MN")+COUNTIF(G15:AK15,"=en") -> 0 | AO15: =COUNTIF(G15:AK15,"=H") -> 0 | AP15: =COUNTIF(G15:AK15,"=S") -> 0 | AQ15: =AL15+AM15+(AN15*2) -> 0
A16: 12 | B16: =IFERROR(INDEX(تنظیمات!$B$5:$J$32,MATCH('برنامه فروردین'!F16,تنظیمات!$C$5:$C$32,0),9),"") | C16: =IFERROR(INDEX(تنظیمات!$B$5:$J$32,MATCH('برنامه فروردین'!F16,تنظیمات!$C$5:$C$32,0),4),"") | D16: =IFERROR(INDEX(تنظیمات!$B$5:$J$32,MATCH('برنامه فروردین'!F16,تنظیمات!$C$5:$C$32,0),5),"") | E16: =IFERROR(INDEX(تنظیمات!$B$5:$J$32,MATCH('برنامه فروردین'!F16,تنظیمات!$C$5:$C$32,0),6),"") | F16: =IFERROR(INDEX(دیتا!$J$2:$K$26,MATCH('برنامه فروردین'!A16,دیتا!$J$2:$J$26,0),2),"") | AL16: =COUNTIF(G16:AK16,"=M")+COUNTIF(G16:AK16,"=ME")+COUNTIF(G16:AK16,"=MN") -> 0 | AM16: =COUNTIF(G16:AK16,"=E")+COUNTIF(G16:AK16,"=ME")+COUNTIF(G16:AK16,"=en") -> 0 | AN16: =COUNTIF(G16:AK16,"=N")+COUNTIF(G16:AK16,"=MN")+COUNTIF(G16:AK16,"=en") -> 0 | AO16: =COUNTIF(G16:AK16,"=H") -> 0 | AP16: =COUNTIF(G16:AK16,"=S") -> 0 | AQ16: =AL16+AM16+(AN16*2) -> 0
A17: 13 | B17: =IFERROR(INDEX(تنظیمات!$B$5:$J$32,MATCH('برنامه فروردین'!F17,تنظیمات!$C$5:$C$32,0),9),"") | C17: =IFERROR(INDEX(تنظیمات!$B$5:$J$32,MATCH('برنامه فروردین'!F17,تنظیمات!$C$5:$C$32,0),4),"") | D17: =IFERROR(INDEX(تنظیمات!$B$5:$J$32,MATCH('برنامه فروردین'!F17,تنظیمات!$C$5:$C$32,0),5),"") | E17: =IFERROR(INDEX(تنظیمات!$B$5:$J$32,MATCH('برنامه فروردین'!F17,تنظیمات!$C$5:$C$32,0),6),"") | F17: =IFERROR(INDEX(دیتا!$J$2:$K$26,MATCH('برنامه فروردین'!A17,دیتا!$J$2:$J$26,0),2),"") | AL17: =COUNTIF(G17:AK17,"=M")+COUNTIF(G17:AK17,"=ME")+COUNTIF(G17:AK17,"=MN") -> 0 | AM17: =COUNTIF(G17:AK17,"=E")+COUNTIF(G17:AK17,"=ME")+COUNTIF(G17:AK17,"=en") -> 0 | AN17: =COUNTIF(G17:AK17,"=N")+COUNTIF(G17:AK17,"=MN")+COUNTIF(G17:AK17,"=en") -> 0 | AO17: =COUNTIF(G17:AK17,"=H") -> 0 | AP17: =COUNTIF(G17:AK17,"=S") -> 0 | AQ17: =AL17+AM17+(AN17*2) -> 0
A18: 14 | B18: =IFERROR(INDEX(تنظیمات!$B$5:$J$32,MATCH('برنامه فروردین'!F18,تنظیمات!$C$5:$C$32,0),9),"") | C18: =IFERROR(INDEX(تنظیمات!$B$5:$J$32,MATCH('برنامه فروردین'!F18,تنظیمات!$C$5:$C$32,0),4),"") | D18: =IFERROR(INDEX(تنظیمات!$B$5:$J$32,MATCH('برنامه فروردین'!F18,تنظیمات!$C$5:$C$32,0),5),"") | E18: =IFERROR(INDEX(تنظیمات!$B$5:$J$32,MATCH('برنامه فروردین'!F18,تنظیمات!$C$5:$C$32,0),6),"") | F18: =IFERROR(INDEX(دیتا!$J$2:$K$26,MATCH('برنامه فروردین'!A18,دیتا!$J$2:$J$26,0),2),"") | AL18: =COUNTIF(G18:AK18,"=M")+COUNTIF(G18:AK18,"=ME")+COUNTIF(G18:AK18,"=MN") -> 0 | AM18: =COUNTIF(G18:AK18,"=E")+COUNTIF(G18:AK18,"=ME")+COUNTIF(G18:AK18,"=en") -> 0 | AN18: =COUNTIF(G18:AK18,"=N")+COUNTIF(G18:AK18,"=MN")+COUNTIF(G18:AK18,"=en") -> 0 | AO18: =COUNTIF(G18:AK18,"=H") -> 0 | AP18: =COUNTIF(G18:AK18,"=S") -> 0 | AQ18: =AL18+AM18+(AN18*2) -> 0
A19: 15 | B19: =IFERROR(INDEX(تنظیمات!$B$5:$J$32,MATCH('برنامه فروردین'!F19,تنظیمات!$C$5:$C$32,0),9),"") | C19: =IFERROR(INDEX(تنظیمات!$B$5:$J$32,MATCH('برنامه فروردین'!F19,تنظیمات!$C$5:$C$32,0),4),"") | D19: =IFERROR(INDEX(تنظیمات!$B$5:$J$32,MATCH('برنامه فروردین'!F19,تنظیمات!$C$5:$C$32,0),5),"") | E19: =IFERROR(INDEX(تنظیمات!$B$5:$J$32,MATCH('برنامه فروردین'!F19,تنظیمات!$C$5:$C$32,0),6),"") | F19: =IFERROR(INDEX(دیتا!$J$2:$K$26,MATCH('برنامه فروردین'!A19,دیتا!$J$2:$J$26,0),2),"") | AL19: =COUNTIF(G19:AK19,"=M")+COUNTIF(G19:AK19,"=ME")+COUNTIF(G19:AK19,"=MN") -> 0 | AM19: =COUNTIF(G19:AK19,"=E")+COUNTIF(G19:AK19,"=ME")+COUNTIF(G19:AK19,"=en") -> 0 | AN19: =COUNTIF(G19:AK19,"=N")+COUNTIF(G19:AK19,"=MN")+COUNTIF(G19:AK19,"=en") -> 0 | AO19: =COUNTIF(G19:AK19,"=H") -> 0 | AP19: =COUNTIF(G19:AK19,"=S") -> 0 | AQ19: =AL19+AM19+(AN19*2) -> 0
A20: 16 | B20: =IFERROR(INDEX(تنظیمات!$B$5:$J$32,MATCH('برنامه فروردین'!F20,تنظیمات!$C$5:$C$32,0),9),"") | C20: =IFERROR(INDEX(تنظیمات!$B$5:$J$32,MATCH('برنامه فروردین'!F20,تنظیمات!$C$5:$C$32,0),4),"") | D20: =IFERROR(INDEX(تنظیمات!$B$5:$J$32,MATCH('برنامه فروردین'!F20,تنظیمات!$C$5:$C$32,0),5),"") | E20: =IFERROR(INDEX(تنظیمات!$B$5:$J$32,MATCH('برنامه فروردین'!F20,تنظیمات!$C$5:$C$32,0),6),"") | F20: =IFERROR(INDEX(دیتا!$J$2:$K$26,MATCH('برنامه فروردین'!A20,دیتا!$J$2:$J$26,0),2),"") | AL20: =COUNTIF(G20:AK20,"=M")+COUNTIF(G20:AK20,"=ME")+COUNTIF(G20:AK20,"=MN") -> 0 | AM20: =COUNTIF(G20:AK20,"=E")+COUNTIF(G20:AK20,"=ME")+COUNTIF(G20:AK20,"=en") -> 0 | AN20: =COUNTIF(G20:AK20,"=N")+COUNTIF(G20:AK20,"=MN")+COUNTIF(G20:AK20,"=en") -> 0 | AO20: =COUNTIF(G20:AK20,"=H") -> 0 | AP20: =COUNTIF(G20:AK20,"=S") -> 0 | AQ20: =AL20+AM20+(AN20*2) -> 0
A21: 17 | B21: =IFERROR(INDEX(تنظیمات!$B$5:$J$32,MATCH('برنامه فروردین'!F21,تنظیمات!$C$5:$C$32,0),9),"") | C21: =IFERROR(INDEX(تنظیمات!$B$5:$J$32,MATCH('برنامه فروردین'!F21,تنظیمات!$C$5:$C$32,0),4),"") | D21: =IFERROR(INDEX(تنظیمات!$B$5:$J$32,MATCH('برنامه فروردین'!F21,تنظیمات!$C$5:$C$32,0),5),"") | E21: =IFERROR(INDEX(تنظیمات!$B$5:$J$32,MATCH('برنامه فروردین'!F21,تنظیمات!$C$5:$C$32,0),6),"") | F21: =IFERROR(INDEX(دیتا!$J$2:$K$26,MATCH('برنامه فروردین'!A21,دیتا!$J$2:$J$26,0),2),"") | AL21: =COUNTIF(G21:AK21,"=M")+COUNTIF(G21:AK21,"=ME")+COUNTIF(G21:AK21,"=MN") -> 0 | AM21: =COUNTIF(G21:AK21,"=E")+COUNTIF(G21:AK21,"=ME")+COUNTIF(G21:AK21,"=en") -> 0 | AN21: =COUNTIF(G21:AK21,"=N")+COUNTIF(G21:AK21,"=MN")+COUNTIF(G21:AK21,"=en") -> 0 | AO21: =COUNTIF(G21:AK21,"=H") -> 0 | AP21: =COUNTIF(G21:AK21,"=S") -> 0 | AQ21: =AL21+AM21+(AN21*2) -> 0
A22: 18 | B22: =IFERROR(INDEX(تنظیمات!$B$5:$J$32,MATCH('برنامه فروردین'!F22,تنظیمات!$C$5:$C$32,0),9),"") | C22: =IFERROR(INDEX(تنظیمات!$B$5:$J$32,MATCH('برنامه فروردین'!F22,تنظیمات!$C$5:$C$32,0),4),"") | D22: =IFERROR(INDEX(تنظیمات!$B$5:$J$32,MATCH('برنامه فروردین'!F22,تنظیمات!$C$5:$C$32,0),5),"") | E22: =IFERROR(INDEX(تنظیمات!$B$5:$J$32,MATCH('برنامه فروردین'!F22,تنظیمات!$C$5:$C$32,0),6),"") | F22: =IFERROR(INDEX(دیتا!$J$2:$K$26,MATCH('برنامه فروردین'!A22,دیتا!$J$2:$J$26,0),2),"") | AL22: =COUNTIF(G22:AK22,"=M")+COUNTIF(G22:AK22,"=ME")+COUNTIF(G22:AK22,"=MN") -> 0 | AM22: =COUNTIF(G22:AK22,"=E")+COUNTIF(G22:AK22,"=ME")+COUNTIF(G22:AK22,"=en") -> 0 | AN22: =COUNTIF(G22:AK22,"=N")+COUNTIF(G22:AK22,"=MN")+COUNTIF(G22:AK22,"=en") -> 0 | AO22: =COUNTIF(G22:AK22,"=H") -> 0 | AP22: =COUNTIF(G22:AK22,"=S") -> 0 | AQ22: =AL22+AM22+(AN22*2) -> 0
A23: 19 | B23: =IFERROR(INDEX(تنظیمات!$B$5:$J$32,MATCH('برنامه فروردین'!F23,تنظیمات!$C$5:$C$32,0),9),"") | C23: =IFERROR(INDEX(تنظیمات!$B$5:$J$32,MATCH('برنامه فروردین'!F23,تنظیمات!$C$5:$C$32,0),4),"") | D23: =IFERROR(INDEX(تنظیمات!$B$5:$J$32,MATCH('برنامه فروردین'!F23,تنظیمات!$C$5:$C$32,0),5),"") | E23: =IFERROR(INDEX(تنظیمات!$B$5:$J$32,MATCH('برنامه فروردین'!F23,تنظیمات!$C$5:$C$32,0),6),"") | F23: =IFERROR(INDEX(دیتا!$J$2:$K$26,MATCH('برنامه فروردین'!A23,دیتا!$J$2:$J$26,0),2),"") | AL23: =COUNTIF(G23:AK23,"=M")+COUNTIF(G23:AK23,"=ME")+COUNTIF(G23:AK23,"=MN") -> 0 | AM23: =COUNTIF(G23:AK23,"=E")+COUNTIF(G23:AK23,"=ME")+COUNTIF(G23:AK23,"=en") -> 0 | AN23: =COUNTIF(G23:AK23,"=N")+COUNTIF(G23:AK23,"=MN")+COUNTIF(G23:AK23,"=en") -> 0 | AO23: =COUNTIF(G23:AK23,"=H") -> 0 | AP23: =COUNTIF(G23:AK23,"=S") -> 0 | AQ23: =AL23+AM23+(AN23*2) -> 0
A24: 20 | B24: =IFERROR(INDEX(تنظیمات!$B$5:$J$32,MATCH('برنامه فروردین'!F24,تنظیمات!$C$5:$C$32,0),9),"") | C24: =IFERROR(INDEX(تنظیمات!$B$5:$J$32,MATCH('برنامه فروردین'!F24,تنظیمات!$C$5:$C$32,0),4),"") | D24: =IFERROR(INDEX(تنظیمات!$B$5:$J$32,MATCH('برنامه فروردین'!F24,تنظیمات!$C$5:$C$32,0),5),"") | E24: =IFERROR(INDEX(تنظیمات!$B$5:$J$32,MATCH('برنامه فروردین'!F24,تنظیمات!$C$5:$C$32,0),6),"") | F24: =IFERROR(INDEX(دیتا!$J$2:$K$26,MATCH('برنامه فروردین'!A24,دیتا!$J$2:$J$26,0),2),"") | AL24: =COUNTIF(G24:AK24,"=M")+COUNTIF(G24:AK24,"=ME")+COUNTIF(G24:AK24,"=MN") -> 0 | AM24: =COUNTIF(G24:AK24,"=E")+COUNTIF(G24:AK24,"=ME")+COUNTIF(G24:AK24,"=en") -> 0 | AN24: =COUNTIF(G24:AK24,"=N")+COUNTIF(G24:AK24,"=MN")+COUNTIF(G24:AK24,"=en") -> 0 | AO24: =COUNTIF(G24:AK24,"=H") -> 0 | AP24: =COUNTIF(G24:AK24,"=S") -> 0 | AQ24: =AL24+AM24+(AN24*2) -> 0
A25: 21 | B25: =IFERROR(INDEX(تنظیمات!$B$5:$J$32,MATCH('برنامه فروردین'!F25,تنظیمات!$C$5:$C$32,0),9),"") | C25: =IFERROR(INDEX(تنظیمات!$B$5:$J$32,MATCH('برنامه فروردین'!F25,تنظیمات!$C$5:$C$32,0),4),"") | D25: =IFERROR(INDEX(تنظیمات!$B$5:$J$32,MATCH('برنامه فروردین'!F25,تنظیمات!$C$5:$C$32,0),5),"") | E25: =IFERROR(INDEX(تنظیمات!$B$5:$J$32,MATCH('برنامه فروردین'!F25,تنظیمات!$C$5:$C$32,0),6),"") | F25: =IFERROR(INDEX(دیتا!$J$2:$K$26,MATCH('برنامه فروردین'!A25,دیتا!$J$2:$J$26,0),2),"") | AL25: =COUNTIF(G25:AK25,"=M")+COUNTIF(G25:AK25,"=ME")+COUNTIF(G25:AK25,"=MN") -> 0 | AM25: =COUNTIF(G25:AK25,"=E")+COUNTIF(G25:AK25,"=ME")+COUNTIF(G25:AK25,"=en") -> 0 | AN25: =COUNTIF(G25:AK25,"=N")+COUNTIF(G25:AK25,"=MN")+COUNTIF(G25:AK25,"=en") -> 0 | AO25: =COUNTIF(G25:AK25,"=H") -> 0 | AP25: =COUNTIF(G25:AK25,"=S") -> 0 | AQ25: =AL25+AM25+(AN25*2) -> 0
A26: 22 | B26: =IFERROR(INDEX(تنظیمات!$B$5:$J$32,MATCH('برنامه فروردین'!F26,تنظیمات!$C$5:$C$32,0),9),"") | C26: =IFERROR(INDEX(تنظیمات!$B$5:$J$32,MATCH('برنامه فروردین'!F26,تنظیمات!$C$5:$C$32,0),4),"") | D26: =IFERROR(INDEX(تنظیمات!$B$5:$J$32,MATCH('برنامه فروردین'!F26,تنظیمات!$C$5:$C$32,0),5),"") | E26: =IFERROR(INDEX(تنظیمات!$B$5:$J$32,MATCH('برنامه فروردین'!F26,تنظیمات!$C$5:$C$32,0),6),"") | F26: =IFERROR(INDEX(دیتا!$J$2:$K$26,MATCH('برنامه فروردین'!A26,دیتا!$J$2:$J$26,0),2),"") | AL26: =COUNTIF(G26:AK26,"=M")+COUNTIF(G26:AK26,"=ME")+COUNTIF(G26:AK26,"=MN") -> 0 | AM26: =COUNTIF(G26:AK26,"=E")+COUNTIF(G26:AK26,"=ME")+COUNTIF(G26:AK26,"=en") -> 0 | AN26: =COUNTIF(G26:AK26,"=N")+COUNTIF(G26:AK26,"=MN")+COUNTIF(G26:AK26,"=en") -> 0 | AO26: =COUNTIF(G26:AK26,"=H") -> 0 | AP26: =COUNTIF(G26:AK26,"=S") -> 0 | AQ26: =AL26+AM26+(AN26*2) -> 0
... A29: 25 | B29: =IFERROR(INDEX(تنظیمات!$B$5:$J$32,MATCH('برنامه فروردین'!F29,تنظیمات!$C$5:$C$32,0),9),"") | C29: =IFERROR(INDEX(تنظیمات!$B$5:$J$32,MATCH('برنامه فروردین'!F29,تنظیمات!$C$5:$C$32,0),4),"") | D29: =IFERROR(INDEX(تنظیمات!$B$5:$J$32,MATCH('برنامه فروردین'!F29,تنظیمات!$C$5:$C$32,0),5),"") | E29: =IFERROR(INDEX(تنظیمات!$B$5:$J$32,MATCH('برنامه فروردین'!F29,تنظیمات!$C$5:$C$32,0),6),"") | F29: =IFERROR(INDEX(دیتا!$J$2:$K$26,MATCH('برنامه فروردین'!A29,دیتا!$J$2:$J$26,0),2),"") | AL29: =COUNTIF(G29:AK29,"=M")+COUNTIF(G29:AK29,"=ME")+COUNTIF(G29:AK29,"=MN") -> 0 | AM29: =COUNTIF(G29:AK29,"=E")+COUNTIF(G29:AK29,"=ME")+COUNTIF(G29:AK29,"=en") -> 0 | AN29: =COUNTIF(G29:AK29,"=N")+COUNTIF(G29:AK29,"=MN")+COUNTIF(G29:AK29,"=en") -> 0 | AO29: =COUNTIF(G29:AK29,"=H") -> 0 | AP29: =COUNTIF(G29:AK29,"=S") -> 0 | AQ29: =AL29+AM29+(AN29*2) -> 0
A30: تعداد مجاز پرسنل در هر شیفت | C30: M | E30: 2 | F30: M تعداد پرسنل | G30: =COUNTIF(G5:G29,"=M")+COUNTIF(G5:G29,"=ME")+COUNTIF(G5:G29,"=MN") -> 1 | H30: =COUNTIF(H5:H29,"=M")+COUNTIF(H5:H29,"=ME")+COUNTIF(H5:H29,"=MN") -> 1 | I30: =COUNTIF(I5:I29,"=M")+COUNTIF(I5:I29,"=ME")+COUNTIF(I5:I29,"=MN") -> 1 | J30: =COUNTIF(J5:J29,"=M")+COUNTIF(J5:J29,"=ME")+COUNTIF(J5:J29,"=MN") -> 1 | K30: =COUNTIF(K5:K29,"=M")+COUNTIF(K5:K29,"=ME")+COUNTIF(K5:K29,"=MN") -> 1 | L30: =COUNTIF(L5:L29,"=M")+COUNTIF(L5:L29,"=ME")+COUNTIF(L5:L29,"=MN") -> 1 | M30: =COUNTIF(M5:M29,"=M")+COUNTIF(M5:M29,"=ME")+COUNTIF(M5:M29,"=MN") -> 1 | N30: =COUNTIF(N5:N29,"=M")+COUNTIF(N5:N29,"=ME")+COUNTIF(N5:N29,"=MN") -> 0 | ... AK30: =COUNTIF(AK5:AK29,"=M")+COUNTIF(AK5:AK29,"=ME")+COUNTIF(AK5:AK29,"=MN") -> 0 | AL30: جام می و خون دل هر یک به کسی دادند در دایره تقدیر اوضاع چنین باشد...
C32: E | E32: 2 | F32: E تعداد پرسنل | G32: =COUNTIF(G5:G29,"=E")+COUNTIF(G5:G29,"=ME")+COUNTIF(G5:G29,"=en") -> 1 | H32: =COUNTIF(H5:H29,"=E")+COUNTIF(H5:H29,"=ME")+COUNTIF(H5:H29,"=en") -> 1 | I32: =COUNTIF(I5:I29,"=E")+COUNTIF(I5:I29,"=ME")+COUNTIF(I5:I29,"=en") -> 1 | J32: =COUNTIF(J5:J29,"=E")+COUNTIF(J5:J29,"=ME")+COUNTIF(J5:J29,"=en") -> 1 | K32: =COUNTIF(K5:K29,"=E")+COUNTIF(K5:K29,"=ME")+COUNTIF(K5:K29,"=en") -> 1 | L32: =COUNTIF(L5:L29,"=E")+COUNTIF(L5:L29,"=ME")+COUNTIF(L5:L29,"=en") -> 2 | M32: =COUNTIF(M5:M29,"=E")+COUNTIF(M5:M29,"=ME")+COUNTIF(M5:M29,"=en") -> 1 | N32: =COUNTIF(N5:N29,"=E")+COUNTIF(N5:N29,"=ME")+COUNTIF(N5:N29,"=en") -> 2 | ... AK32: =COUNTIF(AK5:AK29,"=E")+COUNTIF(AK5:AK29,"=ME")+COUNTIF(AK5:AK29,"=en") -> 0
C34: N | E34: 2 | F34: N تعداد پرسنل | G34: =COUNTIF(G5:G29,"=N")+COUNTIF(G5:G29,"=MN")+COUNTIF(G5:G29,"=en") -> 1 | H34: =COUNTIF(H5:H29,"=N")+COUNTIF(H5:H29,"=MN")+COUNTIF(H5:H29,"=en") -> 1 | I34: =COUNTIF(I5:I29,"=N")+COUNTIF(I5:I29,"=MN")+COUNTIF(I5:I29,"=en") -> 1 | J34: =COUNTIF(J5:J29,"=N")+COUNTIF(J5:J29,"=MN")+COUNTIF(J5:J29,"=en") -> 1 | K34: =COUNTIF(K5:K29,"=N")+COUNTIF(K5:K29,"=MN")+COUNTIF(K5:K29,"=en") -> 1 | L34: =COUNTIF(L5:L29,"=N")+COUNTIF(L5:L29,"=MN")+COUNTIF(L5:L29,"=en") -> 1 | M34: =COUNTIF(M5:M29,"=N")+COUNTIF(M5:M29,"=MN")+COUNTIF(M5:M29,"=en") -> 1 | N34: =COUNTIF(N5:N29,"=N")+COUNTIF(N5:N29,"=MN")+COUNTIF(N5:N29,"=en") -> 2 | ... AK34: =COUNTIF(AK5:AK29,"=N")+COUNTIF(AK5:AK29,"=MN")+COUNTIF(AK5:AK29,"=en") -> 0
C36: پزشک مسئول بخش: | AA36: ریاست بیمارستان:
C37: =تنظیمات!O19 -> 0 | AA37: =تنظیمات!O15 -> 0

Sheet برنامه شیفت
L3: دانشگاه علوم پزشکی خراسان شمالی
I5: =تنظیمات!F2 -> مرکز آموزشی پژوهشی درمانی بیمارستان بنت الهدی
D7: بخش | G7: اورژانس | V7: ='برنامه فروردین'!S1&" ماه "&'برنامه فروردین'!V1 -> فروردین ماه 1403
C9: ایام هفته | E9: تاریخ | F9: صبح | N9: عصر | V9: شب
F10: پزشک شیفت | N10: پزشک شیفت | V10: پزشک شیفت
C11: ='برنامه فروردین'!G2 -> چهار شنبه | E11: 1 | F11: {=_xlfn.TEXTJOIN(" , ",TRUE,(IF('برنامه فروردین'!$G$5:$G$29=دیتا!$F$3,'برنامه فروردین'!$F$5:$F$29,""))&(IF('برنامه فروردین'!$G$5:$G$29=دیتا!$F$7,'برنامه فروردین'!$F$5:$F$29,""))&(IF('برنامه فروردین'!$G$5:$G$29=دیتا!$F$6,'برنامه فروردین'!$F$5:$F$29,"")))} | N11: {=_xlfn.TEXTJOIN(" , ",TRUE,(IF('برنامه فروردین'!$G$5:$G$29=دیتا!$F$4,'برنامه فروردین'!$F$5:$F$29,""))&(IF('برنامه فروردین'!$G$5:$G$29=دیتا!$F$6,'برنامه فروردین'!$F$5:$F$29,""))&(IF('برنامه فروردین'!$G$5:$G$29=دیتا!$F$8,'برنامه فروردین'!$F$5:$F$29,"")))} | V11: {=_xlfn.TEXTJOIN(" , ",TRUE,(IF('برنامه فروردین'!$G$5:$G$29=دیتا!$F$5,'برنامه فروردین'!$F$5:$F$29,""))&(IF('برنامه فروردین'!$G$5:$G$29=دیتا!$F$7,'برنامه فروردین'!$F$5:$F$29,""))&(IF('برنامه فروردین'!$G$5:$G$29=دیتا!$F$8,'برنامه فروردین'!$F$5:$F$29,"")))} -> دکتر علی
C12: =IF(C11="شنبه","یکشنبه",IF(C11="یکشنبه","دوشنبه",IF(C11="دوشنبه","سه شنبه",IF(C11="سه شنبه","چهار شنبه",IF(C11="چهار شنبه","پنج شنبه",IF(C11="پنج شنبه","جمعه",IF(C11="جمعه","شنبه"))))))) -> پنج شنبه | E12: 2 | F12: {=_xlfn.TEXTJOIN(" , ",TRUE,(IF('برنامه فروردین'!$H$5:$H$29=دیتا!$F$3,'برنامه فروردین'!$F$5:$F$29,""))&(IF('برنامه فروردین'!$H$5:$H$29=دیتا!$F$7,'برنامه فروردین'!$F$5:$F$29,""))&(IF('برنامه فروردین'!$H$5:$H$29=دیتا!$F$6,'برنامه فروردین'!$F$5:$F$29,"")))} | N12: {=_xlfn.TEXTJOIN(" , ",TRUE,(IF('برنامه فروردین'!$H$5:$H$29=دیتا!$F$4,'برنامه فروردین'!$F$5:$F$29,""))&(IF('برنامه فروردین'!$H$5:$H$29=دیتا!$F$6,'برنامه فروردین'!$F$5:$F$29,""))&(IF('برنامه فروردین'!$H$5:$H$29=دیتا!$F$8,'برنامه فروردین'!$F$5:$F$29,"")))} -> دکتر محسن | V12: {=_xlfn.TEXTJOIN(" , ",TRUE,(IF('برنامه فروردین'!$H$5:$H$29=دیتا!$F$5,'برنامه فروردین'!$F$5:$F$29,""))&(IF('برنامه فروردین'!$H$5:$H$29=دیتا!$F$7,'برنامه فروردین'!$F$5:$F$29,""))&(IF('برنامه فروردین'!$H$5:$H$29=دیتا!$F$8,'برنامه فروردین'!$F$5:$F$29,"")))} -> دکتر خالد
C13: =IF(C12="شنبه","یکشنبه",IF(C12="یکشنبه","دوشنبه",IF(C12="دوشنبه","سه شنبه",IF(C12="سه شنبه","چهار شنبه",IF(C12="چهار شنبه","پنج شنبه",IF(C12="پنج شنبه","جمعه",IF(C12="جمعه","شنبه"))))))) -> جمعه | E13: 3 | F13: {=_xlfn.TEXTJOIN(" , ",TRUE,(IF('برنامه فروردین'!$I$5:$I$29=دیتا!$F$3,'برنامه فروردین'!$F$5:$F$29,""))&(IF('برنامه فروردین'!$I$5:$I$29=دیتا!$F$7,'برنامه فروردین'!$F$5:$F$29,""))&(IF('برنامه فروردین'!$I$5:$I$29=دیتا!$F$6,'برنامه فروردین'!$F$5:$F$29,"")))} -> دکتر محسن | N13: {=_xlfn.TEXTJOIN(" , ",TRUE,(IF('برنامه فروردین'!$I$5:$I$29=دیتا!$F$4,'برنامه فروردین'!$F$5:$F$29,""))&(IF('برنامه فروردین'!$I$5:$I$29=دیتا!$F$6,'برنامه فروردین'!$F$5:$F$29,"")&(IF('برنامه فروردین'!$I$5:$I$29=دیتا!$F$8,'برنامه فروردین'!$F$5:$F$29,""))))} -> دکتر علی | V13: {=_xlfn.TEXTJOIN(" , ",TRUE,(IF('برنامه فروردین'!$I$5:$I$29=دیتا!$F$5,'برنامه فروردین'!$F$5:$F$29,""))&(IF('برنامه فروردین'!$I$5:$I$29=دیتا!$F$7,'برنامه فروردین'!$F$5:$F$29,""))&(IF('برنامه فروردین'!$I$5:$I$29=دیتا!$F$8,'برنامه فروردین'!$F$5:$F$29,"")))} -> دکتر صبا
C14: =IF(C13="شنبه","یکشنبه",IF(C13="یکشنبه","دوشنبه",IF(C13="دوشنبه","سه شنبه",IF(C13="سه شنبه","چهار شنبه",IF(C13="چهار شنبه","پنج شنبه",IF(C13="پنج شنبه","جمعه",IF(C13="جمعه","شنبه"))))))) -> شنبه | E14: 4 | F14: {=_xlfn.TEXTJOIN(" , ",TRUE,(IF('برنامه فروردین'!$J$5:$J$29=دیتا!$F$3,'برنامه فروردین'!$F$5:$F$29,""))&(IF('برنامه فروردین'!$J$5:$J$29=دیتا!$F$7,'برنامه فروردین'!$F$5:$F$29,""))&(IF('برنامه فروردین'!$J$5:$J$29=دیتا!$F$6,'برنامه فروردین'!$F$5:$F$29,"")))} -> دکتر خالد | N14: {=_xlfn.TEXTJOIN(" , ",TRUE,(IF('برنامه فروردین'!$J$5:$J$29=دیتا!$F$4,'برنامه فروردین'!$F$5:$F$29,""))&(IF('برنامه فروردین'!$J$5:$J$29=دیتا!$F$6,'برنامه فروردین'!$F$5:$F$29,""))&(IF('برنامه فروردین'!$J$5:$J$29=دیتا!$F$8,'برنامه فروردین'!$F$5:$F$29,"")))} | V14: {=_xlfn.TEXTJOIN(" , ",TRUE,(IF('برنامه فروردین'!$J$5:$J$29=دیتا!$F$5,'برنامه فروردین'!$F$5:$F$29,""))&(IF('برنامه فروردین'!$J$5:$J$29=دیتا!$F$7,'برنامه فروردین'!$F$5:$F$29,""))&(IF('برنامه فروردین'!$J$5:$J$29=دیتا!$F$8,'برنامه فروردین'!$F$5:$F$29,"")))} -> دکتر علی
C15: =IF(C14="شنبه","یکشنبه",IF(C14="یکشنبه","دوشنبه",IF(C14="دوشنبه","سه شنبه",IF(C14="سه شنبه","چهار شنبه",IF(C14="چهار شنبه","پنج شنبه",IF(C14="پنج شنبه","جمعه",IF(C14="جمعه","شنبه"))))))) -> یکشنبه | E15: 5 | F15: {=_xlfn.TEXTJOIN(" , ",TRUE,(IF('برنامه فروردین'!$K$5:$K$29=دیتا!$F$3,'برنامه فروردین'!$F$5:$F$29,""))&(IF('برنامه فروردین'!$K$5:$K$29=دیتا!$F$7,'برنامه فروردین'!$F$5:$F$29,""))&(IF('برنامه فروردین'!$K$5:$K$29=دیتا!$F$6,'برنامه فروردین'!$F$5:$F$29,"")))} -> دکتر خالد | N15: {=_xlfn.TEXTJOIN(" , ",TRUE,(IF('برنامه فروردین'!$K$5:$K$29=دیتا!$F$4,'برنامه فروردین'!$F$5:$F$29,""))&(IF('برنامه فروردین'!$K$5:$K$29=دیتا!$F$6,'برنامه فروردین'!$F$5:$F$29,""))&(IF('برنامه فروردین'!$K$5:$K$29=دیتا!$F$8,'برنامه فروردین'!$F$5:$F$29,"")))} -> دکتر صبا | V15: {=_xlfn.TEXTJOIN(" , ",TRUE,(IF('برنامه فروردین'!$K$5:$K$29=دیتا!$F$5,'برنامه فروردین'!$F$5:$F$29,""))&(IF('برنامه فروردین'!$K$5:$K$29=دیتا!$F$7,'برنامه فروردین'!$F$5:$F$29,""))&(IF('برنامه فروردین'!$K$5:$K$29=دیتا!$F$8,'برنامه فروردین'!$F$5:$F$29,"")))} -> دکتر محسن
C16: =IF(C15="شنبه","یکشنبه",IF(C15="یکشنبه","دوشنبه",IF(C15="دوشنبه","سه شنبه",IF(C15="سه شنبه","چهار شنبه",IF(C15="چهار شنبه","پنج شنبه",IF(C15="پنج شنبه","جمعه",IF(C15="جمعه","شنبه"))))))) -> دوشنبه | E16: 6 | F16: {=_xlfn.TEXTJOIN(" , ",TRUE,(IF('برنامه فروردین'!$L$5:$L$29=دیتا!$F$3,'برنامه فروردین'!$F$5:$F$29,""))&(IF('برنامه فروردین'!$L$5:$L$29=دیتا!$F$7,'برنامه فروردین'!$F$5:$F$29,""))&(IF('برنامه فروردین'!$L$5:$L$29=دیتا!$F$6,'برنامه فروردین'!$F$5:$F$29,"")))} | N16: {=_xlfn.TEXTJOIN(" , ",TRUE,(IF('برنامه فروردین'!$L$5:$L$29=دیتا!$F$4,'برنامه فروردین'!$F$5:$F$29,""))&(IF('برنامه فروردین'!$L$5:$L$29=دیتا!$F$6,'برنامه فروردین'!$F$5:$F$29,""))&(IF('برنامه فروردین'!$L$5:$L$29=دیتا!$F$8,'برنامه فروردین'!$F$5:$F$29,"")))} -> دکتر علی | V16: {=_xlfn.TEXTJOIN(" , ",TRUE,(IF('برنامه فروردین'!$L$5:$L$29=دیتا!$F$5,'برنامه فروردین'!$F$5:$F$29,""))&(IF('برنامه فروردین'!$L$5:$L$29=دیتا!$F$7,'برنامه فروردین'!$F$5:$F$29,""))&(IF('برنامه فروردین'!$L$5:$L$29=دیتا!$F$8,'برنامه فروردین'!$F$5:$F$29,"")))} -> دکتر صبا
C17: =IF(C16="شنبه","یکشنبه",IF(C16="یکشنبه","دوشنبه",IF(C16="دوشنبه","سه شنبه",IF(C16="سه شنبه","چهار شنبه",IF(C16="چهار شنبه","پنج شنبه",IF(C16="پنج شنبه","جمعه",IF(C16="جمعه","شنبه"))))))) -> سه شنبه | E17: 7 | F17: {=_xlfn.TEXTJOIN(" , ",TRUE,(IF('برنامه فروردین'!$M$5:$M$29=دیتا!$F$3,'برنامه فروردین'!$F$5:$F$29,""))&(IF('برنامه فروردین'!$M$5:$M$29=دیتا!$F$7,'برنامه فروردین'!$F$5:$F$29,""))&(IF('برنامه فروردین'!$M$5:$M$29=دیتا!$F$6,'برنامه فروردین'!$F$5:$F$29,"")))} -> دکتر خالد | N17: {=_xlfn.TEXTJOIN(" , ",TRUE,(IF('برنامه فروردین'!$M$5:$M$29=دیتا!$F$4,'برنامه فروردین'!$F$5:$F$29,""))&(IF('برنامه فروردین'!$M$5:$M$29=دیتا!$F$6,'برنامه فروردین'!$F$5:$F$29,""))&(IF('برنامه فروردین'!$M$5:$M$29=دیتا!$F$8,'برنامه فروردین'!$F$5:$F$29,"")))} | V17: {=_xlfn.TEXTJOIN(" , ",TRUE,(IF('برنامه فروردین'!$M$5:$M$29=دیتا!$F$5,'برنامه فروردین'!$F$5:$F$29,""))&(IF('برنامه فروردین'!$M$5:$M$29=دیتا!$F$7,'برنامه فروردین'!$F$5:$F$29,""))&(IF('برنامه فروردین'!$M$5:$M$29=دیتا!$F$8,'برنامه فروردین'!$F$5:$F$29,"")))} -> دکتر محسن
C18: =IF(C17="شنبه","یکشنبه",IF(C17="یکشنبه","دوشنبه",IF(C17="دوشنبه","سه شنبه",IF(C17="سه شنبه","چهار شنبه",IF(C17="چهار شنبه","پنج شنبه",IF(C17="پنج شنبه","جمعه",IF(C17="جمعه","شنبه"))))))) -> چهار شنبه | E18: 8 | F18: {=_xlfn.TEXTJOIN(" , ",TRUE,(IF('برنامه فروردین'!$N$5:$N$29=دیتا!$F$3,'برنامه فروردین'!$F$5:$F$29,""))&(IF('برنامه فروردین'!$N$5:$N$29=دیتا!$F$7,'برنامه فروردین'!$F$5:$F$29,""))&(IF('برنامه فروردین'!$N$5:$N$29=دیتا!$F$6,'برنامه فروردین'!$F$5:$F$29,"")))} | N18: {=_xlfn.TEXTJOIN(" , ",TRUE,(IF('برنامه فروردین'!$N$5:$N$29=دیتا!$F$4,'برنامه فروردین'!$F$5:$F$29,""))&(IF('برنامه فروردین'!$N$5:$N$29=دیتا!$F$6,'برنامه فروردین'!$F$5:$F$29,"")&(IF('برنامه فروردین'!$N$5:$N$29=دیتا!$F$8,'برنامه فروردین'!$F$5:$F$29,""))))} -> دکتر خالد | V18: {=_xlfn.TEXTJOIN(" , ",TRUE,(IF('برنامه فروردین'!$N$5:$N$29=دیتا!$F$5,'برنامه فروردین'!$F$5:$F$29,""))&(IF('برنامه فروردین'!$N$5:$N$29=دیتا!$F$7,'برنامه فروردین'!$F$5:$F$29,""))&(IF('برنامه فروردین'!$N$5:$N$29=دیتا!$F$8,'برنامه فروردین'!$F$5:$F$29,"")))} -> دکتر علی , دکتر خالد
C19: =IF(C18="شنبه","یکشنبه",IF(C18="یکشنبه","دوشنبه",IF(C18="دوشنبه","سه شنبه",IF(C18="سه شنبه","چهار شنبه",IF(C18="چهار شنبه","پنج شنبه",IF(C18="پنج شنبه","جمعه",IF(C18="جمعه","شنبه"))))))) -> پنج شنبه | E19: 9 | F19: {=_xlfn.TEXTJOIN(" , ",TRUE,(IF('برنامه فروردین'!$O$5:$O$29=دیتا!$F$3,'برنامه فروردین'!$F$5:$F$29,""))&(IF('برنامه فروردین'!$O$5:$O$29=دیتا!$F$7,'برنامه فروردین'!$F$5:$F$29,""))&(IF('برنامه فروردین'!$O$5:$O$29=دیتا!$F$6,'برنامه فروردین'!$F$5:$F$29,"")))} -> دکتر محسن | N19: {=_xlfn.TEXTJOIN(" , ",TRUE,(IF('برنامه فروردین'!$O$5:$O$29=دیتا!$F$4,'برنامه فروردین'!$F$5:$F$29,""))&(IF('برنامه فروردین'!$O$5:$O$29=دیتا!$F$6,'برنامه فروردین'!$F$5:$F$29,""))&(IF('برنامه فروردین'!$O$5:$O$29=دیتا!$F$8,'برنامه فروردین'!$F$5:$F$29,"")))} | V19: {=_xlfn.TEXTJOIN(" , ",TRUE,(IF('برنامه فروردین'!$O$5:$O$29=دیتا!$F$5,'برنامه فروردین'!$F$5:$F$29,""))&(IF('برنامه فروردین'!$O$5:$O$29=دیتا!$F$7,'برنامه فروردین'!$F$5:$F$29,""))&(IF('برنامه فروردین'!$O$5:$O$29=دیتا!$F$8,'برنامه فروردین'!$F$5:$F$29,"")))} -> دکتر خالد
C20: =IF(C19="شنبه","یکشنبه",IF(C19="یکشنبه","دوشنبه",IF(C19="دوشنبه","سه شنبه",IF(C19="سه شنبه","چهار شنبه",IF(C19="چهار شنبه","پنج شنبه",IF(C19="پنج شنبه","جمعه",IF(C19="جمعه","شنبه"))))))) -> جمعه | E20: 10 | F20: {=_xlfn.TEXTJOIN(" , ",TRUE,(IF('برنامه فروردین'!$P$5:$P$29=دیتا!$F$3,'برنامه فروردین'!$F$5:$F$29,""))&(IF('برنامه فروردین'!$P$5:$P$29=دیتا!$F$7,'برنامه فروردین'!$F$5:$F$29,""))&(IF('برنامه فروردین'!$P$5:$P$29=دیتا!$F$6,'برنامه فروردین'!$F$5:$F$29,"")))} | N20: {=_xlfn.TEXTJOIN(" , ",TRUE,(IF('برنامه فروردین'!$P$5:$P$29=دیتا!$F$4,'برنامه فروردین'!$F$5:$F$29,""))&(IF('برنامه فروردین'!$P$5:$P$29=دیتا!$F$6,'برنامه فروردین'!$F$5:$F$29,"")&(IF('برنامه فروردین'!$P$5:$P$29=دیتا!$F$8,'برنامه فروردین'!$F$5:$F$29,""))))} -> دکتر علی | V20: {=_xlfn.TEXTJOIN(" , ",TRUE,(IF('برنامه فروردین'!$P$5:$P$29=دیتا!$F$5,'برنامه فروردین'!$F$5:$F$29,""))&(IF('برنامه فروردین'!$P$5:$P$29=دیتا!$F$7,'برنامه فروردین'!$F$5:$F$29,""))&(IF('برنامه فروردین'!$P$5:$P$29=دیتا!$F$8,'برنامه فروردین'!$F$5:$F$29,"")))} -> دکتر محسن
C21: =IF(C20="شنبه","یکشنبه",IF(C20="یکشنبه","دوشنبه",IF(C20="دوشنبه","سه شنبه",IF(C20="سه شنبه","چهار شنبه",IF(C20="چهار شنبه","پنج شنبه",IF(C20="پنج شنبه","جمعه",IF(C20="جمعه","شنبه"))))))) -> شنبه | E21: 11 | F21: {=_xlfn.TEXTJOIN(" , ",TRUE,(IF('برنامه فروردین'!$Q$5:$Q$29=دیتا!$F$3,'برنامه فروردین'!$F$5:$F$29,""))&(IF('برنامه فروردین'!$Q$5:$Q$29=دیتا!$F$7,'برنامه فروردین'!$F$5:$F$29,""))&(IF('برنامه فروردین'!$Q$5:$Q$29=دیتا!$F$6,'برنامه فروردین'!$F$5:$F$29,"")))} -> دکتر علی | N21: {=_xlfn.TEXTJOIN(" , ",TRUE,(IF('برنامه فروردین'!$Q$5:$Q$29=دیتا!$F$4,'برنامه فروردین'!$F$5:$F$29,""))&(IF('برنامه فروردین'!$Q$5:$Q$29=دیتا!$F$6,'برنامه فروردین'!$F$5:$F$29,""))&(IF('برنامه فروردین'!$Q$5:$Q$29=دیتا!$F$8,'برنامه فروردین'!$F$5:$F$29,"")))} | V21: {=_xlfn.TEXTJOIN(" , ",TRUE,(IF('برنامه فروردین'!$Q$5:$Q$29=دیتا!$F$5,'برنامه فروردین'!$F$5:$F$29,""))&(IF('برنامه فروردین'!$Q$5:$Q$29=دیتا!$F$7,'برنامه فروردین'!$F$5:$F$29,""))&(IF('برنامه فروردین'!$Q$5:$Q$29=دیتا!$F$8,'برنامه فروردین'!$F$5:$F$29,"")))} -> دکتر علی
C22: =IF(C21="شنبه","یکشنبه",IF(C21="یکشنبه","دوشنبه",IF(C21="دوشنبه","سه شنبه",IF(C21="سه شنبه","چهار شنبه",IF(C21="چهار شنبه","پنج شنبه",IF(C21="پنج شنبه","جمعه",IF(C21="جمعه","شنبه"))))))) -> یکشنبه | E22: 12 | F22: {=_xlfn.TEXTJOIN(" , ",TRUE,(IF('برنامه فروردین'!$R$5:$R$29=دیتا!$F$3,'برنامه فروردین'!$F$5:$F$29,""))&(IF('برنامه فروردین'!$R$5:$R$29=دیتا!$F$7,'برنامه فروردین'!$F$5:$F$29,""))&(IF('برنامه فروردین'!$R$5:$R$29=دیتا!$F$6,'برنامه فروردین'!$F$5:$F$29,"")))} | N22: {=_xlfn.TEXTJOIN(" , ",TRUE,(IF('برنامه فروردین'!$R$5:$R$29=دیتا!$F$4,'برنامه فروردین'!$F$5:$F$29,""))&(IF('برنامه فروردین'!$R$5:$R$29=دیتا!$F$6,'برنامه فروردین'!$F$5:$F$29,""))&(IF('برنامه فروردین'!$R$5:$R$29=دیتا!$F$8,'برنامه فروردین'!$F$5:$F$29,"")))} -> دکتر محسن | V22: {=_xlfn.TEXTJOIN(" , ",TRUE,(IF('برنامه فروردین'!$R$5:$R$29=دیتا!$F$5,'برنامه فروردین'!$F$5:$F$29,""))&(IF('برنامه فروردین'!$R$5:$R$29=دیتا!$F$7,'برنامه فروردین'!$F$5:$F$29,""))&(IF('برنامه فروردین'!$R$5:$R$29=دیتا!$F$8,'برنامه فروردین'!$F$5:$F$29,"")))} -> دکتر علی
C23: =IF(C22="شنبه","یکشنبه",IF(C22="یکشنبه","دوشنبه",IF(C22="دوشنبه","سه شنبه",IF(C22="سه شنبه","چهار شنبه",IF(C22="چهار شنبه","پنج شنبه",IF(C22="پنج شنبه","جمعه",IF(C22="جمعه","شنبه"))))))) -> دوشنبه | E23: 13 | F23: {=_xlfn.TEXTJOIN(" , ",TRUE,(IF('برنامه فروردین'!$S$5:$S$29=دیتا!$F$3,'برنامه فروردین'!$F$5:$F$29,""))&(IF('برنامه فروردین'!$S$5:$S$29=دیتا!$F$7,'برنامه فروردین'!$F$5:$F$29,""))&(IF('برنامه فروردین'!$S$5:$S$29=دیتا!$F$6,'برنامه فروردین'!$F$5:$F$29,"")))} -> دکتر محسن | N23: {=_xlfn.TEXTJOIN(" , ",TRUE,(IF('برنامه فروردین'!$S$5:$S$29=دیتا!$F$4,'برنامه فروردین'!$F$5:$F$29,""))&(IF('برنامه فروردین'!$S$5:$S$29=دیتا!$F$6,'برنامه فروردین'!$F$5:$F$29,""))&(IF('برنامه فروردین'!$S$5:$S$29=دیتا!$F$8,'برنامه فروردین'!$F$5:$F$29,"")))} -> دکتر علی | V23: {=_xlfn.TEXTJOIN(" , ",TRUE,(IF('برنامه فروردین'!$S$5:$S$29=دیتا!$F$5,'برنامه فروردین'!$F$5:$F$29,""))&(IF('برنامه فروردین'!$S$5:$S$29=دیتا!$F$7,'برنامه فروردین'!$F$5:$F$29,""))&(IF('برنامه فروردین'!$S$5:$S$29=دیتا!$F$8,'برنامه فروردین'!$F$5:$F$29,"")))} -> دکتر صبا
C24: =IF(C23="شنبه","یکشنبه",IF(C23="یکشنبه","دوشنبه",IF(C23="دوشنبه","سه شنبه",IF(C23="سه شنبه","چهار شنبه",IF(C23="چهار شنبه","پنج شنبه",IF(C23="پنج شنبه","جمعه",IF(C23="جمعه","شنبه"))))))) -> سه شنبه | E24: 14 | F24: {=_xlfn.TEXTJOIN(" , ",TRUE,(IF('برنامه فروردین'!$T$5:$T$29=دیتا!$F$3,'برنامه فروردین'!$F$5:$F$29,""))&(IF('برنامه فروردین'!$T$5:$T$29=دیتا!$F$7,'برنامه فروردین'!$F$5:$F$29,""))&(IF('برنامه فروردین'!$T$5:$T$29=دیتا!$F$6,'برنامه فروردین'!$F$5:$F$29,"")))} -> دکتر علی | N24: {=_xlfn.TEXTJOIN(" , ",TRUE,(IF('برنامه فروردین'!$T$5:$T$29=دیتا!$F$4,'برنامه فروردین'!$F$5:$F$29,""))&(IF('برنامه فروردین'!$T$5:$T$29=دیتا!$F$6,'برنامه فروردین'!$F$5:$F$29,""))&(IF('برنامه فروردین'!$T$5:$T$29=دیتا!$F$8,'برنامه فروردین'!$F$5:$F$29,"")))} | V24: {=_xlfn.TEXTJOIN(" , ",TRUE,(IF('برنامه فروردین'!$T$5:$T$29=دیتا!$F$5,'برنامه فروردین'!$F$5:$F$29,""))&(IF('برنامه فروردین'!$T$5:$T$29=دیتا!$F$7,'برنامه فروردین'!$F$5:$F$29,""))&(IF('برنامه فروردین'!$T$5:$T$29=دیتا!$F$8,'برنامه فروردین'!$F$5:$F$29,"")))} -> دکتر خالد
C25: =IF(C24="شنبه","یکشنبه",IF(C24="یکشنبه","دوشنبه",IF(C24="دوشنبه","سه شنبه",IF(C24="سه شنبه","چهار شنبه",IF(C24="چهار شنبه","پنج شنبه",IF(C24="پنج شنبه","جمعه",IF(C24="جمعه","شنبه"))))))) -> چهار شنبه | E25: 15 | F25: {=_xlfn.TEXTJOIN(" , ",TRUE,(IF('برنامه فروردین'!$U$5:$U$29=دیتا!$F$3,'برنامه فروردین'!$F$5:$F$29,""))&(IF('برنامه فروردین'!$U$5:$U$29=دیتا!$F$7,'برنامه فروردین'!$F$5:$F$29,""))&(IF('برنامه فروردین'!$U$5:$U$29=دیتا!$F$6,'برنامه فروردین'!$F$5:$F$29,"")))} -> دکتر صبا | N25: {=_xlfn.TEXTJOIN(" , ",TRUE,(IF('برنامه فروردین'!$U$5:$U$29=دیتا!$F$4,'برنامه فروردین'!$F$5:$F$29,""))&(IF('برنامه فروردین'!$U$5:$U$29=دیتا!$F$6,'برنامه فروردین'!$F$5:$F$29,"")&(IF('برنامه فروردین'!$U$5:$U$29=دیتا!$F$8,'برنامه فروردین'!$F$5:$F$29,""))))} | V25: {=_xlfn.TEXTJOIN(" , ",TRUE,(IF('برنامه فروردین'!$U$5:$U$29=دیتا!$F$5,'برنامه فروردین'!$F$5:$F$29,""))&(IF('برنامه فروردین'!$U$5:$U$29=دیتا!$F$7,'برنامه فروردین'!$F$5:$F$29,""))&(IF('برنامه فروردین'!$U$5:$U$29=دیتا!$F$8,'برنامه فروردین'!$F$5:$F$29,"")))} -> دکتر خالد
C26: =IF(C25="شنبه","یکشنبه",IF(C25="یکشنبه","دوشنبه",IF(C25="دوشنبه","سه شنبه",IF(C25="سه شنبه","چهار شنبه",IF(C25="چهار شنبه","پنج شنبه",IF(C25="پنج شنبه","جمعه",IF(C25="جمعه","شنبه"))))))) -> پنج شنبه | E26: 16 | F26: {=_xlfn.TEXTJOIN(" , ",TRUE,(IF('برنامه فروردین'!$V$5:$V$29=دیتا!$F$3,'برنامه فروردین'!$F$5:$F$29,""))&(IF('برنامه فروردین'!$V$5:$V$29=دیتا!$F$7,'برنامه فروردین'!$F$5:$F$29,""))&(IF('برنامه فروردین'!$V$5:$V$29=دیتا!$F$6,'برنامه فروردین'!$F$5:$F$29,"")))} -> دکتر علی | N26: {=_xlfn.TEXTJOIN(" , ",TRUE,(IF('برنامه فروردین'!$V$5:$V$29=دیتا!$F$4,'برنامه فروردین'!$F$5:$F$29,""))&(IF('برنامه فروردین'!$V$5:$V$29=دیتا!$F$6,'برنامه فروردین'!$F$5:$F$29,""))&(IF('برنامه فروردین'!$V$5:$V$29=دیتا!$F$8,'برنامه فروردین'!$F$5:$F$29,"")))} | V26: {=_xlfn.TEXTJOIN(" , ",TRUE,(IF('برنامه فروردین'!$V$5:$V$29=دیتا!$F$5,'برنامه فروردین'!$F$5:$F$29,""))&(IF('برنامه فروردین'!$V$5:$V$29=دیتا!$F$7,'برنامه فروردین'!$F$5:$F$29,""))&(IF('برنامه فروردین'!$V$5:$V$29=دیتا!$F$8,'برنامه فروردین'!$F$5:$F$29,"")))}
C27: =IF(C26="شنبه","یکشنبه",IF(C26="یکشنبه","دوشنبه",IF(C26="دوشنبه","سه شنبه",IF(C26="سه شنبه","چهار شنبه",IF(C26="چهار شنبه","پنج شنبه",IF(C26="پنج شنبه","جمعه",IF(C26="جمعه","شنبه"))))))) -> جمعه | E27: 17 | F27: {=_xlfn.TEXTJOIN(" , ",TRUE,(IF('برنامه فروردین'!$W$5:$W$29=دیتا!$F$3,'برنامه فروردین'!$F$5:$F$29,""))&(IF('برنامه فروردین'!$W$5:$W$29=دیتا!$F$7,'برنامه فروردین'!$F$5:$F$29,""))&(IF('برنامه فروردین'!$W$5:$W$29=دیتا!$F$6,'برنامه فروردین'!$F$5:$F$29,"")))} -> دکتر خالد | N27: {=_xlfn.TEXTJOIN(" , ",TRUE,(IF('برنامه فروردین'!$W$5:$W$29=دیتا!$F$4,'برنامه فروردین'!$F$5:$F$29,""))&(IF('برنامه فروردین'!$W$5:$W$29=دیتا!$F$6,'برنامه فروردین'!$F$5:$F$29,""))&(IF('برنامه فروردین'!$W$5:$W$29=دیتا!$F$8,'برنامه فروردین'!$F$5:$F$29,"")))} | V27: {=_xlfn.TEXTJOIN(" , ",TRUE,(IF('برنامه فروردین'!$W$5:$W$29=دیتا!$F$5,'برنامه فروردین'!$F$5:$F$29,""))&(IF('برنامه فروردین'!$W$5:$W$29=دیتا!$F$7,'برنامه فروردین'!$F$5:$F$29,""))&(IF('برنامه فروردین'!$W$5:$W$29=دیتا!$F$8,'برنامه فروردین'!$F$5:$F$29,"")))} -> دکتر علی
C28: =IF(C27="شنبه","یکشنبه",IF(C27="یکشنبه","دوشنبه",IF(C27="دوشنبه","سه شنبه",IF(C27="سه شنبه","چهار شنبه",IF(C27="چهار شنبه","پنج شنبه",IF(C27="پنج شنبه","جمعه",IF(C27="جمعه","شنبه"))))))) -> شنبه | E28: 18 | F28: {=_xlfn.TEXTJOIN(" , ",TRUE,(IF('برنامه فروردین'!$X$5:$X$29=دیتا!$F$3,'برنامه فروردین'!$F$5:$F$29,""))&(IF('برنامه فروردین'!$X$5:$X$29=دیتا!$F$7,'برنامه فروردین'!$F$5:$F$29,""))&(IF('برنامه فروردین'!$X$5:$X$29=دیتا!$F$6,'برنامه فروردین'!$F$5:$F$29,"")))} | N28: {=_xlfn.TEXTJOIN(" , ",TRUE,(IF('برنامه فروردین'!$X$5:$X$29=دیتا!$F$4,'برنامه فروردین'!$F$5:$F$29,""))&(IF('برنامه فروردین'!$X$5:$X$29=دیتا!$F$6,'برنامه فروردین'!$F$5:$F$29,""))&(IF('برنامه فروردین'!$X$5:$X$29=دیتا!$F$8,'برنامه فروردین'!$F$5:$F$29,"")))} -> دکتر علی | V28: {=_xlfn.TEXTJOIN(" , ",TRUE,(IF('برنامه فروردین'!$X$5:$X$29=دیتا!$F$5,'برنامه فروردین'!$F$5:$F$29,""))&(IF('برنامه فروردین'!$X$5:$X$29=دیتا!$F$7,'برنامه فروردین'!$F$5:$F$29,""))&(IF('برنامه فروردین'!$X$5:$X$29=دیتا!$F$8,'برنامه فروردین'!$F$5:$F$29,"")))} -> دکتر خالد
C29: =IF(C28="شنبه","یکشنبه",IF(C28="یکشنبه","دوشنبه",IF(C28="دوشنبه","سه شنبه",IF(C28="سه شنبه","چهار شنبه",IF(C28="چهار شنبه","پنج شنبه",IF(C28="پنج شنبه","جمعه",IF(C28="جمعه","شنبه"))))))) -> یکشنبه | E29: 19 | F29: {=_xlfn.TEXTJOIN(" , ",TRUE,(IF('برنامه فروردین'!$Y$5:$Y$29=دیتا!$F$3,'برنامه فروردین'!$F$5:$F$29,""))&(IF('برنامه فروردین'!$Y$5:$Y$29=دیتا!$F$7,'برنامه فروردین'!$F$5:$F$29,""))&(IF('برنامه فروردین'!$Y$5:$Y$29=دیتا!$F$6,'برنامه فروردین'!$F$5:$F$29,"")))} -> دکتر صبا | N29: {=_xlfn.TEXTJOIN(" , ",TRUE,(IF('برنامه فروردین'!$Y$5:$Y$29=دیتا!$F$4,'برنامه فروردین'!$F$5:$F$29,""))&(IF('برنامه فروردین'!$Y$5:$Y$29=دیتا!$F$6,'برنامه فروردین'!$F$5:$F$29,""))&(IF('برنامه فروردین'!$Y$5:$Y$29=دیتا!$F$8,'برنامه فروردین'!$F$5:$F$29,"")))} -> دکتر خالد | V29: {=_xlfn.TEXTJOIN(" , ",TRUE,(IF('برنامه فروردین'!$Y$5:$Y$29=دیتا!$F$5,'برنامه فروردین'!$F$5:$F$29,""))&(IF('برنامه فروردین'!$Y$5:$Y$29=دیتا!$F$7,'برنامه فروردین'!$F$5:$F$29,""))&(IF('برنامه فروردین'!$Y$5:$Y$29=دیتا!$F$8,'برنامه فروردین'!$F$5:$F$29,"")))} -> دکتر صبا
C30: =IF(C29="شنبه","یکشنبه",IF(C29="یکشنبه","دوشنبه",IF(C29="دوشنبه","سه شنبه",IF(C29="سه شنبه","چهار شنبه",IF(C29="چهار شنبه","پنج شنبه",IF(C29="پنج شنبه","جمعه",IF(C29="جمعه","شنبه"))))))) -> دوشنبه | E30: 20 | F30: {=_xlfn.TEXTJOIN(" , ",TRUE,(IF('برنامه فروردین'!$Z$5:$Z$29=دیتا!$F$3,'برنامه فروردین'!$F$5:$F$29,""))&(IF('برنامه فروردین'!$Z$5:$Z$29=دیتا!$F$7,'برنامه فروردین'!$F$5:$F$29,""))&(IF('برنامه فروردین'!$Z$5:$Z$29=دیتا!$F$6,'برنامه فروردین'!$F$5:$F$29,"")))} -> دکتر خالد | N30: {=_xlfn.TEXTJOIN(" , ",TRUE,(IF('برنامه فروردین'!$Z$5:$Z$29=دیتا!$F$4,'برنامه فروردین'!$F$5:$F$29,""))&(IF('برنامه فروردین'!$Z$5:$Z$29=دیتا!$F$6,'برنامه فروردین'!$F$5:$F$29,""))&(IF('برنامه فروردین'!$Z$5:$Z$29=دیتا!$F$8,'برنامه فروردین'!$F$5:$F$29,"")))} -> دکتر محسن | V30: {=_xlfn.TEXTJOIN(" , ",TRUE,(IF('برنامه فروردین'!$Z$5:$Z$29=دیتا!$F$5,'برنامه فروردین'!$F$5:$F$29,""))&(IF('برنامه فروردین'!$Z$5:$Z$29=دیتا!$F$7,'برنامه فروردین'!$F$5:$F$29,""))&(IF('برنامه فروردین'!$Z$5:$Z$29=دیتا!$F$8,'برنامه فروردین'!$F$5:$F$29,"")))} -> دکتر علی
C31: =IF(C30="شنبه","یکشنبه",IF(C30="یکشنبه","دوشنبه",IF(C30="دوشنبه","سه شنبه",IF(C30="سه شنبه","چهار شنبه",IF(C30="چهار شنبه","پنج شنبه",IF(C30="پنج شنبه","جمعه",IF(C30="جمعه","شنبه"))))))) -> سه شنبه | E31: 21 | F31: {=_xlfn.TEXTJOIN(" , ",TRUE,(IF('برنامه فروردین'!$AA$5:$AA$29=دیتا!$F$3,'برنامه فروردین'!$F$5:$F$29,""))&(IF('برنامه فروردین'!$AA$5:$AA$29=دیتا!$F$7,'برنامه فروردین'!$F$5:$F$29,""))&(IF('برنامه فروردین'!$AA$5:$AA$29=دیتا!$F$6,'برنامه فروردین'!$F$5:$F$29,"")))} -> دکتر خالد | N31: {=_xlfn.TEXTJOIN(" , ",TRUE,(IF('برنامه فروردین'!$AA$5:$AA$29=دیتا!$F$4,'برنامه فروردین'!$F$5:$F$29,""))&(IF('برنامه فروردین'!$AA$5:$AA$29=دیتا!$F$6,'برنامه فروردین'!$F$5:$F$29,""))&(IF('برنامه فروردین'!$AA$5:$AA$29=دیتا!$F$8,'برنامه فروردین'!$F$5:$F$29,"")))} -> دکتر علی | V31: {=_xlfn.TEXTJOIN(" , ",TRUE,(IF('برنامه فروردین'!$AA$5:$AA$29=دیتا!$F$5,'برنامه فروردین'!$F$5:$F$29,""))&(IF('برنامه فروردین'!$AA$5:$AA$29=دیتا!$F$7,'برنامه فروردین'!$F$5:$F$29,""))&(IF('برنامه فروردین'!$AA$5:$AA$29=دیتا!$F$8,'برنامه فروردین'!$F$5:$F$29,"")))} -> دکتر صبا
C32: =IF(C31="شنبه","یکشنبه",IF(C31="یکشنبه","دوشنبه",IF(C31="دوشنبه","سه شنبه",IF(C31="سه شنبه","چهار شنبه",IF(C31="چهار شنبه","پنج شنبه",IF(C31="پنج شنبه","جمعه",IF(C31="جمعه","شنبه"))))))) -> چهار شنبه | E32: 22 | F32: {=_xlfn.TEXTJOIN(" , ",TRUE,(IF('برنامه فروردین'!$AB$5:$AB$29=دیتا!$F$3,'برنامه فروردین'!$F$5:$F$29,""))&(IF('برنامه فروردین'!$AB$5:$AB$29=دیتا!$F$7,'برنامه فروردین'!$F$5:$F$29,""))&(IF('برنامه فروردین'!$AB$5:$AB$29=دیتا!$F$6,'برنامه فروردین'!$F$5:$F$29,"")))} | N32: {=_xlfn.TEXTJOIN(" , ",TRUE,(IF('برنامه فروردین'!$AB$5:$AB$29=دیتا!$F$4,'برنامه فروردین'!$F$5:$F$29,""))&(IF('برنامه فروردین'!$AB$5:$AB$29=دیتا!$F$6,'برنامه فروردین'!$F$5:$F$29,""))&(IF('برنامه فروردین'!$AB$5:$AB$29=دیتا!$F$8,'برنامه فروردین'!$F$5:$F$29,"")))} | V32: {=_xlfn.TEXTJOIN(" , ",TRUE,(IF('برنامه فروردین'!$AB$5:$AB$29=دیتا!$F$5,'برنامه فروردین'!$F$5:$F$29,""))&(IF('برنامه فروردین'!$AB$5:$AB$29=دیتا!$F$7,'برنامه فروردین'!$F$5:$F$29,""))&(IF('برنامه فروردین'!$AB$5:$AB$29=دیتا!$F$8,'برنامه فروردین'!$F$5:$F$29,"")))} -> دکتر محسن
C33: =IF(C32="شنبه","یکشنبه",IF(C32="یکشنبه","دوشنبه",IF(C32="دوشنبه","سه شنبه",IF(C32="سه شنبه","چهار شنبه",IF(C32="چهار شنبه","پنج شنبه",IF(C32="پنج شنبه","جمعه",IF(C32="جمعه","شنبه"))))))) -> پنج شنبه | E33: 23 | F33: {=_xlfn.TEXTJOIN(" , ",TRUE,(IF('برنامه فروردین'!$AC$5:$AC$29=دیتا!$F$3,'برنامه فروردین'!$F$5:$F$29,""))&(IF('برنامه فروردین'!$AC$5:$AC$29=دیتا!$F$7,'برنامه فروردین'!$F$5:$F$29,""))&(IF('برنامه فروردین'!$AC$5:$AC$29=دیتا!$F$6,'برنامه فروردین'!$F$5:$F$29,"")))} -> دکتر صبا | N33: {=_xlfn.TEXTJOIN(" , ",TRUE,(IF('برنامه فروردین'!$AC$5:$AC$29=دیتا!$F$4,'برنامه فروردین'!$F$5:$F$29,""))&(IF('برنامه فروردین'!$AC$5:$AC$29=دیتا!$F$6,'برنامه فروردین'!$F$5:$F$29,""))&(IF('برنامه فروردین'!$AC$5:$AC$29=دیتا!$F$8,'برنامه فروردین'!$F$5:$F$29,"")))} | V33: {=_xlfn.TEXTJOIN(" , ",TRUE,(IF('برنامه فروردین'!$AC$5:$AC$29=دیتا!$F$5,'برنامه فروردین'!$F$5:$F$29,""))&(IF('برنامه فروردین'!$AC$5:$AC$29=دیتا!$F$7,'برنامه فروردین'!$F$5:$F$29,""))&(IF('برنامه فروردین'!$AC$5:$AC$29=دیتا!$F$8,'برنامه فروردین'!$F$5:$F$29,"")))} -> دکتر محسن
C34: =IF(C33="شنبه","یکشنبه",IF(C33="یکشنبه","دوشنبه",IF(C33="دوشنبه","سه شنبه",IF(C33="سه شنبه","چهار شنبه",IF(C33="چهار شنبه","پنج شنبه",IF(C33="پنج شنبه","جمعه",IF(C33="جمعه","شنبه"))))))) -> جمعه | E34: 24 | F34: {=_xlfn.TEXTJOIN(" , ",TRUE,(IF('برنامه فروردین'!$AD$5:$AD$29=دیتا!$F$3,'برنامه فروردین'!$F$5:$F$29,""))&(IF('برنامه فروردین'!$AD$5:$AD$29=دیتا!$F$7,'برنامه فروردین'!$F$5:$F$29,""))&(IF('برنامه فروردین'!$AD$5:$AD$29=دیتا!$F$6,'برنامه فروردین'!$F$5:$F$29,"")))} | N34: {=_xlfn.TEXTJOIN(" , ",TRUE,(IF('برنامه فروردین'!$AD$5:$AD$29=دیتا!$F$4,'برنامه فروردین'!$F$5:$F$29,""))&(IF('برنامه فروردین'!$AD$5:$AD$29=دیتا!$F$6,'برنامه فروردین'!$F$5:$F$29,""))&(IF('برنامه فروردین'!$AD$5:$AD$29=دیتا!$F$8,'برنامه فروردین'!$F$5:$F$29,"")))} | V34: {=_xlfn.TEXTJOIN(" , ",TRUE,(IF('برنامه فروردین'!$AD$5:$AD$29=دیتا!$F$5,'برنامه فروردین'!$F$5:$F$29,""))&(IF('برنامه فروردین'!$AD$5:$AD$29=دیتا!$F$7,'برنامه فروردین'!$F$5:$F$29,""))&(IF('برنامه فروردین'!$AD$5:$AD$29=دیتا!$F$8,'برنامه فروردین'!$F$5:$F$29,"")))} -> دکتر صبا
C35: =IF(C34="شنبه","یکشنبه",IF(C34="یکشنبه","دوشنبه",IF(C34="دوشنبه","سه شنبه",IF(C34="سه شنبه","چهار شنبه",IF(C34="چهار شنبه","پنج شنبه",IF(C34="پنج شنبه","جمعه",IF(C34="جمعه","شنبه"))))))) -> شنبه | E35: 25 | F35: {=_xlfn.TEXTJOIN(" , ",TRUE,(IF('برنامه فروردین'!$AE$5:$AE$29=دیتا!$F$3,'برنامه فروردین'!$F$5:$F$29,""))&(IF('برنامه فروردین'!$AE$5:$AE$29=دیتا!$F$7,'برنامه فروردین'!$F$5:$F$29,""))&(IF('برنامه فروردین'!$AE$5:$AE$29=دیتا!$F$6,'برنامه فروردین'!$F$5:$F$29,"")))} -> دکتر محسن | N35: {=_xlfn.TEXTJOIN(" , ",TRUE,(IF('برنامه فروردین'!$AE$5:$AE$29=دیتا!$F$4,'برنامه فروردین'!$F$5:$F$29,""))&(IF('برنامه فروردین'!$AE$5:$AE$29=دیتا!$F$6,'برنامه فروردین'!$F$5:$F$29,""))&(IF('برنامه فروردین'!$AE$5:$AE$29=دیتا!$F$8,'برنامه فروردین'!$F$5:$F$29,"")))} | V35: {=_xlfn.TEXTJOIN(" , ",TRUE,(IF('برنامه فروردین'!$AE$5:$AE$29=دیتا!$F$5,'برنامه فروردین'!$F$5:$F$29,""))&(IF('برنامه فروردین'!$AE$5:$AE$29=دیتا!$F$7,'برنامه فروردین'!$F$5:$F$29,""))&(IF('برنامه فروردین'!$AE$5:$AE$29=دیتا!$F$8,'برنامه فروردین'!$F$5:$F$29,"")))} -> دکتر محسن
C36: =IF(C35="شنبه","یکشنبه",IF(C35="یکشنبه","دوشنبه",IF(C35="دوشنبه","سه شنبه",IF(C35="سه شنبه","چهار شنبه",IF(C35="چهار شنبه","پنج شنبه",IF(C35="پنج شنبه","جمعه",IF(C35="جمعه","شنبه"))))))) -> یکشنبه | E36: 26 | F36: {=_xlfn.TEXTJOIN(" , ",TRUE,(IF('برنامه فروردین'!$AF$5:$AF$29=دیتا!$F$3,'برنامه فروردین'!$F$5:$F$29,""))&(IF('برنامه فروردین'!$AF$5:$AF$29=دیتا!$F$7,'برنامه فروردین'!$F$5:$F$29,""))&(IF('برنامه فروردین'!$AF$5:$AF$29=دیتا!$F$6,'برنامه فروردین'!$F$5:$F$29,"")))} -> دکتر صبا | N36: {=_xlfn.TEXTJOIN(" , ",TRUE,(IF('برنامه فروردین'!$AF$5:$AF$29=دیتا!$F$4,'برنامه فروردین'!$F$5:$F$29,""))&(IF('برنامه فروردین'!$AF$5:$AF$29=دیتا!$F$6,'برنامه فروردین'!$F$5:$F$29,""))&(IF('برنامه فروردین'!$AF$5:$AF$29=دیتا!$F$8,'برنامه فروردین'!$F$5:$F$29,"")))} -> دکتر محسن | V36: {=_xlfn.TEXTJOIN(" , ",TRUE,(IF('برنامه فروردین'!$AF$5:$AF$29=دیتا!$F$5,'برنامه فروردین'!$F$5:$F$29,""))&(IF('برنامه فروردین'!$AF$5:$AF$29=دیتا!$F$7,'برنامه فروردین'!$F$5:$F$29,""))&(IF('برنامه فروردین'!$AF$5:$AF$29=دیتا!$F$8,'برنامه فروردین'!$F$5:$F$29,"")))} -> دکتر علی
C37: =IF(C36="شنبه","یکشنبه",IF(C36="یکشنبه","دوشنبه",IF(C36="دوشنبه","سه شنبه",IF(C36="سه شنبه","چهار شنبه",IF(C36="چهار شنبه","پنج شنبه",IF(C36="پنج شنبه","جمعه",IF(C36="جمعه","شنبه"))))))) -> دوشنبه | E37: 27 | F37: {=_xlfn.TEXTJOIN(" , ",TRUE,(IF('برنامه فروردین'!$AG$5:$AG$29=دیتا!$F$3,'برنامه فروردین'!$F$5:$F$29,""))&(IF('برنامه فروردین'!$AG$5:$AG$29=دیتا!$F$7,'برنامه فروردین'!$F$5:$F$29,""))&(IF('برنامه فروردین'!$AG$5:$AG$29=دیتا!$F$6,'برنامه فروردین'!$F$5:$F$29,"")))} | N37: {=_xlfn.TEXTJOIN(" , ",TRUE,(IF('برنامه فروردین'!$AG$5:$AG$29=دیتا!$F$4,'برنامه فروردین'!$F$5:$F$29,""))&(IF('برنامه فروردین'!$AG$5:$AG$29=دیتا!$F$6,'برنامه فروردین'!$F$5:$F$29,""))&(IF('برنامه فروردین'!$AG$5:$AG$29=دیتا!$F$8,'برنامه فروردین'!$F$5:$F$29,"")))} -> دکتر محسن | V37: {=_xlfn.TEXTJOIN(" , ",TRUE,(IF('برنامه فروردین'!$AG$5:$AG$29=دیتا!$F$5,'برنامه فروردین'!$F$5:$F$29,""))&(IF('برنامه فروردین'!$AG$5:$AG$29=دیتا!$F$7,'برنامه فروردین'!$F$5:$F$29,""))&(IF('برنامه فروردین'!$AG$5:$AG$29=دیتا!$F$8,'برنامه فروردین'!$F$5:$F$29,"")))} -> دکتر علی
C38: =IF(C37="شنبه","یکشنبه",IF(C37="یکشنبه","دوشنبه",IF(C37="دوشنبه","سه شنبه",IF(C37="سه شنبه","چهار شنبه",IF(C37="چهار شنبه","پنج شنبه",IF(C37="پنج شنبه","جمعه",IF(C37="جمعه","شنبه"))))))) -> سه شنبه | E38: 28 | F38: {=_xlfn.TEXTJOIN(" , ",TRUE,(IF('برنامه فروردین'!$AH$5:$AH$29=دیتا!$F$3,'برنامه فروردین'!$F$5:$F$29,""))&(IF('برنامه فروردین'!$AH$5:$AH$29=دیتا!$F$7,'برنامه فروردین'!$F$5:$F$29,""))&(IF('برنامه فروردین'!$AH$5:$AH$29=دیتا!$F$6,'برنامه فروردین'!$F$5:$F$29,"")))} -> دکتر خالد | N38: {=_xlfn.TEXTJOIN(" , ",TRUE,(IF('برنامه فروردین'!$AH$5:$AH$29=دیتا!$F$4,'برنامه فروردین'!$F$5:$F$29,""))&(IF('برنامه فروردین'!$AH$5:$AH$29=دیتا!$F$6,'برنامه فروردین'!$F$5:$F$29,""))&(IF('برنامه فروردین'!$AH$5:$AH$29=دیتا!$F$8,'برنامه فروردین'!$F$5:$F$29,"")))} -> دکتر محسن | V38: {=_xlfn.TEXTJOIN(" , ",TRUE,(IF('برنامه فروردین'!$AH$5:$AH$29=دیتا!$F$5,'برنامه فروردین'!$F$5:$F$29,""))&(IF('برنامه فروردین'!$AH$5:$AH$29=دیتا!$F$7,'برنامه فروردین'!$F$5:$F$29,""))&(IF('برنامه فروردین'!$AH$5:$AH$29=دیتا!$F$8,'برنامه فروردین'!$F$5:$F$29,"")))} -> دکتر صبا
C39: =IF(C38="شنبه","یکشنبه",IF(C38="یکشنبه","دوشنبه",IF(C38="دوشنبه","سه شنبه",IF(C38="سه شنبه","چهار شنبه",IF(C38="چهار شنبه","پنج شنبه",IF(C38="پنج شنبه","جمعه",IF(C38="جمعه","شنبه"))))))) -> چهار شنبه | E39: 29 | F39: {=_xlfn.TEXTJOIN(" , ",TRUE,(IF('برنامه فروردین'!$AI$5:$AI$29=دیتا!$F$3,'برنامه فروردین'!$F$5:$F$29,""))&(IF('برنامه فروردین'!$AI$5:$AI$29=دیتا!$F$7,'برنامه فروردین'!$F$5:$F$29,""))&(IF('برنامه فروردین'!$AI$5:$AI$29=دیتا!$F$6,'برنامه فروردین'!$F$5:$F$29,"")))} | N39: {=_xlfn.TEXTJOIN(" , ",TRUE,(IF('برنامه فروردین'!$AI$5:$AI$29=دیتا!$F$4,'برنامه فروردین'!$F$5:$F$29,""))&(IF('برنامه فروردین'!$AI$5:$AI$29=دیتا!$F$6,'برنامه فروردین'!$F$5:$F$29,""))&(IF('برنامه فروردین'!$AI$5:$AI$29=دیتا!$F$8,'برنامه فروردین'!$F$5:$F$29,"")))} | V39: {=_xlfn.TEXTJOIN(" , ",TRUE,(IF('برنامه فروردین'!$AI$5:$AI$29=دیتا!$F$5,'برنامه فروردین'!$F$5:$F$29,""))&(IF('برنامه فروردین'!$AI$5:$AI$29=دیتا!$F$7,'برنامه فروردین'!$F$5:$F$29,""))&(IF('برنامه فروردین'!$AI$5:$AI$29=دیتا!$F$8,'برنامه فروردین'!$F$5:$F$29,"")))} -> دکتر خالد
