Workbook
Name asli: #REF!
Name payesanavat: #REF!
Name sanad: #REF!
Name taxsallary: #REF!
Name ش1: #REF!

Sheet فیش حقوقی
H1: کدینگ حقوق
B2: فروردین ماه 1405معاونت دانشجوئی و فرهنگی خراسان شمالی
B3: مشخصات | D3: حقوق و مزایا | F3: کسورات
A4: =IF(B4="کدملی",C4,A3) -> 1 | B4: کدملی | C4: 1 | D4: پایه حقوق روزانه | E4: =INDEX('شیت مزد'!$B$6:$B$25,MATCH(C5,'شیت مزد'!$A$6:$A$25,0)) -> 5621238 | F4: حق بیمه کارمند | G4: =(E19-E8-E16-E17-E18)*0.07 -> 20463629
A5: =IF(B5="کدملی",C5,A4) -> 1 | B5: گروه شغلی | C5: 8 | D5: حقوق مبنا | E5: =E4*C17 -> 174258378 | F5: مالیات(خروجی سایت مالیات من) | H5: 1
A6: =IF(B6="کدملی",C6,A5) -> 1 | B6: نام | C6: الف | D6: پایه سنوات | E6: =C11*C17 -> 44230304 | F6: حقوق مشمول مالیات | G6: =E19-E17-E16-G4 -> 3.4037612e+08 | H6: 47
A7: =IF(B7="کدملی",C7,A6) -> 1 | B7: نام خانوادگی | C7: ب | D7: جمع حقوق مبنا و پایه سنوات | E7: =E5+E6 -> 218488682
A8: =IF(B8="کدملی",C8,A7) -> 1 | B8: موظفی | D8: کمک هزینه اولاد | E8: =IF(C17>=30,16625550*C9,IF(C17<30,((16625550*C9)/30)*C17)) -> 66502200 | H8: 14
A9: =IF(B9="کدملی",C9,A8) -> 1 | B9: تعداد فرزند | C9: 4 | D9: حق تاهل | E9: =IF(AND(C18="متاهل",C17>=30),5000000,IF(AND(C18="متاهل",C17<30),(5000000.3)*C17,0)) -> 0 | H9: 13.1
A10: =IF(B10="کدملی",C10,A9) -> 1 | B10: تعداد سال سابقه | C10: 9 | D10: کمک هزینه مسکن | E10: =IF(C17>=30,30000000,IF(C17<30,(30000000/30)*C17)) -> 30000000 | H10: 32
A11: =IF(B11="کدملی",C11,A10) -> 1 | B11: پایه سنوات روزانه | C11: =INDEX('شیت مزد'!$C$4:$CF$25, MATCH(C5, 'شیت مزد'!$A$4:$A$25, 0), MATCH(C10, 'شیت مزد'!$C$4:$CG$4, 0)) -> 1426784 | D11: کمک هزینه خوار و بار | E11: =IF(C17>=30,22000000,IF(C17<30,(22000000/30)*C17)) -> 22000000 | H11: 31
A12: =IF(B12="کدملی",C12,A11) -> 1 | B12: ساعت اضافه کاری | C12: 0 | D12: نوبت کاری | E12: =IF(C17<15,0,(E5+E6)*VLOOKUP(C19,'روزهای 1405'!$J$1:$K$6,2,0)) -> 21848868 | H12: 21
A13: =IF(B13="کدملی",C13,A12) -> 1 | B13: نرخ یک ساعت اضافه کار | C13: =((E4+C11)/7.33)*1.4 -> 1346143.4 | D13: اضافه کاری | E13: =C12*C13 -> 0
A14: =IF(B14="کدملی",C14,A13) -> 1 | B14: تعداد روز مانده مرخصی | D14: جمعه کاری | E14: =C15*C16 -> 0
A15: =IF(B15="کدملی",C15,A14) -> 1 | B15: جمعه کاری | C15: =((C11+E4)/7.33)*0.4 -> 384612.39 | D15: مانده مرخصی | E15: {=SUM((E7:E12)/30)*C14} -> 0
A16: =IF(B16="کدملی",C16,A15) -> 1 | B16: ساعت جمعه کاری | D16: عیدی | E16: =IF(C17>=30,(C11+E4)*5,IF(C17<30,(((C11+E4)*5)/30)*C17)) -> 35240110 | H16: 1047
A17: =IF(B17="کدملی",C17,A16) -> 1 | B17: تعداد روزهای ماه | C17: 31 | D17: سنوات | E17: =IF(C17>=30,((E4+C11)*2.5),IF(C17<30,(((E4+C11)*2.5)/30)*C17)) -> 17620055 | H17: 1048
A18: =IF(B18="کدملی",C18,A17) -> 1 | B18: وضعیت تاهل | D18: حق لباس | E18: =IF(C17>=30,C20,IF(C17<30,(C20/30)*C17)) -> 2000000 | H18: 11
A19: =IF(D19="کدملی",C19,A18) -> 1 | B19: درصد نوبت کاری | C19: صبح و عصر | D19: جمع کل | E19: =SUM(E7:E18)-E15 -> 4.1369992e+08
A20: =IF(E20="کدملی",C20,A19) -> 1 | B20: حق لباس | C20: 2000000 | D20: خالص پرداختی | G20: =E19-G4-G5-E17-E15-E16 -> 3.4037612e+08
A21: =IF(B21="کدملی",C21,A20) -> 1
A22: =IF(B22="کدملی",C22,A21) -> 1
A23: =IF(B23="کدملی",C23,A22) -> 1
A24: =IF(B24="کدملی",C24,A23) -> 1
A25: =IF(B25="کدملی",C25,A24) -> 1
A26: =IF(B26="کدملی",C26,A25) -> 1
A27: =IF(B27="کدملی",C27,A26) -> 1
A28: =IF(B28="کدملی",C28,A27) -> 1
A29: =IF(B29="کدملی",C29,A28) -> 1 | B29: فروردین ماه 1405معاونت دانشجوئی و فرهنگی خراسان شمالی
A30: =IF(B30="کدملی",C30,A29) -> 1 | B30: مشخصات | D30: حقوق و مزایا | F30: کسورات
A31: =IF(B31="کدملی",C31,A30) -> 2 | B31: کدملی | C31: 2 | D31: پایه حقوق روزانه | E31: =INDEX('شیت مزد'!$B$6:$B$25,MATCH(C32,'شیت مزد'!$A$6:$A$25,0)) -> 5569331 | F31: حق بیمه کارمند | G31: =(E46-E35-E43-E44-E45)*0.07 -> 17069574
A32: =IF(B32="کدملی",C32,A31) -> 2 | B32: گروه شغلی | C32: 4 | D32: حقوق مبنا | E32: =E31*C44 -> 1.698646e+08 | F32: مالیات(خروجی سایت مالیات من) | H32: 1
A33: =IF(B33="کدملی",C33,A32) -> 2 | B33: نام | C33: پ | D33: پایه سنوات | E33: =C38*C44 -> 0 | F33: حقوق مشمول مالیات | G33: =E46-E44-E43-G31 -> 2.4440703e+08 | H33: 47
A34: =IF(B34="کدملی",C34,A33) -> 2 | B34: نام خانوادگی | C34: ت | D34: جمع حقوق مبنا و پایه سنوات | E34: =E32+E33 -> 1.698646e+08
A35: =IF(B35="کدملی",C35,A34) -> 2 | B35: موظفی | D35: کمک هزینه اولاد | E35: =IF(C44>=30,16625550*C36,IF(C44<30,((16625550*C36)/30)*C44)) -> 16625550 | H35: 14
A36: =IF(B36="کدملی",C36,A35) -> 2 | B36: تعداد فرزند | C36: 1 | D36: حق تاهل | E36: =IF(AND(C45="متاهل",C44>=30),5000000,IF(AND(C45="متاهل",C44<30),(5000000/30)*C44,0)) -> 5000000 | H36: 13.1
A37: =IF(B37="کدملی",C37,A36) -> 2 | B37: تعداد سال سابقه | C37: 0 | D37: کمک هزینه مسکن | E37: =IF(C44>=30,30000000,IF(C44<30,(30000000/30)*C44)) -> 30000000 | H37: 32
A38: =IF(B38="کدملی",C38,A37) -> 2 | B38: پایه سنوات روزانه | C38: =INDEX('شیت مزد'!$C$4:$CF$25, MATCH(C32, 'شیت مزد'!$A$4:$A$25, 0), MATCH(C37, 'شیت مزد'!$C$4:$CG$4, 0)) -> 0 | D38: کمک هزینه خوار و بار | E38: =IF(C44>=30,22000000,IF(C44<30,(22000000/30)*C44)) -> 22000000 | H38: 31
A39: =IF(B39="کدملی",C39,A38) -> 2 | B39: ساعت اضافه کاری | C39: 0 | D39: نوبت کاری | E39: =IF(C44<15,0,(E32+E33)*VLOOKUP(C46,'روزهای 1405'!$J$1:$K$6,2,0)) -> 16986460 | H39: 21
A40: =IF(B40="کدملی",C40,A39) -> 2 | B40: نرخ یک ساعت اضافه کار | C40: =((E31+C38)/7.33)*1.4 -> 1063719.4 | D40: اضافه کاری | E40: =C39*C40 -> 0
A41: =IF(B41="کدملی",C41,A40) -> 2 | B41: ساعت مانده مرخصی | D41: جمعه کاری | E41: =C42*C43 -> 0
A42: =IF(B42="کدملی",C42,A41) -> 2 | B42: جمعه کاری | C42: =((C38+E31)/7.33)*0.4 -> 303919.84 | D42: مانده مرخصی | E42: {=SUM((E34:E39)/30)*C41} -> 0
A43: =IF(B43="کدملی",C43,A42) -> 2 | B43: ساعت جمعه کاری | D43: عیدی | E43: =IF(C44>=30,(C38+E31)*5,IF(C44<30,(((C38+E31)*5)/30)*C44)) -> 27846655 | H43: 1047
A44: =IF(B44="کدملی",C44,A43) -> 2 | B44: تعداد روزهای ماه | C44: 30.5 | D44: سنوات | E44: =IF(C44>=30,((E31+C38)*2.5),IF(C44<30,(((E31+C38)*2.5)/30)*C44)) -> 13923328 | H44: 1048
A45: =IF(B45="کدملی",C45,A44) -> 2 | B45: وضعیت تاهل | C45: متاهل | D45: حق لباس | E45: =IF(C44>=30,C47,IF(C44<30,(C47/30)*C44)) -> 1000000 | H45: 11
A46: =IF(B46="کدملی",C46,A45) -> 2 | B46: درصد نوبت کاری | C46: صبح و عصر | D46: جمع کل | E46: =SUM(E34:E45)-E42 -> 3.0324659e+08
A47: =IF(B47="کدملی",C47,A46) -> 2 | B47: حق لباس | C47: 1000000 | D47: خالص پرداختی | G47: =E46-G31-G32-E44-E42-E43 -> 2.4440703e+08
A48: =IF(B48="کدملی",C48,A47) -> 2
A49: =IF(B49="کدملی",C49,A48) -> 2
A50: =IF(B50="کدملی",C50,A49) -> 2
A51: =IF(B51="کدملی",C51,A50) -> 2
A52: =IF(B52="کدملی",C52,A51) -> 2
A53: =IF(B53="کدملی",C53,A52) -> 2
A54: =IF(B54="کدملی",C54,A53) -> 2
A55: =IF(B55="کدملی",C55,A54) -> 2
A56: =IF(B56="کدملی",C56,A55) -> 2 | B56: فروردین ماه 1405معاونت دانشجوئی و فرهنگی خراسان شمالی
A57: =IF(B57="کدملی",C57,A56) -> 2 | B57: مشخصات | D57: حقوق و مزایا | F57: کسورات
A58: =IF(B58="کدملی",C58,A57) -> 3 | B58: کدملی | C58: 3 | D58: پایه حقوق روزانه | E58: =INDEX('شیت مزد'!$B$6:$B$25,MATCH(C59,'شیت مزد'!$A$6:$A$25,0)) -> 5569331 | F58: حق بیمه کارمند | G58: =(E73-E62-E70-E71-E72)*0.07 -> 20099430
A59: =IF(B59="کدملی",C59,A58) -> 3 | B59: گروه شغلی | C59: 4 | D59: حقوق مبنا | E59: =E58*C71 -> 1.698646e+08 | F59: مالیات(خروجی سایت مالیات من) | H59: 1
A60: =IF(B60="کدملی",C60,A59) -> 3 | B60: نام | C60: ث | D60: پایه سنوات | E60: =C65*C71 -> 39348782 | F60: حقوق مشمول مالیات | G60: =E73-E71-E70-G58 -> 3.0228639e+08 | H60: 47
A61: =IF(B61="کدملی",C61,A60) -> 3 | B61: نام خانوادگی | C61: ج | D61: جمع حقوق مبنا و پایه سنوات | E61: =E59+E60 -> 2.0921338e+08
A62: =IF(B62="کدملی",C62,A61) -> 3 | B62: موظفی | D62: کمک هزینه اولاد | E62: =IF(C71>=30,16625550*C63,IF(C71<30,((16625550*C63)/30)*C71)) -> 33251100 | H62: 14
A63: =IF(B63="کدملی",C63,A62) -> 3 | B63: تعداد فرزند | C63: 2 | D63: حق تاهل | E63: =IF(AND(C72="متاهل",C71>=30),5000000,IF(AND(C72="متاهل",C71<30),(5000000.3)*C71,0)) -> 5000000 | H63: 13.1
A64: =IF(B64="کدملی",C64,A63) -> 3 | B64: تعداد سال سابقه | C64: 8 | D64: کمک هزینه مسکن | E64: =IF(C71>=30,30000000,IF(C71<30,(30000000/30)*C71)) -> 30000000 | H64: 32
A65: =IF(B65="کدملی",C65,A64) -> 3 | B65: پایه سنوات روزانه | C65: =INDEX('شیت مزد'!$C$4:$CF$25, MATCH(C59, 'شیت مزد'!$A$4:$A$25, 0), MATCH(C64, 'شیت مزد'!$C$4:$CG$4, 0)) -> 1290124 | D65: کمک هزینه خوار و بار | E65: =IF(C71>=30,22000000,IF(C71<30,(22000000/30)*C71)) -> 22000000 | H65: 31
A66: =IF(B66="کدملی",C66,A65) -> 3 | B66: ساعت اضافه کاری | C66: 0 | D66: نوبت کاری | E66: =IF(C71<15,0,(E59+E60)*VLOOKUP(C73,'روزهای 1405'!$J$1:$K$6,2,0)) -> 20921338 | H66: 21
A67: =IF(B67="کدملی",C67,A66) -> 3 | B67: نرخ یک ساعت اضافه کار | C67: =((E58+C65)/7.33)*1.4 -> 1310127.8 | D67: اضافه کاری | E67: =C66*C67 -> 0
A68: =IF(B68="کدملی",C68,A67) -> 3 | B68: ساعت مانده مرخصی | C68: 0 | D68: جمعه کاری | E68: =C69*C70 -> 0
A69: =IF(B69="کدملی",C69,A68) -> 3 | B69: جمعه کاری | C69: =((C65+E58)/7.33)*0.4 -> 374322.24 | D69: مانده مرخصی | E69: {=SUM((E61:E66)/30)*C68} -> 0
A70: =IF(B70="کدملی",C70,A69) -> 3 | B70: ساعت جمعه کاری | D70: عیدی | E70: =IF(C71>=30,(C65+E58)*5,IF(C71<30,(((C65+E58)*5)/30)*C71)) -> 34297275 | H70: 1047
A71: =IF(B71="کدملی",C71,A70) -> 3 | B71: تعداد روزهای ماه | C71: 30.5 | D71: سنوات | E71: =IF(C71>=30,((E58+C65)*2.5),IF(C71<30,(((E58+C65)*2.5)/30)*C71)) -> 17148638 | H71: 1048
A72: =IF(B72="کدملی",C72,A71) -> 3 | B72: وضعیت تاهل | C72: متاهل | D72: حق لباس | E72: =IF(C71>=30,C74,IF(C71<30,(C74/30)*C71)) -> 2000000 | H72: 11
A73: =IF(B73="کدملی",C73,A72) -> 3 | B73: درصد نوبت کاری | C73: صبح و عصر | D73: جمع کل | E73: =SUM(E61:E72)-E69 -> 3.7383173e+08
A74: =IF(B74="کدملی",C74,A73) -> 3 | B74: حق لباس | C74: 2000000 | D74: خالص پرداختی | G74: =E73-G58-G59-E71-E69-E70 -> 3.0228639e+08
A75: =IF(B75="کدملی",C75,A74) -> 3
A76: =IF(B76="کدملی",C76,A75) -> 3
A77: =IF(B77="کدملی",C77,A76) -> 3
A78: =IF(B78="کدملی",C78,A77) -> 3
A79: =IF(B79="کدملی",C79,A78) -> 3
A80: =IF(B80="کدملی",C80,A79) -> 3
A81: =IF(B81="کدملی",C81,A80) -> 3
A82: =IF(B82="کدملی",C82,A81) -> 3
A83: =IF(B83="کدملی",C83,A82) -> 3 | B83: فروردین ماه 1405معاونت دانشجوئی و فرهنگی خراسان شمالی
A84: =IF(B84="کدملی",C84,A83) -> 3 | B84: مشخصات | D84: حقوق و مزایا | F84: کسورات
A85: =IF(B85="کدملی",C85,A84) -> 4 | B85: کدملی | C85: 4 | D85: پایه حقوق روزانه | E85: =INDEX('شیت مزد'!$B$6:$B$25,MATCH(C86,'شیت مزد'!$A$6:$A$25,0)) -> 5569331 | F85: حق بیمه کارمند | G85: =(E100-E89-E97-E98-E99)*0.07 -> 19431873
A86: =IF(B86="کدملی",C86,A85) -> 4 | B86: گروه شغلی | C86: 4 | D86: حقوق مبنا | E86: =E85*C98 -> 1.698646e+08 | F86: مالیات(خروجی سایت مالیات من) | H86: 1
A87: =IF(B87="کدملی",C87,A86) -> 4 | B87: نام | C87: چ | D87: پایه سنوات | E87: =C92*C98 -> 35224664 | F87: حقوق مشمول مالیات | G87: =E100-E98-E97-G85 -> 2.7679186e+08 | H87: 47
A88: =IF(B88="کدملی",C88,A87) -> 4 | B88: نام خانوادگی | C88: ح | D88: جمع حقوق مبنا و پایه سنوات | E88: =E86+E87 -> 205089259
A89: =IF(B89="کدملی",C89,A88) -> 4 | B89: موظفی | D89: کمک هزینه اولاد | E89: =IF(C98>=30,16625550*C90,IF(C98<30,((16625550*C90)/30)*C98)) -> 16625550 | H89: 14
A90: =IF(B90="کدملی",C90,A89) -> 4 | B90: تعداد فرزند | C90: 1 | D90: حق تاهل | E90: =IF(AND(C99="متاهل",C98>=30),5000000,IF(AND(C99="متاهل",C98<30),(5000000/30)*C98,0)) -> 0 | H90: 13.1
A91: =IF(B91="کدملی",C91,A90) -> 4 | B91: تعداد سال سابقه | C91: 7 | D91: کمک هزینه مسکن | E91: =IF(C98>=30,30000000,IF(C98<30,(30000000/30)*C98)) -> 30000000 | H91: 32
A92: =IF(B92="کدملی",C92,A91) -> 4 | B92: پایه سنوات روزانه | C92: =INDEX('شیت مزد'!$C$4:$CF$25, MATCH(C86, 'شیت مزد'!$A$4:$A$25, 0), MATCH(C91, 'شیت مزد'!$C$4:$CG$4, 0)) -> 1154907 | D92: کمک هزینه خوار و بار | E92: =IF(C98>=30,22000000,IF(C98<30,(22000000/30)*C98)) -> 22000000 | H92: 31
A93: =IF(B93="کدملی",C93,A92) -> 4 | B93: ساعت اضافه کاری | C93: 0 | D93: نوبت کاری | E93: =IF(C98<15,0,(E86+E87)*VLOOKUP(C100,'روزهای 1405'!$J$1:$K$6,2,0)) -> 20508926 | H93: 21
A94: =IF(B94="کدملی",C94,A93) -> 4 | B94: نرخ یک ساعت اضافه کار | C94: =((E85+C92)/7.33)*1.4 -> 1284301.9 | D94: اضافه کاری | E94: =C93*C94 -> 0
A95: =IF(B95="کدملی",C95,A94) -> 4 | B95: ساعت مانده مرخصی | D95: جمعه کاری | E95: =C96*C97 -> 0
A96: =IF(B96="کدملی",C96,A95) -> 4 | B96: جمعه کاری | C96: =((C92+E85)/7.33)*0.4 -> 366943.41 | D96: مانده مرخصی | E96: {=SUM((E88:E93)/30)*C95} -> 0
A97: =IF(B97="کدملی",C97,A96) -> 4 | B97: ساعت جمعه کاری | D97: عیدی | E97: =IF(C98>=30,(C92+E85)*5,IF(C98<30,(((C92+E85)*5)/30)*C98)) -> 33621190 | H97: 1047
A98: =IF(B98="کدملی",C98,A97) -> 4 | B98: تعداد روزهای ماه | C98: 30.5 | D98: سنوات | E98: =IF(C98>=30,((E85+C92)*2.5),IF(C98<30,(((E85+C92)*2.5)/30)*C98)) -> 16810595 | H98: 1048
A99: =IF(B99="کدملی",C99,A98) -> 4 | B99: وضعیت تاهل | C99: مجرد | D99: حق لباس | E99: =IF(C98>=30,C101,IF(C98<30,(C101/30)*C98)) -> 2000000 | H99: 11
A100: =IF(B100="کدملی",C100,A99) -> 4 | B100: درصد نوبت کاری | C100: صبح و عصر | D100: جمع کل | E100: =SUM(E88:E99)-E96 -> 3.4665552e+08
...

Sheet شیت مزد
A1: جدول مزد شرکت های خدماتی و پشتیبانی تامین نیروی انسانی
A2: جدول دستمزد ۱۴۰۵ گروه های ۲۰گانه شرکت های خدماتی و پشتیبانی
G3: حداقل دستمزد روزانه : ۵,۵۴۱,۸۵۰ | L3: 45% +مبلغ ثابت 519549
C4: 0 | D4: 1 | E4: 2 | F4: 3 | G4: 4 | H4: 5 | I4: 6 | J4: 7 | K4: 8 | L4: 9 | M4: 10 | N4: 11 | O4: 12 | P4: 13 | Q4: 14 | R4: 15 | S4: 16 | T4: 17 | U4: 18 | V4: 19 | W4: 20 | X4: 21 | Y4: 22 | Z4: 23 | AA4: 24 | AB4: 25 | AC4: 26 | AD4: 27 | AE4: 28 | AF4: 29 | AG4: 30 | AH4: 31 | AI4: 32 | AJ4: 33 | AK4: 34 | AL4: 35 | AM4: 36 | AN4: 37 | AO4: 38 | AP4: 39 | AQ4: 40 | AR4: 41 | AS4: 42 | AT4: 43 | AU4: 44 | AV4: 45 | AW4: 46 | AX4: 47 | AY4: 48 | AZ4: 49 | BA4: 50 | BB4: 51 | BC4: 52 | BD4: 53 | BE4: 54 | BF4: 55 | BG4: 56 | BH4: 57 | BI4: 58 | BJ4: 59 | BK4: 60 | BL4: 61 | BM4: 62 | BN4: 63 | BO4: 64 | BP4: 65 | BQ4: 66 | BR4: 67 | BS4: 68 | BT4: 69 | BU4: 70 | BV4: 71 | BW4: 72 | BX4: 73 | BY4: 74 | BZ4: 75 | CA4: 76 | CB4: 77 | CC4: 78 | CD4: 79 | CE4: 80 | CF4: 81
A5: گروه | B5: مزد شغل | C5: سال صفر | D5: 1 سال | E5: 2 سال | F5: 3 سال | G5: 4 سال | H5: 5 سال | I5: 6 سال | J5: 7 سال | K5: 8 سال | L5: 9 سال | M5: 10 سال | N5: 11 سال | O5: 12 سال | P5: 13 سال | Q5: 14 سال
A6: 1 | B6: 5541850 | D6: 166667 | E6: 302967 | F6: 436947 | G6: 600403 | H6: 798184 | I6: 980145 | J6: 1143905 | K6: 1275733 | L6: 1384265 | M6: 1504086 | N6: 1583028 | O6: 1673021 | P6: 1725666 | Q6: 1761041 | R6: 1761041 | S6: 1761041 | T6: 1761041 | U6: 1761041 | V6: 1761041 | W6: 1761041 | X6: 1761041 | Y6: 1761041 | Z6: 1761041 | AA6: 1761041 | AB6: 1761041 | AC6: 1761041 | AD6: 1761041 | AE6: 1761041 | AF6: 1761041 | AG6: 1761041 | AH6: 1761041 | AI6: 1761041 | AJ6: 1761041 | AK6: 1761041 | AL6: 1761041 | AM6: 1761041 | AN6: 1761041 | AO6: 1761041 | AP6: 1761041 | AQ6: 1761041 | AR6: 1761041 | AS6: 1761041 | AT6: 1761041 | AU6: 1761041 | AV6: 1761041 | AW6: 1761041 | AX6: 1761041 | AY6: 1761041 | AZ6: 1761041 | BA6: 1761041 | BB6: 1761041 | BC6: 1761041 | BD6: 1761041 | BE6: 1761041 | BF6: 1761041 | BG6: 1761041 | BH6: 1761041 | BI6: 1761041 | BJ6: 1761041 | BK6: 1761041 | BL6: 1761041 | BM6: 1761041 | BN6: 1761041 | BO6: 1761041 | BP6: 1761041 | BQ6: 1761041 | BR6: 1761041 | BS6: 1761041 | BT6: 1761041 | BU6: 1761041 | BV6: 1761041 | BW6: 1761041 | BX6: 1761041 | BY6: 1761041 | BZ6: 1761041 | CA6: 1761041 | CB6: 1761041 | CC6: 1761041 | CD6: 1761041 | CE6: 1761041 | CF6: 1761041
A7: 2 | B7: 5551010 | D7: 166867 | E7: 303457 | F7: 437820 | G7: 601742 | H7: 800089 | I7: 982828 | J7: 1147573 | K7: 1280529 | L7: 1390339 | M7: 1511571 | N7: 1592089 | O7: 1683883 | P7: 1737581 | Q7: 1774138 | R7: 1774138 | S7: 1774138 | T7: 1774138 | U7: 1774138 | V7: 1774138 | W7: 1774138 | X7: 1774138 | Y7: 1774138 | Z7: 1774138 | AA7: 1774138 | AB7: 1774138 | AC7: 1774138 | AD7: 1774138 | AE7: 1774138 | AF7: 1774138 | AG7: 1774138 | AH7: 1774138 | AI7: 1774138 | AJ7: 1774138 | AK7: 1774138 | AL7: 1774138 | AM7: 1774138 | AN7: 1774138 | AO7: 1774138 | AP7: 1774138 | AQ7: 1774138 | AR7: 1774138 | AS7: 1774138 | AT7: 1774138 | AU7: 1774138 | AV7: 1774138 | AW7: 1774138 | AX7: 1774138 | AY7: 1774138 | AZ7: 1774138 | BA7: 1774138 | BB7: 1774138 | BC7: 1774138 | BD7: 1774138 | BE7: 1774138 | BF7: 1774138 | BG7: 1774138 | BH7: 1774138 | BI7: 1774138 | BJ7: 1774138 | BK7: 1774138 | BL7: 1774138 | BM7: 1774138 | BN7: 1774138 | BO7: 1774138 | BP7: 1774138 | BQ7: 1774138 | BR7: 1774138 | BS7: 1774138 | BT7: 1774138 | BU7: 1774138 | BV7: 1774138 | BW7: 1774138 | BX7: 1774138 | BY7: 1774138 | BZ7: 1774138 | CA7: 1774138 | CB7: 1774138 | CC7: 1774138 | CD7: 1774138 | CE7: 1774138 | CF7: 1774138
A8: 3 | B8: 5560171 | D8: 167067 | E8: 303947 | F8: 438693 | G8: 603082 | H8: 801993 | I8: 985514 | J8: 1151240 | K8: 1285327 | L8: 1396413 | M8: 1519056 | N8: 1601152 | O8: 1694745 | P8: 1749497 | Q8: 1787229 | R8: 1787229 | S8: 1787229 | T8: 1787229 | U8: 1787229 | V8: 1787229 | W8: 1787229 | X8: 1787229 | Y8: 1787229 | Z8: 1787229 | AA8: 1787229 | AB8: 1787229 | AC8: 1787229 | AD8: 1787229 | AE8: 1787229 | AF8: 1787229 | AG8: 1787229 | AH8: 1787229 | AI8: 1787229 | AJ8: 1787229 | AK8: 1787229 | AL8: 1787229 | AM8: 1787229 | AN8: 1787229 | AO8: 1787229 | AP8: 1787229 | AQ8: 1787229 | AR8: 1787229 | AS8: 1787229 | AT8: 1787229 | AU8: 1787229 | AV8: 1787229 | AW8: 1787229 | AX8: 1787229 | AY8: 1787229 | AZ8: 1787229 | BA8: 1787229 | BB8: 1787229 | BC8: 1787229 | BD8: 1787229 | BE8: 1787229 | BF8: 1787229 | BG8: 1787229 | BH8: 1787229 | BI8: 1787229 | BJ8: 1787229 | BK8: 1787229 | BL8: 1787229 | BM8: 1787229 | BN8: 1787229 | BO8: 1787229 | BP8: 1787229 | BQ8: 1787229 | BR8: 1787229 | BS8: 1787229 | BT8: 1787229 | BU8: 1787229 | BV8: 1787229 | BW8: 1787229 | BX8: 1787229 | BY8: 1787229 | BZ8: 1787229 | CA8: 1787229 | CB8: 1787229 | CC8: 1787229 | CD8: 1787229 | CE8: 1787229 | CF8: 1787229
A9: 4 | B9: 5569331 | D9: 167267 | E9: 304437 | F9: 439565 | G9: 604422 | H9: 803898 | I9: 988198 | J9: 1154907 | K9: 1290124 | L9: 1402487 | M9: 1526535 | N9: 1610214 | O9: 1705608 | P9: 1761413 | Q9: 1800325 | R9: 1800325 | S9: 1800325 | T9: 1800325 | U9: 1800325 | V9: 1800325 | W9: 1800325 | X9: 1800325 | Y9: 1800325 | Z9: 1800325 | AA9: 1800325 | AB9: 1800325 | AC9: 1800325 | AD9: 1800325 | AE9: 1800325 | AF9: 1800325 | AG9: 1800325 | AH9: 1800325 | AI9: 1800325 | AJ9: 1800325 | AK9: 1800325 | AL9: 1800325 | AM9: 1800325 | AN9: 1800325 | AO9: 1800325 | AP9: 1800325 | AQ9: 1800325 | AR9: 1800325 | AS9: 1800325 | AT9: 1800325 | AU9: 1800325 | AV9: 1800325 | AW9: 1800325 | AX9: 1800325 | AY9: 1800325 | AZ9: 1800325 | BA9: 1800325 | BB9: 1800325 | BC9: 1800325 | BD9: 1800325 | BE9: 1800325 | BF9: 1800325 | BG9: 1800325 | BH9: 1800325 | BI9: 1800325 | BJ9: 1800325 | BK9: 1800325 | BL9: 1800325 | BM9: 1800325 | BN9: 1800325 | BO9: 1800325 | BP9: 1800325 | BQ9: 1800325 | BR9: 1800325 | BS9: 1800325 | BT9: 1800325 | BU9: 1800325 | BV9: 1800325 | BW9: 1800325 | BX9: 1800325 | BY9: 1800325 | BZ9: 1800325 | CA9: 1800325 | CB9: 1800325 | CC9: 1800325 | CD9: 1800325 | CE9: 1800325 | CF9: 1800325
A10: 5 | B10: 5581544 | D10: 167467 | E10: 304927 | F10: 440438 | G10: 605761 | H10: 805803 | I10: 990883 | J10: 1158574 | K10: 1294922 | L10: 1408563 | M10: 1534020 | N10: 1619275 | O10: 1716470 | P10: 1773322 | Q10: 1813423 | R10: 1813423 | S10: 1813423 | T10: 1813423 | U10: 1813423 | V10: 1813423 | W10: 1813423 | X10: 1813423 | Y10: 1813423 | Z10: 1813423 | AA10: 1813423 | AB10: 1813423 | AC10: 1813423 | AD10: 1813423 | AE10: 1813423 | AF10: 1813423 | AG10: 1813423 | AH10: 1813423 | AI10: 1813423 | AJ10: 1813423 | AK10: 1813423 | AL10: 1813423 | AM10: 1813423 | AN10: 1813423 | AO10: 1813423 | AP10: 1813423 | AQ10: 1813423 | AR10: 1813423 | AS10: 1813423 | AT10: 1813423 | AU10: 1813423 | AV10: 1813423 | AW10: 1813423 | AX10: 1813423 | AY10: 1813423 | AZ10: 1813423 | BA10: 1813423 | BB10: 1813423 | BC10: 1813423 | BD10: 1813423 | BE10: 1813423 | BF10: 1813423 | BG10: 1813423 | BH10: 1813423 | BI10: 1813423 | BJ10: 1813423 | BK10: 1813423 | BL10: 1813423 | BM10: 1813423 | BN10: 1813423 | BO10: 1813423 | BP10: 1813423 | BQ10: 1813423 | BR10: 1813423 | BS10: 1813423 | BT10: 1813423 | BU10: 1813423 | BV10: 1813423 | BW10: 1813423 | BX10: 1813423 | BY10: 1813423 | BZ10: 1813423 | CA10: 1813423 | CB10: 1813423 | CC10: 1813423 | CD10: 1813423 | CE10: 1813423 | CF10: 1813423
A11: 6 | B11: 5593757 | D11: 167667 | E11: 305417 | F11: 441311 | G11: 607101 | H11: 807709 | I11: 993568 | J11: 1162242 | K11: 1299718 | L11: 1414637 | M11: 1541504 | N11: 1628338 | O11: 1727332 | P11: 1785238 | Q11: 1826512 | R11: 1826512 | S11: 1826512 | T11: 1826512 | U11: 1826512 | V11: 1826512 | W11: 1826512 | X11: 1826512 | Y11: 1826512 | Z11: 1826512 | AA11: 1826512 | AB11: 1826512 | AC11: 1826512 | AD11: 1826512 | AE11: 1826512 | AF11: 1826512 | AG11: 1826512 | AH11: 1826512 | AI11: 1826512 | AJ11: 1826512 | AK11: 1826512 | AL11: 1826512 | AM11: 1826512 | AN11: 1826512 | AO11: 1826512 | AP11: 1826512 | AQ11: 1826512 | AR11: 1826512 | AS11: 1826512 | AT11: 1826512 | AU11: 1826512 | AV11: 1826512 | AW11: 1826512 | AX11: 1826512 | AY11: 1826512 | AZ11: 1826512 | BA11: 1826512 | BB11: 1826512 | BC11: 1826512 | BD11: 1826512 | BE11: 1826512 | BF11: 1826512 | BG11: 1826512 | BH11: 1826512 | BI11: 1826512 | BJ11: 1826512 | BK11: 1826512 | BL11: 1826512 | BM11: 1826512 | BN11: 1826512 | BO11: 1826512 | BP11: 1826512 | BQ11: 1826512 | BR11: 1826512 | BS11: 1826512 | BT11: 1826512 | BU11: 1826512 | BV11: 1826512 | BW11: 1826512 | BX11: 1826512 | BY11: 1826512 | BZ11: 1826512 | CA11: 1826512 | CB11: 1826512 | CC11: 1826512 | CD11: 1826512 | CE11: 1826512 | CF11: 1826512
A12: 7 | B12: 5605971 | D12: 167867 | E12: 305907 | F12: 442184 | G12: 608441 | H12: 809614 | I12: 996252 | J12: 1165909 | K12: 1304516 | L12: 1420711 | M12: 1548991 | N12: 1637400 | O12: 1738195 | P12: 1797154 | Q12: 1839610 | R12: 1839610 | S12: 1839610 | T12: 1839610 | U12: 1839610 | V12: 1839610 | W12: 1839610 | X12: 1839610 | Y12: 1839610 | Z12: 1839610 | AA12: 1839610 | AB12: 1839610 | AC12: 1839610 | AD12: 1839610 | AE12: 1839610 | AF12: 1839610 | AG12: 1839610 | AH12: 1839610 | AI12: 1839610 | AJ12: 1839610 | AK12: 1839610 | AL12: 1839610 | AM12: 1839610 | AN12: 1839610 | AO12: 1839610 | AP12: 1839610 | AQ12: 1839610 | AR12: 1839610 | AS12: 1839610 | AT12: 1839610 | AU12: 1839610 | AV12: 1839610 | AW12: 1839610 | AX12: 1839610 | AY12: 1839610 | AZ12: 1839610 | BA12: 1839610 | BB12: 1839610 | BC12: 1839610 | BD12: 1839610 | BE12: 1839610 | BF12: 1839610 | BG12: 1839610 | BH12: 1839610 | BI12: 1839610 | BJ12: 1839610 | BK12: 1839610 | BL12: 1839610 | BM12: 1839610 | BN12: 1839610 | BO12: 1839610 | BP12: 1839610 | BQ12: 1839610 | BR12: 1839610 | BS12: 1839610 | BT12: 1839610 | BU12: 1839610 | BV12: 1839610 | BW12: 1839610 | BX12: 1839610 | BY12: 1839610 | BZ12: 1839610 | CA12: 1839610 | CB12: 1839610 | CC12: 1839610 | CD12: 1839610 | CE12: 1839610 | CF12: 1839610
A13: 8 | B13: 5621238 | D13: 168067 | E13: 306397 | F13: 443057 | G13: 609782 | H13: 811518 | I13: 998937 | J13: 1169576 | K13: 1309313 | L13: 1426784 | M13: 1556475 | N13: 1646462 | O13: 1749057 | P13: 1809070 | Q13: 1852706 | R13: 1852706 | S13: 1852706 | T13: 1852706 | U13: 1852706 | V13: 1852706 | W13: 1852706 | X13: 1852706 | Y13: 1852706 | Z13: 1852706 | AA13: 1852706 | AB13: 1852706 | AC13: 1852706 | AD13: 1852706 | AE13: 1852706 | AF13: 1852706 | AG13: 1852706 | AH13: 1852706 | AI13: 1852706 | AJ13: 1852706 | AK13: 1852706 | AL13: 1852706 | AM13: 1852706 | AN13: 1852706 | AO13: 1852706 | AP13: 1852706 | AQ13: 1852706 | AR13: 1852706 | AS13: 1852706 | AT13: 1852706 | AU13: 1852706 | AV13: 1852706 | AW13: 1852706 | AX13: 1852706 | AY13: 1852706 | AZ13: 1852706 | BA13: 1852706 | BB13: 1852706 | BC13: 1852706 | BD13: 1852706 | BE13: 1852706 | BF13: 1852706 | BG13: 1852706 | BH13: 1852706 | BI13: 1852706 | BJ13: 1852706 | BK13: 1852706 | BL13: 1852706 | BM13: 1852706 | BN13: 1852706 | BO13: 1852706 | BP13: 1852706 | BQ13: 1852706 | BR13: 1852706 | BS13: 1852706 | BT13: 1852706 | BU13: 1852706 | BV13: 1852706 | BW13: 1852706 | BX13: 1852706 | BY13: 1852706 | BZ13: 1852706 | CA13: 1852706 | CB13: 1852706 | CC13: 1852706 | CD13: 1852706 | CE13: 1852706 | CF13: 1852706
A14: 9 | B14: 5636503 | D14: 168267 | E14: 306887 | F14: 443929 | G14: 611122 | H14: 813423 | I14: 1001621 | J14: 1173243 | K14: 1314111 | L14: 1432858 | M14: 1563954 | N14: 1655531 | O14: 1759919 | P14: 1820986 | Q14: 1865797 | R14: 1865797 | S14: 1865797 | T14: 1865797 | U14: 1865797 | V14: 1865797 | W14: 1865797 | X14: 1865797 | Y14: 1865797 | Z14: 1865797 | AA14: 1865797 | AB14: 1865797 | AC14: 1865797 | AD14: 1865797 | AE14: 1865797 | AF14: 1865797 | AG14: 1865797 | AH14: 1865797 | AI14: 1865797 | AJ14: 1865797 | AK14: 1865797 | AL14: 1865797 | AM14: 1865797 | AN14: 1865797 | AO14: 1865797 | AP14: 1865797 | AQ14: 1865797 | AR14: 1865797 | AS14: 1865797 | AT14: 1865797 | AU14: 1865797 | AV14: 1865797 | AW14: 1865797 | AX14: 1865797 | AY14: 1865797 | AZ14: 1865797 | BA14: 1865797 | BB14: 1865797 | BC14: 1865797 | BD14: 1865797 | BE14: 1865797 | BF14: 1865797 | BG14: 1865797 | BH14: 1865797 | BI14: 1865797 | BJ14: 1865797 | BK14: 1865797 | BL14: 1865797 | BM14: 1865797 | BN14: 1865797 | BO14: 1865797 | BP14: 1865797 | BQ14: 1865797 | BR14: 1865797 | BS14: 1865797 | BT14: 1865797 | BU14: 1865797 | BV14: 1865797 | BW14: 1865797 | BX14: 1865797 | BY14: 1865797 | BZ14: 1865797 | CA14: 1865797 | CB14: 1865797 | CC14: 1865797 | CD14: 1865797 | CE14: 1865797 | CF14: 1865797
A15: 10 | B15: 5654824 | D15: 168467 | E15: 307377 | F15: 444802 | G15: 612461 | H15: 815328 | I15: 1004306 | J15: 1176912 | K15: 1318909 | L15: 1438932 | M15: 1571439 | N15: 1664592 | O15: 1770782 | P15: 1832902 | Q15: 1878894 | R15: 1878894 | S15: 1878894 | T15: 1878894 | U15: 1878894 | V15: 1878894 | W15: 1878894 | X15: 1878894 | Y15: 1878894 | Z15: 1878894 | AA15: 1878894 | AB15: 1878894 | AC15: 1878894 | AD15: 1878894 | AE15: 1878894 | AF15: 1878894 | AG15: 1878894 | AH15: 1878894 | AI15: 1878894 | AJ15: 1878894 | AK15: 1878894 | AL15: 1878894 | AM15: 1878894 | AN15: 1878894 | AO15: 1878894 | AP15: 1878894 | AQ15: 1878894 | AR15: 1878894 | AS15: 1878894 | AT15: 1878894 | AU15: 1878894 | AV15: 1878894 | AW15: 1878894 | AX15: 1878894 | AY15: 1878894 | AZ15: 1878894 | BA15: 1878894 | BB15: 1878894 | BC15: 1878894 | BD15: 1878894 | BE15: 1878894 | BF15: 1878894 | BG15: 1878894 | BH15: 1878894 | BI15: 1878894 | BJ15: 1878894 | BK15: 1878894 | BL15: 1878894 | BM15: 1878894 | BN15: 1878894 | BO15: 1878894 | BP15: 1878894 | BQ15: 1878894 | BR15: 1878894 | BS15: 1878894 | BT15: 1878894 | BU15: 1878894 | BV15: 1878894 | BW15: 1878894 | BX15: 1878894 | BY15: 1878894 | BZ15: 1878894 | CA15: 1878894 | CB15: 1878894 | CC15: 1878894 | CD15: 1878894 | CE15: 1878894 | CF15: 1878894
A16: 11 | B16: 5673143 | D16: 168667 | E16: 307867 | F16: 445675 | G16: 613801 | H16: 817233 | I16: 1006992 | J16: 1180579 | K16: 1323705 | L16: 1445006 | M16: 1578924 | N16: 1673654 | O16: 1781644 | P16: 1844818 | Q16: 1891991 | R16: 1891991 | S16: 1891991 | T16: 1891991 | U16: 1891991 | V16: 1891991 | W16: 1891991 | X16: 1891991 | Y16: 1891991 | Z16: 1891991 | AA16: 1891991 | AB16: 1891991 | AC16: 1891991 | AD16: 1891991 | AE16: 1891991 | AF16: 1891991 | AG16: 1891991 | AH16: 1891991 | AI16: 1891991 | AJ16: 1891991 | AK16: 1891991 | AL16: 1891991 | AM16: 1891991 | AN16: 1891991 | AO16: 1891991 | AP16: 1891991 | AQ16: 1891991 | AR16: 1891991 | AS16: 1891991 | AT16: 1891991 | AU16: 1891991 | AV16: 1891991 | AW16: 1891991 | AX16: 1891991 | AY16: 1891991 | AZ16: 1891991 | BA16: 1891991 | BB16: 1891991 | BC16: 1891991 | BD16: 1891991 | BE16: 1891991 | BF16: 1891991 | BG16: 1891991 | BH16: 1891991 | BI16: 1891991 | BJ16: 1891991 | BK16: 1891991 | BL16: 1891991 | BM16: 1891991 | BN16: 1891991 | BO16: 1891991 | BP16: 1891991 | BQ16: 1891991 | BR16: 1891991 | BS16: 1891991 | BT16: 1891991 | BU16: 1891991 | BV16: 1891991 | BW16: 1891991 | BX16: 1891991 | BY16: 1891991 | BZ16: 1891991 | CA16: 1891991 | CB16: 1891991 | CC16: 1891991 | CD16: 1891991 | CE16: 1891991 | CF16: 1891991
A17: 12 | B17: 5691464 | D17: 169067 | E17: 308847 | F17: 447421 | G17: 616480 | H17: 821042 | I17: 1012361 | J17: 1187912 | K17: 1333300 | L17: 1457156 | M17: 1593894 | N17: 1691777 | O17: 1803369 | P17: 1868648 | Q17: 1918177 | R17: 1918177 | S17: 1918177 | T17: 1918177 | U17: 1918177 | V17: 1918177 | W17: 1918177 | X17: 1918177 | Y17: 1918177 | Z17: 1918177 | AA17: 1918177 | AB17: 1918177 | AC17: 1918177 | AD17: 1918177 | AE17: 1918177 | AF17: 1918177 | AG17: 1918177 | AH17: 1918177 | AI17: 1918177 | AJ17: 1918177 | AK17: 1918177 | AL17: 1918177 | AM17: 1918177 | AN17: 1918177 | AO17: 1918177 | AP17: 1918177 | AQ17: 1918177 | AR17: 1918177 | AS17: 1918177 | AT17: 1918177 | AU17: 1918177 | AV17: 1918177 | AW17: 1918177 | AX17: 1918177 | AY17: 1918177 | AZ17: 1918177 | BA17: 1918177 | BB17: 1918177 | BC17: 1918177 | BD17: 1918177 | BE17: 1918177 | BF17: 1918177 | BG17: 1918177 | BH17: 1918177 | BI17: 1918177 | BJ17: 1918177 | BK17: 1918177 | BL17: 1918177 | BM17: 1918177 | BN17: 1918177 | BO17: 1918177 | BP17: 1918177 | BQ17: 1918177 | BR17: 1918177 | BS17: 1918177 | BT17: 1918177 | BU17: 1918177 | BV17: 1918177 | BW17: 1918177 | BX17: 1918177 | BY17: 1918177 | BZ17: 1918177 | CA17: 1918177 | CB17: 1918177 | CC17: 1918177 | CD17: 1918177 | CE17: 1918177 | CF17: 1918177
... A25: 20 | B25: 5944891 | D25: 172267 | E25: 316687 | F25: 461385 | G25: 637917 | H25: 851521 | I25: 1055317 | J25: 1246589 | K25: 1410057 | L25: 1554342 | M25: 1713629 | N25: 1836776 | O25: 1977166 | P25: 2059294 | Q25: 2127689 | R25: 2127689 | S25: 2127689 | T25: 2127689 | U25: 2127689 | V25: 2127689 | W25: 2127689 | X25: 2127689 | Y25: 2127689 | Z25: 2127689 | AA25: 2127689 | AB25: 2127689 | AC25: 2127689 | AD25: 2127689 | AE25: 2127689 | AF25: 2127689 | AG25: 2127689 | AH25: 2127689 | AI25: 2127689 | AJ25: 2127689 | AK25: 2127689 | AL25: 2127689 | AM25: 2127689 | AN25: 2127689 | AO25: 2127689 | AP25: 2127689 | AQ25: 2127689 | AR25: 2127689 | AS25: 2127689 | AT25: 2127689 | AU25: 2127689 | AV25: 2127689 | AW25: 2127689 | AX25: 2127689 | AY25: 2127689 | AZ25: 2127689 | BA25: 2127689 | BB25: 2127689 | BC25: 2127689 | BD25: 2127689 | BE25: 2127689 | BF25: 2127689 | BG25: 2127689 | BH25: 2127689 | BI25: 2127689 | BJ25: 2127689 | BK25: 2127689 | BL25: 2127689 | BM25: 2127689 | BN25: 2127689 | BO25: 2127689 | BP25: 2127689 | BQ25: 2127689 | BR25: 2127689 | BS25: 2127689 | BT25: 2127689 | BU25: 2127689 | BV25: 2127689 | BW25: 2127689 | BX25: 2127689 | BY25: 2127689 | BZ25: 2127689 | CA25: 2127689 | CB25: 2127689 | CC25: 2127689 | CD25: 2127689 | CE25: 2127689 | CF25: 2127689

Sheet روزهای 1405
C1: روز هفته | D1: تاریخ | J1: شرح وضعیت نوبت کاری (شیفت کاری) | K1: درصد
A2: =B2&D3 -> فروردین2 | B2: فروردین | C2: شنبه | D2: 1 | J2: صبح و عصر | K2: 0.1
A3: =B3&D4 -> فروردین3 | B3: فروردین | C3: یک‌شنبه | D3: 2 | J3: صبح و شب | K3: 0.225
A4: =B4&D5 -> فروردین4 | B4: فروردین | C4: دوشنبه | D4: 3 | J4: عصر و شب | K4: 0.225
A5: =B5&D6 -> فروردین5 | B5: فروردین | C5: سه‌شنبه | D5: 4 | J5: صبح، عصر و شب | K5: 0.15
A6: =B6&D7 -> فروردین6 | B6: فروردین | C6: چهارشنبه | D6: 5 | J6: ندارد | K6: 0
A7: =B7&D8 -> فروردین7 | B7: فروردین | C7: پنج‌شنبه | D7: 6
A8: =B8&D9 -> فروردین8 | B8: فروردین | C8: جمعه | D8: 7
A9: =B9&D10 -> فروردین9 | B9: فروردین | C9: شنبه | D9: 8
A10: =B10&D11 -> فروردین10 | B10: فروردین | C10: یک‌شنبه | D10: 9
A11: =B11&D12 -> فروردین11 | B11: فروردین | C11: دوشنبه | D11: 10
A12: =B12&D13 -> فروردین12 | B12: فروردین | C12: سه‌شنبه | D12: 11
A13: =B13&D14 -> فروردین13 | B13: فروردین | C13: چهارشنبه | D13: 12
A14: =B14&D15 -> فروردین14 | B14: فروردین | C14: پنج‌شنبه | D14: 13
A15: =B15&D16 -> فروردین15 | B15: فروردین | C15: جمعه | D15: 14
A16: =B16&D17 -> فروردین16 | B16: فروردین | C16: شنبه | D16: 15
A17: =B17&D18 -> فروردین17 | B17: فروردین | C17: یک‌شنبه | D17: 16
A18: =B18&D19 -> فروردین18 | B18: فروردین | C18: دوشنبه | D18: 17
... A367: =B367&D368 -> اسفند | B367: اسفند | C367: یک‌شنبه | D367: 30
