Workbook

Sheet حق التدریس 1405
E1: حق التدریس دانشکده پرستاری خراسان شمالی
A2: ردیف | B2: کدملی | C2: نام و نام خانوادگی | D2: وضعیت استخدامی | E2: مرتبه | F2: پایه | G2: وضعیت تمام وفتی | H2: نیمسال تحصیلی | I2: ضریب ریالی هیات علمی 1404 | J2: ضریب ریالی هیات علمی 1405 | K2: حقوق مبنا | L2: فوق العاده مخصوص | M2: مبنای محاسبات | N2: تقسیم بر | O2: مبلغ هرساعت حق التدریس | P2: تعداد ساعت | Q2: مبلغ قابل پرداخت
A3: 1 | D3: هیات علمی | E3: استادیار | F3: 12 | G3: تمام وقت | H3: بهمن 1404 الی تیرماه 1405 | I3: 82520 | J3: 99024 | K3: =VLOOKUP(E3&F3,'محاسبات هیات علمی جدید 1405'!AF:AG,2,0)*IF(H3="مهر الی بهمن 1404",I3,J3) | L3: =_xlfn.IFNA(VLOOKUP($L$2&E3&G3,'محاسبات هیات علمی جدید 1405'!AF:AG,2,0)*K3,"اطلاعات ناقص") | M3: =IF(D3="هیات علمی",K3+L3,IF(D3="هیات علمی مدعو",(K3+L3)*0.9,IF(D3="غیرهیات علمی کارشناسی",(K3+L3)*0.7,IF(D3="غیرهیات علمی کارشناسی ارشد",(K3+L3)*0.8,IF(D3="غیرهیات علمی دکتری PHD تخصصی و بالاتر",(K3+L3)*0.9))))) | N3: 30 | O3: =_xlfn.IFNA(ROUNDDOWN(M3/N3,0),0) | P3: 10 | Q3: =P3*O3
A4: 2 | D4: هیات علمی | E4: استادیار | F4: 6 | G4: غیرتمام وقت | H4: بهمن 1404 الی تیرماه 1405 | I4: 82520 | J4: 99024 | K4: =VLOOKUP(E4&F4,'محاسبات هیات علمی جدید 1405'!AF:AG,2,0)*IF(H4="مهر الی بهمن 1404",I4,J4) | L4: =_xlfn.IFNA(VLOOKUP($L$2&E4&G4,'محاسبات هیات علمی جدید 1405'!AF:AG,2,0)*K4,"اطلاعات ناقص") | M4: =IF(D4="هیات علمی",K4+L4,IF(D4="هیات علمی مدعو",(K4+L4)*0.9,IF(D4="غیرهیات علمی کارشناسی",(K4+L4)*0.7,IF(D4="غیرهیات علمی کارشناسی ارشد",(K4+L4)*0.8,IF(D4="غیرهیات علمی دکتری PHD تخصصی و بالاتر",(K4+L4)*0.9))))) | N4: 30 | O4: =_xlfn.IFNA(ROUNDDOWN(M4/N4,0),0) | P4: 10 | Q4: =P4*O4
A5: 3 | D5: هیات علمی | E5: استادیار | F5: 6 | G5: تمام وقت | H5: مهر الی بهمن 1404 | I5: 82520 | J5: 99024 | K5: =VLOOKUP(E5&F5,'محاسبات هیات علمی جدید 1405'!AF:AG,2,0)*IF(H5="مهر الی بهمن 1404",I5,J5) | L5: =_xlfn.IFNA(VLOOKUP($L$2&E5&G5,'محاسبات هیات علمی جدید 1405'!AF:AG,2,0)*K5,"اطلاعات ناقص") | M5: =IF(D5="هیات علمی",K5+L5,IF(D5="هیات علمی مدعو",(K5+L5)*0.9,IF(D5="غیرهیات علمی کارشناسی",(K5+L5)*0.7,IF(D5="غیرهیات علمی کارشناسی ارشد",(K5+L5)*0.8,IF(D5="غیرهیات علمی دکتری PHD تخصصی و بالاتر",(K5+L5)*0.9))))) | N5: 30 | O5: =_xlfn.IFNA(ROUNDDOWN(M5/N5,0),0) | P5: 10 | Q5: =P5*O5
A6: 4 | D6: هیات علمی | E6: استادیار | F6: 6 | G6: تمام وقت | H6: بهمن 1404 الی تیرماه 1405 | I6: 82520 | J6: 99024 | K6: =VLOOKUP(E6&F6,'محاسبات هیات علمی جدید 1405'!AF:AG,2,0)*IF(H6="مهر الی بهمن 1404",I6,J6) | L6: =_xlfn.IFNA(VLOOKUP($L$2&E6&G6,'محاسبات هیات علمی جدید 1405'!AF:AG,2,0)*K6,"اطلاعات ناقص") | M6: =IF(D6="هیات علمی",K6+L6,IF(D6="هیات علمی مدعو",(K6+L6)*0.9,IF(D6="غیرهیات علمی کارشناسی",(K6+L6)*0.7,IF(D6="غیرهیات علمی کارشناسی ارشد",(K6+L6)*0.8,IF(D6="غیرهیات علمی دکتری PHD تخصصی و بالاتر",(K6+L6)*0.9))))) | N6: 30 | O6: =_xlfn.IFNA(ROUNDDOWN(M6/N6,0),0) | P6: 10 | Q6: =P6*O6
A7: 5 | D7: هیات علمی مدعو | E7: استادیار | F7: 1 | G7: غیرتمام وقت | H7: مهر الی بهمن 1404 | I7: 82520 | J7: 99024 | K7: =VLOOKUP(E7&F7,'محاسبات هیات علمی جدید 1405'!AF:AG,2,0)*IF(H7="مهر الی بهمن 1404",I7,J7) | L7: =_xlfn.IFNA(VLOOKUP($L$2&E7&G7,'محاسبات هیات علمی جدید 1405'!AF:AG,2,0)*K7,"اطلاعات ناقص") | M7: =IF(D7="هیات علمی",K7+L7,IF(D7="هیات علمی مدعو",(K7+L7)*0.9,IF(D7="غیرهیات علمی کارشناسی",(K7+L7)*0.7,IF(D7="غیرهیات علمی کارشناسی ارشد",(K7+L7)*0.8,IF(D7="غیرهیات علمی دکتری PHD تخصصی و بالاتر",(K7+L7)*0.9))))) | N7: 30 | O7: =_xlfn.IFNA(ROUNDDOWN(M7/N7,0),0) | P7: 10 | Q7: =P7*O7
A8: 6 | D8: غیرهیات علمی کارشناسی | E8: استادیار | F8: 1 | G8: غیرتمام وقت | H8: مهر الی بهمن 1404 | I8: 82520 | J8: 99024 | K8: =VLOOKUP(E8&F8,'محاسبات هیات علمی جدید 1405'!AF:AG,2,0)*IF(H8="مهر الی بهمن 1404",I8,J8) | L8: =_xlfn.IFNA(VLOOKUP($L$2&E8&G8,'محاسبات هیات علمی جدید 1405'!AF:AG,2,0)*K8,"اطلاعات ناقص") | M8: =IF(D8="هیات علمی",K8+L8,IF(D8="هیات علمی مدعو",(K8+L8)*0.9,IF(D8="غیرهیات علمی کارشناسی",(K8+L8)*0.7,IF(D8="غیرهیات علمی کارشناسی ارشد",(K8+L8)*0.8,IF(D8="غیرهیات علمی دکتری PHD تخصصی و بالاتر",(K8+L8)*0.9))))) | N8: 30 | O8: =_xlfn.IFNA(ROUNDDOWN(M8/N8,0),0) | P8: 10 | Q8: =P8*O8
A9: 7 | D9: غیرهیات علمی کارشناسی ارشد | E9: استادیار | F9: 1 | G9: غیرتمام وقت | H9: مهر الی بهمن 1404 | I9: 82520 | J9: 99024 | K9: =VLOOKUP(E9&F9,'محاسبات هیات علمی جدید 1405'!AF:AG,2,0)*IF(H9="مهر الی بهمن 1404",I9,J9) | L9: =_xlfn.IFNA(VLOOKUP($L$2&E9&G9,'محاسبات هیات علمی جدید 1405'!AF:AG,2,0)*K9,"اطلاعات ناقص") | M9: =IF(D9="هیات علمی",K9+L9,IF(D9="هیات علمی مدعو",(K9+L9)*0.9,IF(D9="غیرهیات علمی کارشناسی",(K9+L9)*0.7,IF(D9="غیرهیات علمی کارشناسی ارشد",(K9+L9)*0.8,IF(D9="غیرهیات علمی دکتری PHD تخصصی و بالاتر",(K9+L9)*0.9))))) | N9: 30 | O9: =_xlfn.IFNA(ROUNDDOWN(M9/N9,0),0) | P9: 10 | Q9: =P9*O9
A10: 8 | D10: غیرهیات علمی دکتری PHD تخصصی و بالاتر | E10: استادیار | F10: 1 | G10: غیرتمام وقت | H10: مهر الی بهمن 1404 | I10: 82520 | J10: 99024 | K10: =VLOOKUP(E10&F10,'محاسبات هیات علمی جدید 1405'!AF:AG,2,0)*IF(H10="مهر الی بهمن 1404",I10,J10) | L10: =_xlfn.IFNA(VLOOKUP($L$2&E10&G10,'محاسبات هیات علمی جدید 1405'!AF:AG,2,0)*K10,"اطلاعات ناقص") | M10: =IF(D10="هیات علمی",K10+L10,IF(D10="هیات علمی مدعو",(K10+L10)*0.9,IF(D10="غیرهیات علمی کارشناسی",(K10+L10)*0.7,IF(D10="غیرهیات علمی کارشناسی ارشد",(K10+L10)*0.8,IF(D10="غیرهیات علمی دکتری PHD تخصصی و بالاتر",(K10+L10)*0.9))))) | N10: 30 | O10: =_xlfn.IFNA(ROUNDDOWN(M10/N10,0),0) | P10: 10 | Q10: =P10*O10
A11: 9 | D11: هیات علمی مدعو | E11: استادیار | F11: 1 | G11: غیرتمام وقت | H11: بهمن 1404 الی تیرماه 1405 | I11: 82520 | J11: 99024 | K11: =VLOOKUP(E11&F11,'محاسبات هیات علمی جدید 1405'!AF:AG,2,0)*IF(H11="مهر الی بهمن 1404",I11,J11) | L11: =_xlfn.IFNA(VLOOKUP($L$2&E11&G11,'محاسبات هیات علمی جدید 1405'!AF:AG,2,0)*K11,"اطلاعات ناقص") | M11: =IF(D11="هیات علمی",K11+L11,IF(D11="هیات علمی مدعو",(K11+L11)*0.9,IF(D11="غیرهیات علمی کارشناسی",(K11+L11)*0.7,IF(D11="غیرهیات علمی کارشناسی ارشد",(K11+L11)*0.8,IF(D11="غیرهیات علمی دکتری PHD تخصصی و بالاتر",(K11+L11)*0.9))))) | N11: 30 | O11: =_xlfn.IFNA(ROUNDDOWN(M11/N11,0),0) | Q11: =P11*O11
A12: 10 | D12: هیات علمی مدعو | E12: استادیار | F12: 1 | G12: غیرتمام وقت | H12: بهمن 1404 الی تیرماه 1405 | I12: 82520 | J12: 99024 | K12: =VLOOKUP(E12&F12,'محاسبات هیات علمی جدید 1405'!AF:AG,2,0)*IF(H12="مهر الی بهمن 1404",I12,J12) | L12: =_xlfn.IFNA(VLOOKUP($L$2&E12&G12,'محاسبات هیات علمی جدید 1405'!AF:AG,2,0)*K12,"اطلاعات ناقص") | M12: =IF(D12="هیات علمی",K12+L12,IF(D12="هیات علمی مدعو",(K12+L12)*0.9,IF(D12="غیرهیات علمی کارشناسی",(K12+L12)*0.7,IF(D12="غیرهیات علمی کارشناسی ارشد",(K12+L12)*0.8,IF(D12="غیرهیات علمی دکتری PHD تخصصی و بالاتر",(K12+L12)*0.9))))) | N12: 30 | O12: =_xlfn.IFNA(ROUNDDOWN(M12/N12,0),0) | Q12: =P12*O12
A13: 11 | D13: غیرهیات علمی کارشناسی | E13: استادیار | F13: 1 | G13: غیرتمام وقت | H13: بهمن 1404 الی تیرماه 1405 | I13: 82520 | J13: 99024 | K13: =VLOOKUP(E13&F13,'محاسبات هیات علمی جدید 1405'!AF:AG,2,0)*IF(H13="مهر الی بهمن 1404",I13,J13) | L13: =_xlfn.IFNA(VLOOKUP($L$2&E13&G13,'محاسبات هیات علمی جدید 1405'!AF:AG,2,0)*K13,"اطلاعات ناقص") | M13: =IF(D13="هیات علمی",K13+L13,IF(D13="هیات علمی مدعو",(K13+L13)*0.9,IF(D13="غیرهیات علمی کارشناسی",(K13+L13)*0.7,IF(D13="غیرهیات علمی کارشناسی ارشد",(K13+L13)*0.8,IF(D13="غیرهیات علمی دکتری PHD تخصصی و بالاتر",(K13+L13)*0.9))))) | N13: 30 | O13: =_xlfn.IFNA(ROUNDDOWN(M13/N13,0),0) | Q13: =P13*O13
A14: 12 | D14: غیرهیات علمی کارشناسی ارشد | E14: استادیار | F14: 1 | G14: غیرتمام وقت | H14: بهمن 1404 الی تیرماه 1405 | I14: 82520 | J14: 99024 | K14: =VLOOKUP(E14&F14,'محاسبات هیات علمی جدید 1405'!AF:AG,2,0)*IF(H14="مهر الی بهمن 1404",I14,J14) | L14: =_xlfn.IFNA(VLOOKUP($L$2&E14&G14,'محاسبات هیات علمی جدید 1405'!AF:AG,2,0)*K14,"اطلاعات ناقص") | M14: =IF(D14="هیات علمی",K14+L14,IF(D14="هیات علمی مدعو",(K14+L14)*0.9,IF(D14="غیرهیات علمی کارشناسی",(K14+L14)*0.7,IF(D14="غیرهیات علمی کارشناسی ارشد",(K14+L14)*0.8,IF(D14="غیرهیات علمی دکتری PHD تخصصی و بالاتر",(K14+L14)*0.9))))) | N14: 30 | O14: =_xlfn.IFNA(ROUNDDOWN(M14/N14,0),0) | Q14: =P14*O14
A15: 13 | D15: غیرهیات علمی دکتری PHD تخصصی و بالاتر | E15: استادیار | F15: 1 | G15: غیرتمام وقت | H15: بهمن 1404 الی تیرماه 1405 | I15: 82520 | J15: 99024 | K15: =VLOOKUP(E15&F15,'محاسبات هیات علمی جدید 1405'!AF:AG,2,0)*IF(H15="مهر الی بهمن 1404",I15,J15) | L15: =_xlfn.IFNA(VLOOKUP($L$2&E15&G15,'محاسبات هیات علمی جدید 1405'!AF:AG,2,0)*K15,"اطلاعات ناقص") | M15: =IF(D15="هیات علمی",K15+L15,IF(D15="هیات علمی مدعو",(K15+L15)*0.9,IF(D15="غیرهیات علمی کارشناسی",(K15+L15)*0.7,IF(D15="غیرهیات علمی کارشناسی ارشد",(K15+L15)*0.8,IF(D15="غیرهیات علمی دکتری PHD تخصصی و بالاتر",(K15+L15)*0.9))))) | N15: 30 | O15: =_xlfn.IFNA(ROUNDDOWN(M15/N15,0),0) | Q15: =P15*O15
A16: 14 | D16: هیات علمی | E16: استادیار | F16: 42 | G16: تمام وقت | H16: مهر الی بهمن 1404 | I16: 82520 | J16: 99024 | K16: =VLOOKUP(E16&F16,'محاسبات هیات علمی جدید 1405'!AF:AG,2,0)*IF(H16="مهر الی بهمن 1404",I16,J16) | L16: =_xlfn.IFNA(VLOOKUP($L$2&E16&G16,'محاسبات هیات علمی جدید 1405'!AF:AG,2,0)*K16,"اطلاعات ناقص") | M16: =IF(D16="هیات علمی",K16+L16,IF(D16="هیات علمی مدعو",(K16+L16)*0.9,IF(D16="غیرهیات علمی کارشناسی",(K16+L16)*0.7,IF(D16="غیرهیات علمی کارشناسی ارشد",(K16+L16)*0.8,IF(D16="غیرهیات علمی دکتری PHD تخصصی و بالاتر",(K16+L16)*0.9))))) | N16: 30 | O16: =_xlfn.IFNA(ROUNDDOWN(M16/N16,0),0) | Q16: =P16*O16
A17: 15 | I17: 82520 | J17: 99024 | K17: =VLOOKUP(E17&F17,'محاسبات هیات علمی جدید 1405'!AF:AG,2,0)*IF(H17="مهر الی بهمن 1404",I17,J17) | L17: =_xlfn.IFNA(VLOOKUP($L$2&E17&G17,'محاسبات هیات علمی جدید 1405'!AF:AG,2,0)*K17,"اطلاعات ناقص") | M17: =IF(D17="هیات علمی",K17+L17,IF(D17="هیات علمی مدعو",(K17+L17)*0.9,IF(D17="غیرهیات علمی کارشناسی",(K17+L17)*0.7,IF(D17="غیرهیات علمی کارشناسی ارشد",(K17+L17)*0.8,IF(D17="غیرهیات علمی دکتری PHD تخصصی و بالاتر",(K17+L17)*0.9))))) | N17: 30 | O17: =_xlfn.IFNA(ROUNDDOWN(M17/N17,0),0) | Q17: =P17*O17
A18: 16 | I18: 82520 | J18: 99024 | K18: =VLOOKUP(E18&F18,'محاسبات هیات علمی جدید 1405'!AF:AG,2,0)*IF(H18="مهر الی بهمن 1404",I18,J18) | L18: =_xlfn.IFNA(VLOOKUP($L$2&E18&G18,'محاسبات هیات علمی جدید 1405'!AF:AG,2,0)*K18,"اطلاعات ناقص") | M18: =IF(D18="هیات علمی",K18+L18,IF(D18="هیات علمی مدعو",(K18+L18)*0.9,IF(D18="غیرهیات علمی کارشناسی",(K18+L18)*0.7,IF(D18="غیرهیات علمی کارشناسی ارشد",(K18+L18)*0.8,IF(D18="غیرهیات علمی دکتری PHD تخصصی و بالاتر",(K18+L18)*0.9))))) | N18: 30 | O18: =_xlfn.IFNA(ROUNDDOWN(M18/N18,0),0) | Q18: =P18*O18
A19: 17 | I19: 82520 | J19: 99024 | K19: =VLOOKUP(E19&F19,'محاسبات هیات علمی جدید 1405'!AF:AG,2,0)*IF(H19="مهر الی بهمن 1404",I19,J19) | L19: =_xlfn.IFNA(VLOOKUP($L$2&E19&G19,'محاسبات هیات علمی جدید 1405'!AF:AG,2,0)*K19,"اطلاعات ناقص") | M19: =IF(D19="هیات علمی",K19+L19,IF(D19="هیات علمی مدعو",(K19+L19)*0.9,IF(D19="غیرهیات علمی کارشناسی",(K19+L19)*0.7,IF(D19="غیرهیات علمی کارشناسی ارشد",(K19+L19)*0.8,IF(D19="غیرهیات علمی دکتری PHD تخصصی و بالاتر",(K19+L19)*0.9))))) | N19: 30 | O19: =_xlfn.IFNA(ROUNDDOWN(M19/N19,0),0) | Q19: =P19*O19
A20: 18 | I20: 82520 | J20: 99024 | K20: =VLOOKUP(E20&F20,'محاسبات هیات علمی جدید 1405'!AF:AG,2,0)*IF(H20="مهر الی بهمن 1404",I20,J20) | L20: =_xlfn.IFNA(VLOOKUP($L$2&E20&G20,'محاسبات هیات علمی جدید 1405'!AF:AG,2,0)*K20,"اطلاعات ناقص") | M20: =IF(D20="هیات علمی",K20+L20,IF(D20="هیات علمی مدعو",(K20+L20)*0.9,IF(D20="غیرهیات علمی کارشناسی",(K20+L20)*0.7,IF(D20="غیرهیات علمی کارشناسی ارشد",(K20+L20)*0.8,IF(D20="غیرهیات علمی دکتری PHD تخصصی و بالاتر",(K20+L20)*0.9))))) | N20: 30 | O20: =_xlfn.IFNA(ROUNDDOWN(M20/N20,0),0) | Q20: =P20*O20
A21: 19 | I21: 82520 | J21: 99024 | K21: =VLOOKUP(E21&F21,'محاسبات هیات علمی جدید 1405'!AF:AG,2,0)*IF(H21="مهر الی بهمن 1404",I21,J21) | L21: =_xlfn.IFNA(VLOOKUP($L$2&E21&G21,'محاسبات هیات علمی جدید 1405'!AF:AG,2,0)*K21,"اطلاعات ناقص") | M21: =IF(D21="هیات علمی",K21+L21,IF(D21="هیات علمی مدعو",(K21+L21)*0.9,IF(D21="غیرهیات علمی کارشناسی",(K21+L21)*0.7,IF(D21="غیرهیات علمی کارشناسی ارشد",(K21+L21)*0.8,IF(D21="غیرهیات علمی دکتری PHD تخصصی و بالاتر",(K21+L21)*0.9))))) | N21: 30 | O21: =_xlfn.IFNA(ROUNDDOWN(M21/N21,0),0) | Q21: =P21*O21
A22: 20 | I22: 82520 | J22: 99024 | K22: =VLOOKUP(E22&F22,'محاسبات هیات علمی جدید 1405'!AF:AG,2,0)*IF(H22="مهر الی بهمن 1404",I22,J22) | L22: =_xlfn.IFNA(VLOOKUP($L$2&E22&G22,'محاسبات هیات علمی جدید 1405'!AF:AG,2,0)*K22,"اطلاعات ناقص") | M22: =IF(D22="هیات علمی",K22+L22,IF(D22="هیات علمی مدعو",(K22+L22)*0.9,IF(D22="غیرهیات علمی کارشناسی",(K22+L22)*0.7,IF(D22="غیرهیات علمی کارشناسی ارشد",(K22+L22)*0.8,IF(D22="غیرهیات علمی دکتری PHD تخصصی و بالاتر",(K22+L22)*0.9))))) | N22: 30 | O22: =_xlfn.IFNA(ROUNDDOWN(M22/N22,0),0) | Q22: =P22*O22
A23: 21 | I23: 82520 | J23: 99024 | K23: =VLOOKUP(E23&F23,'محاسبات هیات علمی جدید 1405'!AF:AG,2,0)*IF(H23="مهر الی بهمن 1404",I23,J23) | L23: =_xlfn.IFNA(VLOOKUP($L$2&E23&G23,'محاسبات هیات علمی جدید 1405'!AF:AG,2,0)*K23,"اطلاعات ناقص") | M23: =IF(D23="هیات علمی",K23+L23,IF(D23="هیات علمی مدعو",(K23+L23)*0.9,IF(D23="غیرهیات علمی کارشناسی",(K23+L23)*0.7,IF(D23="غیرهیات علمی کارشناسی ارشد",(K23+L23)*0.8,IF(D23="غیرهیات علمی دکتری PHD تخصصی و بالاتر",(K23+L23)*0.9))))) | N23: 30 | O23: =_xlfn.IFNA(ROUNDDOWN(M23/N23,0),0) | Q23: =P23*O23
A24: 22 | I24: 82520 | J24: 99024 | K24: =VLOOKUP(E24&F24,'محاسبات هیات علمی جدید 1405'!AF:AG,2,0)*IF(H24="مهر الی بهمن 1404",I24,J24) | L24: =_xlfn.IFNA(VLOOKUP($L$2&E24&G24,'محاسبات هیات علمی جدید 1405'!AF:AG,2,0)*K24,"اطلاعات ناقص") | M24: =IF(D24="هیات علمی",K24+L24,IF(D24="هیات علمی مدعو",(K24+L24)*0.9,IF(D24="غیرهیات علمی کارشناسی",(K24+L24)*0.7,IF(D24="غیرهیات علمی کارشناسی ارشد",(K24+L24)*0.8,IF(D24="غیرهیات علمی دکتری PHD تخصصی و بالاتر",(K24+L24)*0.9))))) | N24: 30 | O24: =_xlfn.IFNA(ROUNDDOWN(M24/N24,0),0) | Q24: =P24*O24
A25: 23 | I25: 82520 | J25: 99024 | K25: =VLOOKUP(E25&F25,'محاسبات هیات علمی جدید 1405'!AF:AG,2,0)*IF(H25="مهر الی بهمن 1404",I25,J25) | L25: =_xlfn.IFNA(VLOOKUP($L$2&E25&G25,'محاسبات هیات علمی جدید 1405'!AF:AG,2,0)*K25,"اطلاعات ناقص") | M25: =IF(D25="هیات علمی",K25+L25,IF(D25="هیات علمی مدعو",(K25+L25)*0.9,IF(D25="غیرهیات علمی کارشناسی",(K25+L25)*0.7,IF(D25="غیرهیات علمی کارشناسی ارشد",(K25+L25)*0.8,IF(D25="غیرهیات علمی دکتری PHD تخصصی و بالاتر",(K25+L25)*0.9))))) | N25: 30 | O25: =_xlfn.IFNA(ROUNDDOWN(M25/N25,0),0) | Q25: =P25*O25
A26: 24 | I26: 82520 | J26: 99024 | K26: =VLOOKUP(E26&F26,'محاسبات هیات علمی جدید 1405'!AF:AG,2,0)*IF(H26="مهر الی بهمن 1404",I26,J26) | L26: =_xlfn.IFNA(VLOOKUP($L$2&E26&G26,'محاسبات هیات علمی جدید 1405'!AF:AG,2,0)*K26,"اطلاعات ناقص") | M26: =IF(D26="هیات علمی",K26+L26,IF(D26="هیات علمی مدعو",(K26+L26)*0.9,IF(D26="غیرهیات علمی کارشناسی",(K26+L26)*0.7,IF(D26="غیرهیات علمی کارشناسی ارشد",(K26+L26)*0.8,IF(D26="غیرهیات علمی دکتری PHD تخصصی و بالاتر",(K26+L26)*0.9))))) | N26: 30 | O26: =_xlfn.IFNA(ROUNDDOWN(M26/N26,0),0) | Q26: =P26*O26
A27: 25 | I27: 82520 | J27: 99024 | K27: =VLOOKUP(E27&F27,'محاسبات هیات علمی جدید 1405'!AF:AG,2,0)*IF(H27="مهر الی بهمن 1404",I27,J27) | L27: =_xlfn.IFNA(VLOOKUP($L$2&E27&G27,'محاسبات هیات علمی جدید 1405'!AF:AG,2,0)*K27,"اطلاعات ناقص") | M27: =IF(D27="هیات علمی",K27+L27,IF(D27="هیات علمی مدعو",(K27+L27)*0.9,IF(D27="غیرهیات علمی کارشناسی",(K27+L27)*0.7,IF(D27="غیرهیات علمی کارشناسی ارشد",(K27+L27)*0.8,IF(D27="غیرهیات علمی دکتری PHD تخصصی و بالاتر",(K27+L27)*0.9))))) | N27: 30 | O27: =_xlfn.IFNA(ROUNDDOWN(M27/N27,0),0) | Q27: =P27*O27
A28: 26 | I28: 82520 | J28: 99024 | K28: =VLOOKUP(E28&F28,'محاسبات هیات علمی جدید 1405'!AF:AG,2,0)*IF(H28="مهر الی بهمن 1404",I28,J28) | L28: =_xlfn.IFNA(VLOOKUP($L$2&E28&G28,'محاسبات هیات علمی جدید 1405'!AF:AG,2,0)*K28,"اطلاعات ناقص") | M28: =IF(D28="هیات علمی",K28+L28,IF(D28="هیات علمی مدعو",(K28+L28)*0.9,IF(D28="غیرهیات علمی کارشناسی",(K28+L28)*0.7,IF(D28="غیرهیات علمی کارشناسی ارشد",(K28+L28)*0.8,IF(D28="غیرهیات علمی دکتری PHD تخصصی و بالاتر",(K28+L28)*0.9))))) | N28: 30 | O28: =_xlfn.IFNA(ROUNDDOWN(M28/N28,0),0) | Q28: =P28*O28
... A66: 64 | I66: 82520 | J66: 99024 | K66: =VLOOKUP(E66&F66,'محاسبات هیات علمی جدید 1405'!AF:AG,2,0)*IF(H66="مهر الی بهمن 1404",I66,J66) | L66: =_xlfn.IFNA(VLOOKUP($L$2&E66&G66,'محاسبات هیات علمی جدید 1405'!AF:AG,2,0)*K66,"اطلاعات ناقص") | M66: =IF(D66="هیات علمی",K66+L66,IF(D66="هیات علمی مدعو",(K66+L66)*0.9,IF(D66="غیرهیات علمی کارشناسی",(K66+L66)*0.7,IF(D66="غیرهیات علمی کارشناسی ارشد",(K66+L66)*0.8,IF(D66="غیرهیات علمی دکتری PHD تخصصی و بالاتر",(K66+L66)*0.9))))) | N66: 30 | O66: =_xlfn.IFNA(ROUNDDOWN(M66/N66,0),0) | Q66: =P66*O66

Sheet محاسبات هیات علمی 1404
I1: ضریب فوق العاده مخصوص | O1: فوق العاده جذب | T1: ضریب فوق العاده ویژه
A2: حقوق مبنا | B2: 12607100 | C2: 57305 | J2: غیرتمام وقتی | L2: تمام وقتی | P2: غیرتمام وقتی | R2: تمام وقتی | T2: استاد | U2: 1.09 | W2: حقوق مبنا
A3: فوق العاده مخصوص | B3: 52445536 | C3: 57305 | I3: استاد | J3: 2.98 | K3: 1.6 | L3: =K3*J3 | O3: استاد | P3: 5.42 | Q3: 1.6 | R3: =P3*Q3 | T3: دانشیار | U3: 14 | W3: پایه | X3: مربی آموزشگاه | Y3: مربی | Z3: استادیار | AA3: دانشیار | AB3: استاد | AE3: پایه | AG3: مربی آموزشگاه
A4: فوق العاده بدي آب و هوا | B4: 630355 | C4: 57305 | I4: دانشیار | J4: 2.87 | K4: 1.6 | L4: =K4*J4 | O4: دانشیار | P4: 5.13 | Q4: 1.6 | R4: =P4*Q4 | T4: استادیار | U4: 15.1 | W4: 1 | X4: 95 | Y4: 105 | Z4: 130 | AA4: 150 | AB4: 175 | AD4: مربی آموزشگاه | AE4: 1 | AF4: =AD4&AE4 | AG4: 95 | AJ4: تمام وقت
A5: كمك هزينه عائله مندي | B5: 9174720 | C5: 57305 | I5: استادیار | J5: 2.6 | K5: 1.6 | L5: =K5*J5 | O5: استادیار | P5: 5 | Q5: 1.6 | R5: =P5*Q5 | T5: مربی | U5: 10.9 | W5: 2 | X5: =X4+5 | Y5: =Y4+5 | Z5: =Z4+5 | AA5: =AA4+5 | AB5: =AB4+5 | AD5: مربی آموزشگاه | AE5: 2 | AF5: =AD5&AE5 | AG5: 100 | AJ5: غیرتمام وقت
A6: كمك هزينه اولاد | B6: 4225200 | C6: 57305 | I6: مربی | J6: 2.1 | K6: 1.6 | L6: =K6*J6 | O6: مربی | P6: 4.86 | Q6: 1.6 | R6: =P6*Q6 | T6: مربی آموزشگاه | U6: 12.3 | W6: 3 | X6: =X5+5 | Y6: =Y5+5 | Z6: =Z5+5 | AA6: =AA5+5 | AB6: =AB5+5 | AD6: مربی آموزشگاه | AE6: 3 | AF6: =AD6&AE6 | AG6: 105
A7: فوق العاده جذب | B7: 100856800 | C7: 57305 | I7: مربی آموزشگاه | J7: 1.77 | K7: 1.6 | L7: =K7*J7 | O7: مربی آموزشگاه | P7: 4.76 | Q7: 1.6 | R7: =P7*Q7 | W7: 4 | X7: =X6+5 | Y7: =Y6+5 | Z7: =Z6+5 | AA7: =AA6+5 | AB7: =AB6+5 | AD7: مربی آموزشگاه | AE7: 4 | AF7: =AD7&AE7 | AG7: 110
A8: فوق العاده ويژه | B8: 190367210 | C8: 57305 | W8: 5 | X8: =X7+5 | Y8: =Y7+5 | Z8: =Z7+5 | AA8: =AA7+5 | AB8: =AB7+5 | AD8: مربی آموزشگاه | AE8: 5 | AF8: =AD8&AE8 | AG8: 115 | AJ8: تعلق میگیرد
A9: ترميم حقوق | B9: 12034050 | C9: 57305 | W9: 6 | X9: =X8+5 | Y9: =Y8+5 | Z9: =Z8+5 | AA9: =AA8+5 | AB9: =AB8+5 | AD9: مربی آموزشگاه | AE9: 6 | AF9: =AD9&AE9 | AG9: 120 | AJ9: تعلق نمیگیرد
B10: 122844188 | C10: 57305 | D10: 0.3448 | E10: =B10/D10 | W10: 7 | X10: =X9+5 | Y10: =Y9+5 | Z10: =Z9+5 | AA10: =AA9+5 | AB10: =AB9+5 | AD10: مربی آموزشگاه | AE10: 7 | AF10: =AD10&AE10 | AG10: 125
B11: =SUM(B2:B10) | C11: 57305 | T11: =U11*V11 | U11: =1/3 | V11: =Z9*AK29 | W11: 8 | X11: =X10+5 | Y11: =Y10+5 | Z11: =Z10+5 | AA11: =AA10+5 | AB11: =AB10+5 | AD11: مربی آموزشگاه | AE11: 8 | AF11: =AD11&AE11 | AG11: 130
T12: =U12*V12 | U12: =2/3 | V12: =Z9*AK30 | W12: 9 | X12: =X11+5 | Y12: =Y11+5 | Z12: =Z11+5 | AA12: =AA11+5 | AB12: =AB11+5 | AD12: مربی آموزشگاه | AE12: 9 | AF12: =AD12&AE12 | AG12: 135 | AJ12: مجرد
B13: 87465917 | W13: 10 | X13: =X12+5 | Y13: =Y12+5 | Z13: =Z12+5 | AA13: =AA12+5 | AB13: =AB12+5 | AD13: مربی آموزشگاه | AE13: 10 | AF13: =AD13&AE13 | AG13: 140 | AJ13: متاهل
B14: =B10/B13 | W14: 11 | X14: =X13+5 | Y14: =Y13+5 | Z14: =Z13+5 | AA14: =AA13+5 | AB14: =AB13+5 | AD14: مربی آموزشگاه | AE14: 11 | AF14: =AD14&AE14 | AG14: 145
W15: 12 | X15: =X14+5 | Y15: =Y14+5 | Z15: =Z14+5 | AA15: =AA14+5 | AB15: =AB14+5 | AD15: مربی آموزشگاه | AE15: 12 | AF15: =AD15&AE15 | AG15: 150
W16: 13 | X16: =X15+5 | Y16: =Y15+5 | Z16: =Z15+5 | AA16: =AA15+5 | AB16: =AB15+5 | AD16: مربی آموزشگاه | AE16: 13 | AF16: =AD16&AE16 | AG16: 155 | AJ16: دارد
W17: 14 | X17: =X16+5 | Y17: =Y16+5 | Z17: =Z16+5 | AA17: =AA16+5 | AB17: =AB16+5 | AD17: مربی آموزشگاه | AE17: 14 | AF17: =AD17&AE17 | AG17: 160 | AJ17: ندارد
W18: 15 | X18: =X17+5 | Y18: =Y17+5 | Z18: =Z17+5 | AA18: =AA17+5 | AB18: =AB17+5 | AD18: مربی آموزشگاه | AE18: 15 | AF18: =AD18&AE18 | AG18: 165
W19: 16 | X19: =X18+5 | Y19: =Y18+5 | Z19: =Z18+5 | AA19: =AA18+5 | AB19: =AB18+5 | AD19: مربی آموزشگاه | AE19: 16 | AF19: =AD19&AE19 | AG19: 170
W20: 17 | X20: =X19+5 | Y20: =Y19+5 | Z20: =Z19+5 | AA20: =AA19+5 | AB20: =AB19+5 | AD20: مربی آموزشگاه | AE20: 17 | AF20: =AD20&AE20 | AG20: 175
W21: 18 | X21: =X20+5 | Y21: =Y20+5 | Z21: =Z20+5 | AA21: =AA20+5 | AB21: =AB20+5 | AD21: مربی آموزشگاه | AE21: 18 | AF21: =AD21&AE21 | AG21: 180 | AJ21: هیات علمی | AK21: 1
W22: 19 | X22: =X21+5 | Y22: =Y21+5 | Z22: =Z21+5 | AA22: =AA21+5 | AB22: =AB21+5 | AD22: مربی آموزشگاه | AE22: 19 | AF22: =AD22&AE22 | AG22: 185 | AJ22: هیات علمی مدعو | AK22: 0.9
W23: 20 | X23: =X22+5 | Y23: =Y22+5 | Z23: =Z22+5 | AA23: =AA22+5 | AB23: =AB22+5 | AD23: مربی آموزشگاه | AE23: 20 | AF23: =AD23&AE23 | AG23: 190 | AJ23: غیرهیات علمی کارشناسی | AK23: 0.7
W24: 21 | X24: =X23+5 | Y24: =Y23+5 | Z24: =Z23+5 | AA24: =AA23+5 | AB24: =AB23+5 | AD24: مربی | AE24: 1 | AF24: =AD24&AE24 | AG24: 105 | AJ24: غیرهیات علمی کارشناسی ارشد | AK24: 0.8
W25: 22 | X25: =X24+5 | Y25: =Y24+5 | Z25: =Z24+5 | AA25: =AA24+5 | AB25: =AB24+5 | AD25: مربی | AE25: 2 | AF25: =AD25&AE25 | AG25: 110 | AJ25: غیرهیات علمی دکتری PHD تخصصی و بالاتر | AK25: 0.9
W26: 23 | X26: =X25+5 | Y26: =Y25+5 | Z26: =Z25+5 | AA26: =AA25+5 | AB26: =AB25+5 | AD26: مربی | AE26: 3 | AF26: =AD26&AE26 | AG26: 115
W27: 24 | X27: =X26+5 | Y27: =Y26+5 | Z27: =Z26+5 | AA27: =AA26+5 | AB27: =AB26+5 | AD27: مربی | AE27: 4 | AF27: =AD27&AE27 | AG27: 120
W28: 25 | X28: =X27+5 | Y28: =Y27+5 | Z28: =Z27+5 | AA28: =AA27+5 | AB28: =AB27+5 | AD28: مربی | AE28: 5 | AF28: =AD28&AE28 | AG28: 125 | AJ28: 1403 | AK28: 68766
W29: 26 | X29: =X28+5 | Y29: =Y28+5 | Z29: =Z28+5 | AA29: =AA28+5 | AB29: =AB28+5 | AD29: مربی | AE29: 6 | AF29: =AD29&AE29 | AG29: 130 | AJ29: 1404 | AK29: 82520
W30: 27 | X30: =X29+5 | Y30: =Y29+5 | Z30: =Z29+5 | AA30: =AA29+5 | AB30: =AB29+5 | AD30: مربی | AE30: 7 | AF30: =AD30&AE30 | AG30: 135 | AJ30: 1405 | AK30: 99024
W31: 28 | X31: =X30+5 | Y31: =Y30+5 | Z31: =Z30+5 | AA31: =AA30+5 | AB31: =AB30+5 | AD31: مربی | AE31: 8 | AF31: =AD31&AE31 | AG31: 140
W32: 29 | X32: =X31+5 | Y32: =Y31+5 | Z32: =Z31+5 | AA32: =AA31+5 | AB32: =AB31+5 | AD32: مربی | AE32: 9 | AF32: =AD32&AE32 | AG32: 145 | AJ32: مهر الی بهمن 1404
W33: 30 | X33: =X32+5 | Y33: =Y32+5 | Z33: =Z32+5 | AA33: =AA32+5 | AB33: =AB32+5 | AD33: مربی | AE33: 10 | AF33: =AD33&AE33 | AG33: 150 | AJ33: بهمن 1404 الی تیرماه 1405
W34: 31 | X34: =X33+5 | Y34: =Y33+5 | Z34: =Z33+5 | AA34: =AA33+5 | AB34: =AB33+5 | AD34: مربی | AE34: 11 | AF34: =AD34&AE34 | AG34: 155
W35: 32 | X35: =X34+5 | Y35: =Y34+5 | Z35: =Z34+5 | AA35: =AA34+5 | AB35: =AB34+5 | AD35: مربی | AE35: 12 | AF35: =AD35&AE35 | AG35: 160
W36: 33 | X36: =X35+5 | Y36: =Y35+5 | Z36: =Z35+5 | AA36: =AA35+5 | AB36: =AB35+5 | AD36: مربی | AE36: 13 | AF36: =AD36&AE36 | AG36: 165
W37: 34 | X37: =X36+5 | Y37: =Y36+5 | Z37: =Z36+5 | AA37: =AA36+5 | AB37: =AB36+5 | AD37: مربی | AE37: 14 | AF37: =AD37&AE37 | AG37: 170
W38: 35 | X38: =X37+5 | Y38: =Y37+5 | Z38: =Z37+5 | AA38: =AA37+5 | AB38: =AB37+5 | AD38: مربی | AE38: 15 | AF38: =AD38&AE38 | AG38: 175
W39: 36 | X39: =X38+5 | Y39: =Y38+5 | Z39: =Z38+5 | AA39: =AA38+5 | AB39: =AB38+5 | AD39: مربی | AE39: 16 | AF39: =AD39&AE39 | AG39: 180
W40: 37 | X40: =X39+5 | Y40: =Y39+5 | Z40: =Z39+5 | AA40: =AA39+5 | AB40: =AB39+5 | AD40: مربی | AE40: 17 | AF40: =AD40&AE40 | AG40: 185
W41: 38 | X41: =X40+5 | Y41: =Y40+5 | Z41: =Z40+5 | AA41: =AA40+5 | AB41: =AB40+5 | AD41: مربی | AE41: 18 | AF41: =AD41&AE41 | AG41: 190
W42: 39 | X42: =X41+5 | Y42: =Y41+5 | Z42: =Z41+5 | AA42: =AA41+5 | AB42: =AB41+5 | AD42: مربی | AE42: 19 | AF42: =AD42&AE42 | AG42: 195
W43: 40 | X43: =X42+5 | Y43: =Y42+5 | Z43: =Z42+5 | AA43: =AA42+5 | AB43: =AB42+5 | AD43: مربی | AE43: 20 | AF43: =AD43&AE43 | AG43: 200
W44: 41 | X44: =X43+5 | Y44: =Y43+5 | Z44: =Z43+5 | AA44: =AA43+5 | AB44: =AB43+5 | AD44: استادیار | AE44: 1 | AF44: =AD44&AE44 | AG44: 130
W45: 42 | X45: =X44+5 | Y45: =Y44+5 | Z45: =Z44+5 | AA45: =AA44+5 | AB45: =AB44+5 | AD45: استادیار | AE45: 2 | AF45: =AD45&AE45 | AG45: 135
... W56: 53 | X56: =X55+5 | Y56: =Y55+5 | Z56: =Z55+5 | AA56: =AA55+5 | AB56: =AB55+5 | AD56: استادیار | AE56: 13 | AF56: =AD56&AE56 | AG56: 190
AD57: استادیار | AE57: 14 | AF57: =AD57&AE57 | AG57: 195
AD58: استادیار | AE58: 15 | AF58: =AD58&AE58 | AG58: 200
AD59: استادیار | AE59: 16 | AF59: =AD59&AE59 | AG59: 205
AD60: استادیار | AE60: 17 | AF60: =AD60&AE60 | AG60: 210
AD61: استادیار | AE61: 18 | AF61: =AD61&AE61 | AG61: 215
AD62: استادیار | AE62: 19 | AF62: =AD62&AE62 | AG62: 220
AD63: استادیار | AE63: 20 | AF63: =AD63&AE63 | AG63: 225
AD64: دانشیار | AE64: 1 | AF64: =AD64&AE64 | AG64: 150
AD65: دانشیار | AE65: 2 | AF65: =AD65&AE65 | AG65: 155
AD66: دانشیار | AE66: 3 | AF66: =AD66&AE66 | AG66: 160
AD67: دانشیار | AE67: 4 | AF67: =AD67&AE67 | AG67: 165
AD68: دانشیار | AE68: 5 | AF68: =AD68&AE68 | AG68: 170
... AD103: استاد | AE103: 20 | AF103: =AD103&AE103 | AG103: 270
AC105: فوق العاده مخصوص | AD105: استاد | AE105: غیرتمام وقت | AF105: =AC105&AD105&AE105 | AG105: 2.98
AC106: فوق العاده مخصوص | AD106: دانشیار | AE106: غیرتمام وقت | AF106: =AC106&AD106&AE106 | AG106: 2.87
AC107: فوق العاده مخصوص | AD107: استادیار | AE107: غیرتمام وقت | AF107: =AC107&AD107&AE107 | AG107: 2.6
AC108: فوق العاده مخصوص | AD108: مربی | AE108: غیرتمام وقت | AF108: =AC108&AD108&AE108 | AG108: 2.1
AC109: فوق العاده مخصوص | AD109: مربی آموزشگاه | AE109: غیرتمام وقت | AF109: =AC109&AD109&AE109 | AG109: 1.77
AC110: فوق العاده مخصوص | AD110: استاد | AE110: تمام وقت | AF110: =AC110&AD110&AE110 | AG110: 4.768
AC111: فوق العاده مخصوص | AD111: دانشیار | AE111: تمام وقت | AF111: =AC111&AD111&AE111 | AG111: 4.592
AC112: فوق العاده مخصوص | AD112: استادیار | AE112: تمام وقت | AF112: =AC112&AD112&AE112 | AG112: 4.16
AC113: فوق العاده مخصوص | AD113: مربی | AE113: تمام وقت | AF113: =AC113&AD113&AE113 | AG113: 3.36
AC114: فوق العاده مخصوص | AD114: مربی آموزشگاه | AE114: تمام وقت | AF114: =AC114&AD114&AE114 | AG114: 2.832
AF115: =AC115&AD115&AE115
AF116: =AC116&AD116&AE116
AC117: فوق العاده جذب | AD117: استاد | AE117: غیرتمام وقت | AF117: =AC117&AD117&AE117 | AG117: 5.42
AC118: فوق العاده جذب | AD118: دانشیار | AE118: غیرتمام وقت | AF118: =AC118&AD118&AE118 | AG118: 5.13
AC119: فوق العاده جذب | AD119: استادیار | AE119: غیرتمام وقت | AF119: =AC119&AD119&AE119 | AG119: 5
AC120: فوق العاده جذب | AD120: مربی | AE120: غیرتمام وقت | AF120: =AC120&AD120&AE120 | AG120: 4.86
AC121: فوق العاده جذب | AD121: مربی آموزشگاه | AE121: غیرتمام وقت | AF121: =AC121&AD121&AE121 | AG121: 4.76
AC122: فوق العاده جذب | AD122: استاد | AE122: تمام وقت | AF122: =AC122&AD122&AE122 | AG122: 8.672
AC123: فوق العاده جذب | AD123: دانشیار | AE123: تمام وقت | AF123: =AC123&AD123&AE123 | AG123: 8.208
AC124: فوق العاده جذب | AD124: استادیار | AE124: تمام وقت | AF124: =AC124&AD124&AE124 | AG124: 8
AC125: فوق العاده جذب | AD125: مربی | AE125: تمام وقت | AF125: =AC125&AD125&AE125 | AG125: 7.776
AC126: فوق العاده جذب | AD126: مربی آموزشگاه | AE126: تمام وقت | AF126: =AC126&AD126&AE126 | AG126: 7.616
AD127: مربی آموزشگاه | AE127: 21 | AF127: =AD127&AE127 | AG127: 195
AD128: مربی آموزشگاه | AE128: 22 | AF128: =AD128&AE128 | AG128: 200
AD129: مربی آموزشگاه | AE129: 23 | AF129: =AD129&AE129 | AG129: 205
AD130: مربی آموزشگاه | AE130: 24 | AF130: =AD130&AE130 | AG130: 210
AD131: مربی آموزشگاه | AE131: 25 | AF131: =AD131&AE131 | AG131: 215
AD132: مربی | AE132: 21 | AF132: =AD132&AE132 | AG132: 205
AD133: مربی | AE133: 22 | AF133: =AD133&AE133 | AG133: 210
AD134: مربی | AE134: 23 | AF134: =AD134&AE134 | AG134: 215
AD135: مربی | AE135: 24 | AF135: =AD135&AE135 | AG135: 220
AD136: مربی | AE136: 25 | AF136: =AD136&AE136 | AG136: 225
AD137: استادیار | AE137: 21 | AF137: =AD137&AE137 | AG137: 230
AD138: استادیار | AE138: 22 | AF138: =AD138&AE138 | AG138: 235
... AD291: دانشیار | AE291: 53 | AF291: =AD291&AE291 | AG291: 410

Sheet حق التدریس1404
E1: حق التدریس دانشکده پرستاری خراسان شمالی
A2: ردیف | B2: کدملی | C2: نام و نام خانوادگی | D2: وضعیت استخدامی | E2: مرتبه | F2: پایه | G2: وضعیت تمام وفتی | H2: نیمسال تحصیلی | I2: ضریب ریالی هیات علمی 1404 | J2: ضریب ریالی هیات علمی 1405 | K2: حقوق مبنا | L2: فوق العاده مخصوص | M2: مبنای محاسبات | N2: تقسیم بر | O2: مبلغ هرساعت حق التدریس | P2: تعداد ساعت | Q2: مبلغ قابل پرداخت
A3: 1 | D3: هیات علمی | E3: استادیار | F3: 11 | G3: تمام وقت | H3: مهر الی بهمن 1404 | I3: 82520 | J3: 99024 | K3: =VLOOKUP(E3&F3,'محاسبات هیات علمی 1404'!AF:AG,2,0)*IF(H3="مهر الی بهمن 1404",I3,J3) | L3: =_xlfn.IFNA(VLOOKUP($L$2&E3&G3,'محاسبات هیات علمی 1404'!AF:AG,2,0)*K3,"اطلاعات ناقص") | M3: =IF(D3="هیات علمی",K3+L3,IF(D3="هیات علمی مدعو",(K3+L3)*0.9,IF(D3="غیرهیات علمی کارشناسی",(K3+L3)*0.7,IF(D3="غیرهیات علمی کارشناسی ارشد",(K3+L3)*0.8,IF(D3="غیرهیات علمی دکتری PHD تخصصی و بالاتر",(K3+L3)*0.9))))) | N3: 30 | O3: =_xlfn.IFNA(ROUNDDOWN(M3/N3,0),0) | P3: 10 | Q3: =P3*O3
A4: 2 | D4: هیات علمی | E4: استادیار | F4: 6 | G4: غیرتمام وقت | H4: بهمن 1404 الی تیرماه 1405 | I4: 82520 | J4: 99024 | K4: =VLOOKUP(E4&F4,'محاسبات هیات علمی 1404'!AF:AG,2,0)*IF(H4="مهر الی بهمن 1404",I4,J4) | L4: =_xlfn.IFNA(VLOOKUP($L$2&E4&G4,'محاسبات هیات علمی 1404'!AF:AG,2,0)*K4,"اطلاعات ناقص") | M4: =IF(D4="هیات علمی",K4+L4,IF(D4="هیات علمی مدعو",(K4+L4)*0.9,IF(D4="غیرهیات علمی کارشناسی",(K4+L4)*0.7,IF(D4="غیرهیات علمی کارشناسی ارشد",(K4+L4)*0.8,IF(D4="غیرهیات علمی دکتری PHD تخصصی و بالاتر",(K4+L4)*0.9))))) | N4: 30 | O4: =_xlfn.IFNA(ROUNDDOWN(M4/N4,0),0) | P4: 10 | Q4: =P4*O4
A5: 3 | D5: هیات علمی | E5: استادیار | F5: 6 | G5: تمام وقت | H5: مهر الی بهمن 1404 | I5: 82520 | J5: 99024 | K5: =VLOOKUP(E5&F5,'محاسبات هیات علمی 1404'!AF:AG,2,0)*IF(H5="مهر الی بهمن 1404",I5,J5) | L5: =_xlfn.IFNA(VLOOKUP($L$2&E5&G5,'محاسبات هیات علمی 1404'!AF:AG,2,0)*K5,"اطلاعات ناقص") | M5: =IF(D5="هیات علمی",K5+L5,IF(D5="هیات علمی مدعو",(K5+L5)*0.9,IF(D5="غیرهیات علمی کارشناسی",(K5+L5)*0.7,IF(D5="غیرهیات علمی کارشناسی ارشد",(K5+L5)*0.8,IF(D5="غیرهیات علمی دکتری PHD تخصصی و بالاتر",(K5+L5)*0.9))))) | N5: 30 | O5: =_xlfn.IFNA(ROUNDDOWN(M5/N5,0),0) | P5: 10 | Q5: =P5*O5
A6: 4 | D6: هیات علمی | E6: استادیار | F6: 6 | G6: تمام وقت | H6: بهمن 1404 الی تیرماه 1405 | I6: 82520 | J6: 99024 | K6: =VLOOKUP(E6&F6,'محاسبات هیات علمی 1404'!AF:AG,2,0)*IF(H6="مهر الی بهمن 1404",I6,J6) | L6: =_xlfn.IFNA(VLOOKUP($L$2&E6&G6,'محاسبات هیات علمی 1404'!AF:AG,2,0)*K6,"اطلاعات ناقص") | M6: =IF(D6="هیات علمی",K6+L6,IF(D6="هیات علمی مدعو",(K6+L6)*0.9,IF(D6="غیرهیات علمی کارشناسی",(K6+L6)*0.7,IF(D6="غیرهیات علمی کارشناسی ارشد",(K6+L6)*0.8,IF(D6="غیرهیات علمی دکتری PHD تخصصی و بالاتر",(K6+L6)*0.9))))) | N6: 30 | O6: =_xlfn.IFNA(ROUNDDOWN(M6/N6,0),0) | P6: 10 | Q6: =P6*O6
A7: 5 | D7: هیات علمی مدعو | E7: استادیار | F7: 1 | G7: غیرتمام وقت | H7: مهر الی بهمن 1404 | I7: 82520 | J7: 99024 | K7: =VLOOKUP(E7&F7,'محاسبات هیات علمی 1404'!AF:AG,2,0)*IF(H7="مهر الی بهمن 1404",I7,J7) | L7: =_xlfn.IFNA(VLOOKUP($L$2&E7&G7,'محاسبات هیات علمی 1404'!AF:AG,2,0)*K7,"اطلاعات ناقص") | M7: =IF(D7="هیات علمی",K7+L7,IF(D7="هیات علمی مدعو",(K7+L7)*0.9,IF(D7="غیرهیات علمی کارشناسی",(K7+L7)*0.7,IF(D7="غیرهیات علمی کارشناسی ارشد",(K7+L7)*0.8,IF(D7="غیرهیات علمی دکتری PHD تخصصی و بالاتر",(K7+L7)*0.9))))) | N7: 30 | O7: =_xlfn.IFNA(ROUNDDOWN(M7/N7,0),0) | P7: 10 | Q7: =P7*O7
A8: 6 | D8: غیرهیات علمی کارشناسی | E8: استادیار | F8: 1 | G8: غیرتمام وقت | H8: مهر الی بهمن 1404 | I8: 82520 | J8: 99024 | K8: =VLOOKUP(E8&F8,'محاسبات هیات علمی 1404'!AF:AG,2,0)*IF(H8="مهر الی بهمن 1404",I8,J8) | L8: =_xlfn.IFNA(VLOOKUP($L$2&E8&G8,'محاسبات هیات علمی 1404'!AF:AG,2,0)*K8,"اطلاعات ناقص") | M8: =IF(D8="هیات علمی",K8+L8,IF(D8="هیات علمی مدعو",(K8+L8)*0.9,IF(D8="غیرهیات علمی کارشناسی",(K8+L8)*0.7,IF(D8="غیرهیات علمی کارشناسی ارشد",(K8+L8)*0.8,IF(D8="غیرهیات علمی دکتری PHD تخصصی و بالاتر",(K8+L8)*0.9))))) | N8: 30 | O8: =_xlfn.IFNA(ROUNDDOWN(M8/N8,0),0) | P8: 10 | Q8: =P8*O8
A9: 7 | D9: غیرهیات علمی کارشناسی ارشد | E9: استادیار | F9: 1 | G9: غیرتمام وقت | H9: مهر الی بهمن 1404 | I9: 82520 | J9: 99024 | K9: =VLOOKUP(E9&F9,'محاسبات هیات علمی 1404'!AF:AG,2,0)*IF(H9="مهر الی بهمن 1404",I9,J9) | L9: =_xlfn.IFNA(VLOOKUP($L$2&E9&G9,'محاسبات هیات علمی 1404'!AF:AG,2,0)*K9,"اطلاعات ناقص") | M9: =IF(D9="هیات علمی",K9+L9,IF(D9="هیات علمی مدعو",(K9+L9)*0.9,IF(D9="غیرهیات علمی کارشناسی",(K9+L9)*0.7,IF(D9="غیرهیات علمی کارشناسی ارشد",(K9+L9)*0.8,IF(D9="غیرهیات علمی دکتری PHD تخصصی و بالاتر",(K9+L9)*0.9))))) | N9: 30 | O9: =_xlfn.IFNA(ROUNDDOWN(M9/N9,0),0) | P9: 10 | Q9: =P9*O9
A10: 8 | D10: غیرهیات علمی دکتری PHD تخصصی و بالاتر | E10: استادیار | F10: 1 | G10: غیرتمام وقت | H10: مهر الی بهمن 1404 | I10: 82520 | J10: 99024 | K10: =VLOOKUP(E10&F10,'محاسبات هیات علمی 1404'!AF:AG,2,0)*IF(H10="مهر الی بهمن 1404",I10,J10) | L10: =_xlfn.IFNA(VLOOKUP($L$2&E10&G10,'محاسبات هیات علمی 1404'!AF:AG,2,0)*K10,"اطلاعات ناقص") | M10: =IF(D10="هیات علمی",K10+L10,IF(D10="هیات علمی مدعو",(K10+L10)*0.9,IF(D10="غیرهیات علمی کارشناسی",(K10+L10)*0.7,IF(D10="غیرهیات علمی کارشناسی ارشد",(K10+L10)*0.8,IF(D10="غیرهیات علمی دکتری PHD تخصصی و بالاتر",(K10+L10)*0.9))))) | N10: 30 | O10: =_xlfn.IFNA(ROUNDDOWN(M10/N10,0),0) | P10: 10 | Q10: =P10*O10
A11: 9 | E11: استادیار | F11: 1 | G11: غیرتمام وقت | H11: بهمن 1404 الی تیرماه 1405 | I11: 82520 | J11: 99024 | K11: =VLOOKUP(E11&F11,'محاسبات هیات علمی 1404'!AF:AG,2,0)*IF(H11="مهر الی بهمن 1404",I11,J11) | L11: =_xlfn.IFNA(VLOOKUP($L$2&E11&G11,'محاسبات هیات علمی 1404'!AF:AG,2,0)*K11,"اطلاعات ناقص") | M11: =IF(D11="هیات علمی",K11+L11,IF(D11="هیات علمی مدعو",(K11+L11)*0.9,IF(D11="غیرهیات علمی کارشناسی",(K11+L11)*0.7,IF(D11="غیرهیات علمی کارشناسی ارشد",(K11+L11)*0.8,IF(D11="غیرهیات علمی دکتری PHD تخصصی و بالاتر",(K11+L11)*0.9))))) | N11: 30 | O11: =_xlfn.IFNA(ROUNDDOWN(M11/N11,0),0) | Q11: =P11*O11
A12: 10 | D12: هیات علمی مدعو | E12: استادیار | F12: 1 | G12: غیرتمام وقت | H12: بهمن 1404 الی تیرماه 1405 | I12: 82520 | J12: 99024 | K12: =VLOOKUP(E12&F12,'محاسبات هیات علمی 1404'!AF:AG,2,0)*IF(H12="مهر الی بهمن 1404",I12,J12) | L12: =_xlfn.IFNA(VLOOKUP($L$2&E12&G12,'محاسبات هیات علمی 1404'!AF:AG,2,0)*K12,"اطلاعات ناقص") | M12: =IF(D12="هیات علمی",K12+L12,IF(D12="هیات علمی مدعو",(K12+L12)*0.9,IF(D12="غیرهیات علمی کارشناسی",(K12+L12)*0.7,IF(D12="غیرهیات علمی کارشناسی ارشد",(K12+L12)*0.8,IF(D12="غیرهیات علمی دکتری PHD تخصصی و بالاتر",(K12+L12)*0.9))))) | N12: 30 | O12: =_xlfn.IFNA(ROUNDDOWN(M12/N12,0),0) | Q12: =P12*O12
A13: 11 | D13: غیرهیات علمی کارشناسی | E13: استادیار | F13: 1 | G13: غیرتمام وقت | H13: بهمن 1404 الی تیرماه 1405 | I13: 82520 | J13: 99024 | K13: =VLOOKUP(E13&F13,'محاسبات هیات علمی 1404'!AF:AG,2,0)*IF(H13="مهر الی بهمن 1404",I13,J13) | L13: =_xlfn.IFNA(VLOOKUP($L$2&E13&G13,'محاسبات هیات علمی 1404'!AF:AG,2,0)*K13,"اطلاعات ناقص") | M13: =IF(D13="هیات علمی",K13+L13,IF(D13="هیات علمی مدعو",(K13+L13)*0.9,IF(D13="غیرهیات علمی کارشناسی",(K13+L13)*0.7,IF(D13="غیرهیات علمی کارشناسی ارشد",(K13+L13)*0.8,IF(D13="غیرهیات علمی دکتری PHD تخصصی و بالاتر",(K13+L13)*0.9))))) | N13: 30 | O13: =_xlfn.IFNA(ROUNDDOWN(M13/N13,0),0) | Q13: =P13*O13
A14: 12 | D14: غیرهیات علمی کارشناسی ارشد | E14: استادیار | F14: 1 | G14: غیرتمام وقت | H14: بهمن 1404 الی تیرماه 1405 | I14: 82520 | J14: 99024 | K14: =VLOOKUP(E14&F14,'محاسبات هیات علمی 1404'!AF:AG,2,0)*IF(H14="مهر الی بهمن 1404",I14,J14) | L14: =_xlfn.IFNA(VLOOKUP($L$2&E14&G14,'محاسبات هیات علمی 1404'!AF:AG,2,0)*K14,"اطلاعات ناقص") | M14: =IF(D14="هیات علمی",K14+L14,IF(D14="هیات علمی مدعو",(K14+L14)*0.9,IF(D14="غیرهیات علمی کارشناسی",(K14+L14)*0.7,IF(D14="غیرهیات علمی کارشناسی ارشد",(K14+L14)*0.8,IF(D14="غیرهیات علمی دکتری PHD تخصصی و بالاتر",(K14+L14)*0.9))))) | N14: 30 | O14: =_xlfn.IFNA(ROUNDDOWN(M14/N14,0),0) | Q14: =P14*O14
A15: 13 | D15: غیرهیات علمی دکتری PHD تخصصی و بالاتر | E15: استادیار | F15: 1 | G15: غیرتمام وقت | H15: بهمن 1404 الی تیرماه 1405 | I15: 82520 | J15: 99024 | K15: =VLOOKUP(E15&F15,'محاسبات هیات علمی 1404'!AF:AG,2,0)*IF(H15="مهر الی بهمن 1404",I15,J15) | L15: =_xlfn.IFNA(VLOOKUP($L$2&E15&G15,'محاسبات هیات علمی 1404'!AF:AG,2,0)*K15,"اطلاعات ناقص") | M15: =IF(D15="هیات علمی",K15+L15,IF(D15="هیات علمی مدعو",(K15+L15)*0.9,IF(D15="غیرهیات علمی کارشناسی",(K15+L15)*0.7,IF(D15="غیرهیات علمی کارشناسی ارشد",(K15+L15)*0.8,IF(D15="غیرهیات علمی دکتری PHD تخصصی و بالاتر",(K15+L15)*0.9))))) | N15: 30 | O15: =_xlfn.IFNA(ROUNDDOWN(M15/N15,0),0) | Q15: =P15*O15
A16: 14 | D16: هیات علمی | E16: استادیار | F16: 42 | G16: تمام وقت | H16: مهر الی بهمن 1404 | I16: 82520 | J16: 99024 | K16: =VLOOKUP(E16&F16,'محاسبات هیات علمی 1404'!AF:AG,2,0)*IF(H16="مهر الی بهمن 1404",I16,J16) | L16: =_xlfn.IFNA(VLOOKUP($L$2&E16&G16,'محاسبات هیات علمی 1404'!AF:AG,2,0)*K16,"اطلاعات ناقص") | M16: =IF(D16="هیات علمی",K16+L16,IF(D16="هیات علمی مدعو",(K16+L16)*0.9,IF(D16="غیرهیات علمی کارشناسی",(K16+L16)*0.7,IF(D16="غیرهیات علمی کارشناسی ارشد",(K16+L16)*0.8,IF(D16="غیرهیات علمی دکتری PHD تخصصی و بالاتر",(K16+L16)*0.9))))) | N16: 30 | O16: =_xlfn.IFNA(ROUNDDOWN(M16/N16,0),0) | Q16: =P16*O16
A17: 15 | I17: 82520 | J17: 99024 | K17: =VLOOKUP(E17&F17,'محاسبات هیات علمی 1404'!AF:AG,2,0)*IF(H17="مهر الی بهمن 1404",I17,J17) | L17: =_xlfn.IFNA(VLOOKUP($L$2&E17&G17,'محاسبات هیات علمی 1404'!AF:AG,2,0)*K17,"اطلاعات ناقص") | M17: =IF(D17="هیات علمی",K17+L17,IF(D17="هیات علمی مدعو",(K17+L17)*0.9,IF(D17="غیرهیات علمی کارشناسی",(K17+L17)*0.7,IF(D17="غیرهیات علمی کارشناسی ارشد",(K17+L17)*0.8,IF(D17="غیرهیات علمی دکتری PHD تخصصی و بالاتر",(K17+L17)*0.9))))) | N17: 30 | O17: =_xlfn.IFNA(ROUNDDOWN(M17/N17,0),0) | Q17: =P17*O17
A18: 16 | I18: 82520 | J18: 99024 | K18: =VLOOKUP(E18&F18,'محاسبات هیات علمی 1404'!AF:AG,2,0)*IF(H18="مهر الی بهمن 1404",I18,J18) | L18: =_xlfn.IFNA(VLOOKUP($L$2&E18&G18,'محاسبات هیات علمی 1404'!AF:AG,2,0)*K18,"اطلاعات ناقص") | M18: =IF(D18="هیات علمی",K18+L18,IF(D18="هیات علمی مدعو",(K18+L18)*0.9,IF(D18="غیرهیات علمی کارشناسی",(K18+L18)*0.7,IF(D18="غیرهیات علمی کارشناسی ارشد",(K18+L18)*0.8,IF(D18="غیرهیات علمی دکتری PHD تخصصی و بالاتر",(K18+L18)*0.9))))) | N18: 30 | O18: =_xlfn.IFNA(ROUNDDOWN(M18/N18,0),0) | Q18: =P18*O18
A19: 17 | I19: 82520 | J19: 99024 | K19: =VLOOKUP(E19&F19,'محاسبات هیات علمی 1404'!AF:AG,2,0)*IF(H19="مهر الی بهمن 1404",I19,J19) | L19: =_xlfn.IFNA(VLOOKUP($L$2&E19&G19,'محاسبات هیات علمی 1404'!AF:AG,2,0)*K19,"اطلاعات ناقص") | M19: =IF(D19="هیات علمی",K19+L19,IF(D19="هیات علمی مدعو",(K19+L19)*0.9,IF(D19="غیرهیات علمی کارشناسی",(K19+L19)*0.7,IF(D19="غیرهیات علمی کارشناسی ارشد",(K19+L19)*0.8,IF(D19="غیرهیات علمی دکتری PHD تخصصی و بالاتر",(K19+L19)*0.9))))) | N19: 30 | O19: =_xlfn.IFNA(ROUNDDOWN(M19/N19,0),0) | Q19: =P19*O19
A20: 18 | I20: 82520 | J20: 99024 | K20: =VLOOKUP(E20&F20,'محاسبات هیات علمی 1404'!AF:AG,2,0)*IF(H20="مهر الی بهمن 1404",I20,J20) | L20: =_xlfn.IFNA(VLOOKUP($L$2&E20&G20,'محاسبات هیات علمی 1404'!AF:AG,2,0)*K20,"اطلاعات ناقص") | M20: =IF(D20="هیات علمی",K20+L20,IF(D20="هیات علمی مدعو",(K20+L20)*0.9,IF(D20="غیرهیات علمی کارشناسی",(K20+L20)*0.7,IF(D20="غیرهیات علمی کارشناسی ارشد",(K20+L20)*0.8,IF(D20="غیرهیات علمی دکتری PHD تخصصی و بالاتر",(K20+L20)*0.9))))) | N20: 30 | O20: =_xlfn.IFNA(ROUNDDOWN(M20/N20,0),0) | Q20: =P20*O20
A21: 19 | I21: 82520 | J21: 99024 | K21: =VLOOKUP(E21&F21,'محاسبات هیات علمی 1404'!AF:AG,2,0)*IF(H21="مهر الی بهمن 1404",I21,J21) | L21: =_xlfn.IFNA(VLOOKUP($L$2&E21&G21,'محاسبات هیات علمی 1404'!AF:AG,2,0)*K21,"اطلاعات ناقص") | M21: =IF(D21="هیات علمی",K21+L21,IF(D21="هیات علمی مدعو",(K21+L21)*0.9,IF(D21="غیرهیات علمی کارشناسی",(K21+L21)*0.7,IF(D21="غیرهیات علمی کارشناسی ارشد",(K21+L21)*0.8,IF(D21="غیرهیات علمی دکتری PHD تخصصی و بالاتر",(K21+L21)*0.9))))) | N21: 30 | O21: =_xlfn.IFNA(ROUNDDOWN(M21/N21,0),0) | Q21: =P21*O21
A22: 20 | I22: 82520 | J22: 99024 | K22: =VLOOKUP(E22&F22,'محاسبات هیات علمی 1404'!AF:AG,2,0)*IF(H22="مهر الی بهمن 1404",I22,J22) | L22: =_xlfn.IFNA(VLOOKUP($L$2&E22&G22,'محاسبات هیات علمی 1404'!AF:AG,2,0)*K22,"اطلاعات ناقص") | M22: =IF(D22="هیات علمی",K22+L22,IF(D22="هیات علمی مدعو",(K22+L22)*0.9,IF(D22="غیرهیات علمی کارشناسی",(K22+L22)*0.7,IF(D22="غیرهیات علمی کارشناسی ارشد",(K22+L22)*0.8,IF(D22="غیرهیات علمی دکتری PHD تخصصی و بالاتر",(K22+L22)*0.9))))) | N22: 30 | O22: =_xlfn.IFNA(ROUNDDOWN(M22/N22,0),0) | Q22: =P22*O22
A23: 21 | I23: 82520 | J23: 99024 | K23: =VLOOKUP(E23&F23,'محاسبات هیات علمی 1404'!AF:AG,2,0)*IF(H23="مهر الی بهمن 1404",I23,J23) | L23: =_xlfn.IFNA(VLOOKUP($L$2&E23&G23,'محاسبات هیات علمی 1404'!AF:AG,2,0)*K23,"اطلاعات ناقص") | M23: =IF(D23="هیات علمی",K23+L23,IF(D23="هیات علمی مدعو",(K23+L23)*0.9,IF(D23="غیرهیات علمی کارشناسی",(K23+L23)*0.7,IF(D23="غیرهیات علمی کارشناسی ارشد",(K23+L23)*0.8,IF(D23="غیرهیات علمی دکتری PHD تخصصی و بالاتر",(K23+L23)*0.9))))) | N23: 30 | O23: =_xlfn.IFNA(ROUNDDOWN(M23/N23,0),0) | Q23: =P23*O23
A24: 22 | I24: 82520 | J24: 99024 | K24: =VLOOKUP(E24&F24,'محاسبات هیات علمی 1404'!AF:AG,2,0)*IF(H24="مهر الی بهمن 1404",I24,J24) | L24: =_xlfn.IFNA(VLOOKUP($L$2&E24&G24,'محاسبات هیات علمی 1404'!AF:AG,2,0)*K24,"اطلاعات ناقص") | M24: =IF(D24="هیات علمی",K24+L24,IF(D24="هیات علمی مدعو",(K24+L24)*0.9,IF(D24="غیرهیات علمی کارشناسی",(K24+L24)*0.7,IF(D24="غیرهیات علمی کارشناسی ارشد",(K24+L24)*0.8,IF(D24="غیرهیات علمی دکتری PHD تخصصی و بالاتر",(K24+L24)*0.9))))) | N24: 30 | O24: =_xlfn.IFNA(ROUNDDOWN(M24/N24,0),0) | Q24: =P24*O24
A25: 23 | I25: 82520 | J25: 99024 | K25: =VLOOKUP(E25&F25,'محاسبات هیات علمی 1404'!AF:AG,2,0)*IF(H25="مهر الی بهمن 1404",I25,J25) | L25: =_xlfn.IFNA(VLOOKUP($L$2&E25&G25,'محاسبات هیات علمی 1404'!AF:AG,2,0)*K25,"اطلاعات ناقص") | M25: =IF(D25="هیات علمی",K25+L25,IF(D25="هیات علمی مدعو",(K25+L25)*0.9,IF(D25="غیرهیات علمی کارشناسی",(K25+L25)*0.7,IF(D25="غیرهیات علمی کارشناسی ارشد",(K25+L25)*0.8,IF(D25="غیرهیات علمی دکتری PHD تخصصی و بالاتر",(K25+L25)*0.9))))) | N25: 30 | O25: =_xlfn.IFNA(ROUNDDOWN(M25/N25,0),0) | Q25: =P25*O25
A26: 24 | I26: 82520 | J26: 99024 | K26: =VLOOKUP(E26&F26,'محاسبات هیات علمی 1404'!AF:AG,2,0)*IF(H26="مهر الی بهمن 1404",I26,J26) | L26: =_xlfn.IFNA(VLOOKUP($L$2&E26&G26,'محاسبات هیات علمی 1404'!AF:AG,2,0)*K26,"اطلاعات ناقص") | M26: =IF(D26="هیات علمی",K26+L26,IF(D26="هیات علمی مدعو",(K26+L26)*0.9,IF(D26="غیرهیات علمی کارشناسی",(K26+L26)*0.7,IF(D26="غیرهیات علمی کارشناسی ارشد",(K26+L26)*0.8,IF(D26="غیرهیات علمی دکتری PHD تخصصی و بالاتر",(K26+L26)*0.9))))) | N26: 30 | O26: =_xlfn.IFNA(ROUNDDOWN(M26/N26,0),0) | Q26: =P26*O26
A27: 25 | I27: 82520 | J27: 99024 | K27: =VLOOKUP(E27&F27,'محاسبات هیات علمی 1404'!AF:AG,2,0)*IF(H27="مهر الی بهمن 1404",I27,J27) | L27: =_xlfn.IFNA(VLOOKUP($L$2&E27&G27,'محاسبات هیات علمی 1404'!AF:AG,2,0)*K27,"اطلاعات ناقص") | M27: =IF(D27="هیات علمی",K27+L27,IF(D27="هیات علمی مدعو",(K27+L27)*0.9,IF(D27="غیرهیات علمی کارشناسی",(K27+L27)*0.7,IF(D27="غیرهیات علمی کارشناسی ارشد",(K27+L27)*0.8,IF(D27="غیرهیات علمی دکتری PHD تخصصی و بالاتر",(K27+L27)*0.9))))) | N27: 30 | O27: =_xlfn.IFNA(ROUNDDOWN(M27/N27,0),0) | Q27: =P27*O27
A28: 26 | I28: 82520 | J28: 99024 | K28: =VLOOKUP(E28&F28,'محاسبات هیات علمی 1404'!AF:AG,2,0)*IF(H28="مهر الی بهمن 1404",I28,J28) | L28: =_xlfn.IFNA(VLOOKUP($L$2&E28&G28,'محاسبات هیات علمی 1404'!AF:AG,2,0)*K28,"اطلاعات ناقص") | M28: =IF(D28="هیات علمی",K28+L28,IF(D28="هیات علمی مدعو",(K28+L28)*0.9,IF(D28="غیرهیات علمی کارشناسی",(K28+L28)*0.7,IF(D28="غیرهیات علمی کارشناسی ارشد",(K28+L28)*0.8,IF(D28="غیرهیات علمی دکتری PHD تخصصی و بالاتر",(K28+L28)*0.9))))) | N28: 30 | O28: =_xlfn.IFNA(ROUNDDOWN(M28/N28,0),0) | Q28: =P28*O28
... A66: 64 | I66: 82520 | J66: 99024 | K66: =VLOOKUP(E66&F66,'محاسبات هیات علمی 1404'!AF:AG,2,0)*IF(H66="مهر الی بهمن 1404",I66,J66) | L66: =_xlfn.IFNA(VLOOKUP($L$2&E66&G66,'محاسبات هیات علمی 1404'!AF:AG,2,0)*K66,"اطلاعات ناقص") | M66: =IF(D66="هیات علمی",K66+L66,IF(D66="هیات علمی مدعو",(K66+L66)*0.9,IF(D66="غیرهیات علمی کارشناسی",(K66+L66)*0.7,IF(D66="غیرهیات علمی کارشناسی ارشد",(K66+L66)*0.8,IF(D66="غیرهیات علمی دکتری PHD تخصصی و بالاتر",(K66+L66)*0.9))))) | N66: 30 | O66: =_xlfn.IFNA(ROUNDDOWN(M66/N66,0),0) | Q66: =P66*O66

Sheet هیات علمی
A1: مرتبه | B1: مربی آموزشگاه | I1: شیروان | J1: 51723673
A2: پایه | B2: 1 | I2: بجنورد | J2: 39787441
A3: وضعیت تمام وفتی | B3: تمام وقت
A4: ضریب ریالی هیات علمی | B4: 68766
A5: ضریب ریالی غیر هیات علمی | B5: 4024
A6: حق اشعه | B6: تعلق نمیگیرد | C6: درصد | D6: 0.387
A7: تعداد اولاد | B7: 2
A8: وضعیت تاهل | B8: متاهل
A9: سختی کار | B9: ندارد
B11: امتیاز | C11: مبلغ | E11: مبنای محاسبه
A12: حقوق مبنا | B12: =VLOOKUP(B1&B2,'محاسبات هیات علمی جدید 1405'!AF:AG,2,0) | C12: =B12*$B$4 | E12: { (پايه عضو هيأت علمي*5) + عدد مبنا } ضريب حقوق = حقوق مبنا
A13: فوق العاده مخصوص | B13: =VLOOKUP(A13&B1&B3,'محاسبات هیات علمی جدید 1405'!AF:AG,2,0) | C13: =B13*$B$4*B12 | E13: فوق العاده مخصوص = حقوق مبنا* ضریب فوق العاده مخصوص* درصورت تمام وقتی ضرب در 1/6
A14: فوق العاده بدي آب و هوا | B14: 0.05 | C14: =B14*C12 | E14: حقوق مبنا * درصد وزارت خانه برای استان
A15: كمك هزينه عائله مندي | B15: 2280 | C15: =IF(B8="متاهل",B15*B5,+IF(B8="مجرد",0)) | E15: ضریب ریالی غیرهیات علمی* امتیاز سالانه عائله مندی
A16: كمك هزينه اولاد | B16: 1050 | C16: =B16*B5*B7 | E16: ضریب ریالی غیرهیات علمی* امتیاز سالانه اولاد
A17: فوق العاده جذب | B17: =VLOOKUP(A17&B1&B3,'محاسبات هیات علمی جدید 1405'!AF:AG,2,0) | C17: =B17*C12 | E17: حقوق مبنا * ضرایب جدول وزارت خانه برای شهر* در صورت تمام وقتی ضرب در 1/6
A18: فوق العاده ويژه | B18: =VLOOKUP(B1,'محاسبات هیات علمی جدید 1405'!T:U,2,0) | C18: =B18*C12 | E18: حقوق مبنا* ضرایب جدول فوق العاده ویژه
A19: ترميم حقوق | B19: 210 | C19: =B19*B4 | E19: 210*ضریب ریالی هیات علمی
A20: فوق العاده اشعه X | B20: =IF(B6="تعلق میگیرد",D6,+IF(B6="تعلق نمیگیرد",0)) | C20: =(C12+C13+C17+C18)*B20 | E20: ضریب حق اشعه* (حقوق مبنا+ فوق العاده مخصوص +فوق العاده جذب + فوق العاده ویژه) = فوق العاده اشعه
A21: فوق العاده سختی شرایط محیطکار | B21: =IF(B9="دارد",0.5,+IF(B9="ندارد",0)) | C21: =(C12+C13)*B21 | E21: (حقوق مبنا + فوق العاده مخصوص)* 0/5
A22: فوق العاده مدیریت
A23: جمع کل | C23: =SUM(C12:C22)

Sheet محاسبات هیات علمی جدید 1405
I1: ضریب فوق العاده مخصوص | O1: فوق العاده جذب | T1: ضریب فوق العاده ویژه | X1: 159 | Y1: 177 | Z1: 221 | AA1: 257 | AB1: 301
A2: حقوق مبنا | B2: 12607100 | C2: 57305 | J2: غیرتمام وقتی | L2: تمام وقتی | P2: غیرتمام وقتی | R2: تمام وقتی | T2: استاد | U2: 1.09 | W2: حقوق مبنا
A3: فوق العاده مخصوص | B3: 52445536 | C3: 57305 | I3: استاد | J3: 2.98 | K3: 1.6 | L3: =K3*J3 | O3: استاد | P3: 5.42 | Q3: 1.6 | R3: =P3*Q3 | T3: دانشیار | U3: 14 | W3: پایه | X3: مربی آموزشگاه | Y3: مربی | Z3: استادیار | AA3: دانشیار | AB3: استاد | AE3: پایه | AG3: مربی آموزشگاه
A4: فوق العاده بدي آب و هوا | B4: 630355 | C4: 57305 | I4: دانشیار | J4: 2.87 | K4: 1.6 | L4: =K4*J4 | O4: دانشیار | P4: 5.13 | Q4: 1.6 | R4: =P4*Q4 | T4: استادیار | U4: 15.1 | W4: 1 | X4: =$X$1+(W4*7) | Y4: =$Y$1+(7*W4) | Z4: =$Z$1+(W4*7) | AA4: =$AA$1+(W4*7) | AB4: =$AB$1+(W4*7) | AD4: مربی آموزشگاه | AE4: 1 | AF4: =AD4&AE4 | AG4: 166 | AJ4: تمام وقت
A5: كمك هزينه عائله مندي | B5: 9174720 | C5: 57305 | I5: استادیار | J5: 2.6 | K5: 1.6 | L5: =K5*J5 | O5: استادیار | P5: 5 | Q5: 1.6 | R5: =P5*Q5 | T5: مربی | U5: 10.9 | W5: 2 | X5: =$X$1+(W5*7) | Y5: =$Y$1+(7*W5) | Z5: =$Z$1+(W5*7) | AA5: =$AA$1+(W5*7) | AB5: =$AB$1+(W5*7) | AD5: مربی آموزشگاه | AE5: 2 | AF5: =AD5&AE5 | AG5: 173 | AJ5: غیرتمام وقت
A6: كمك هزينه اولاد | B6: 4225200 | C6: 57305 | I6: مربی | J6: 2.1 | K6: 1.6 | L6: =K6*J6 | O6: مربی | P6: 4.86 | Q6: 1.6 | R6: =P6*Q6 | T6: مربی آموزشگاه | U6: 12.3 | W6: 3 | X6: =$X$1+(W6*7) | Y6: =$Y$1+(7*W6) | Z6: =$Z$1+(W6*7) | AA6: =$AA$1+(W6*7) | AB6: =$AB$1+(W6*7) | AD6: مربی آموزشگاه | AE6: 3 | AF6: =AD6&AE6 | AG6: 180
A7: فوق العاده جذب | B7: 100856800 | C7: 57305 | I7: مربی آموزشگاه | J7: 1.77 | K7: 1.6 | L7: =K7*J7 | O7: مربی آموزشگاه | P7: 4.76 | Q7: 1.6 | R7: =P7*Q7 | W7: 4 | X7: =$X$1+(W7*7) | Y7: =$Y$1+(7*W7) | Z7: =$Z$1+(W7*7) | AA7: =$AA$1+(W7*7) | AB7: =$AB$1+(W7*7) | AD7: مربی آموزشگاه | AE7: 4 | AF7: =AD7&AE7 | AG7: 187
A8: فوق العاده ويژه | B8: 190367210 | C8: 57305 | W8: 5 | X8: =$X$1+(W8*7) | Y8: =$Y$1+(7*W8) | Z8: =$Z$1+(W8*7) | AA8: =$AA$1+(W8*7) | AB8: =$AB$1+(W8*7) | AD8: مربی آموزشگاه | AE8: 5 | AF8: =AD8&AE8 | AG8: 194 | AJ8: تعلق میگیرد
A9: ترميم حقوق | B9: 12034050 | C9: 57305 | W9: 6 | X9: =$X$1+(W9*7) | Y9: =$Y$1+(7*W9) | Z9: =$Z$1+(W9*7) | AA9: =$AA$1+(W9*7) | AB9: =$AB$1+(W9*7) | AD9: مربی آموزشگاه | AE9: 6 | AF9: =AD9&AE9 | AG9: 201 | AJ9: تعلق نمیگیرد
B10: 122844188 | C10: 57305 | D10: 0.3448 | E10: =B10/D10 | W10: 7 | X10: =$X$1+(W10*7) | Y10: =$Y$1+(7*W10) | Z10: =$Z$1+(W10*7) | AA10: =$AA$1+(W10*7) | AB10: =$AB$1+(W10*7) | AD10: مربی آموزشگاه | AE10: 7 | AF10: =AD10&AE10 | AG10: 208
B11: =SUM(B2:B10) | C11: 57305 | T11: =U11*V11 | U11: =1/3 | V11: =Z9*AK29 | W11: 8 | X11: =$X$1+(W11*7) | Y11: =$Y$1+(7*W11) | Z11: =$Z$1+(W11*7) | AA11: =$AA$1+(W11*7) | AB11: =$AB$1+(W11*7) | AD11: مربی آموزشگاه | AE11: 8 | AF11: =AD11&AE11 | AG11: 215
T12: =U12*V12 | U12: =2/3 | V12: =Z9*AK30 | W12: 9 | X12: =$X$1+(W12*7) | Y12: =$Y$1+(7*W12) | Z12: =$Z$1+(W12*7) | AA12: =$AA$1+(W12*7) | AB12: =$AB$1+(W12*7) | AD12: مربی آموزشگاه | AE12: 9 | AF12: =AD12&AE12 | AG12: 222 | AJ12: مجرد
B13: 87465917 | W13: 10 | X13: =$X$1+(W13*7) | Y13: =$Y$1+(7*W13) | Z13: =$Z$1+(W13*7) | AA13: =$AA$1+(W13*7) | AB13: =$AB$1+(W13*7) | AD13: مربی آموزشگاه | AE13: 10 | AF13: =AD13&AE13 | AG13: 229 | AJ13: متاهل
B14: =B10/B13 | W14: 11 | X14: =$X$1+(W14*7) | Y14: =$Y$1+(7*W14) | Z14: =$Z$1+(W14*7) | AA14: =$AA$1+(W14*7) | AB14: =$AB$1+(W14*7) | AD14: مربی آموزشگاه | AE14: 11 | AF14: =AD14&AE14 | AG14: 236
W15: 12 | X15: =$X$1+(W15*7) | Y15: =$Y$1+(7*W15) | Z15: =$Z$1+(W15*7) | AA15: =$AA$1+(W15*7) | AB15: =$AB$1+(W15*7) | AD15: مربی آموزشگاه | AE15: 12 | AF15: =AD15&AE15 | AG15: 243
W16: 13 | X16: =$X$1+(W16*7) | Y16: =$Y$1+(7*W16) | Z16: =$Z$1+(W16*7) | AA16: =$AA$1+(W16*7) | AB16: =$AB$1+(W16*7) | AD16: مربی آموزشگاه | AE16: 13 | AF16: =AD16&AE16 | AG16: 250 | AJ16: دارد
W17: 14 | X17: =$X$1+(W17*7) | Y17: =$Y$1+(7*W17) | Z17: =$Z$1+(W17*7) | AA17: =$AA$1+(W17*7) | AB17: =$AB$1+(W17*7) | AD17: مربی آموزشگاه | AE17: 14 | AF17: =AD17&AE17 | AG17: 257 | AJ17: ندارد
W18: 15 | X18: =$X$1+(W18*7) | Y18: =$Y$1+(7*W18) | Z18: =$Z$1+(W18*7) | AA18: =$AA$1+(W18*7) | AB18: =$AB$1+(W18*7) | AD18: مربی آموزشگاه | AE18: 15 | AF18: =AD18&AE18 | AG18: 264
W19: 16 | X19: =$X$1+(W19*7) | Y19: =$Y$1+(7*W19) | Z19: =$Z$1+(W19*7) | AA19: =$AA$1+(W19*7) | AB19: =$AB$1+(W19*7) | AD19: مربی آموزشگاه | AE19: 16 | AF19: =AD19&AE19 | AG19: 271
W20: 17 | X20: =$X$1+(W20*7) | Y20: =$Y$1+(7*W20) | Z20: =$Z$1+(W20*7) | AA20: =$AA$1+(W20*7) | AB20: =$AB$1+(W20*7) | AD20: مربی آموزشگاه | AE20: 17 | AF20: =AD20&AE20 | AG20: 278
W21: 18 | X21: =$X$1+(W21*7) | Y21: =$Y$1+(7*W21) | Z21: =$Z$1+(W21*7) | AA21: =$AA$1+(W21*7) | AB21: =$AB$1+(W21*7) | AD21: مربی آموزشگاه | AE21: 18 | AF21: =AD21&AE21 | AG21: 285 | AJ21: هیات علمی | AK21: 1
W22: 19 | X22: =$X$1+(W22*7) | Y22: =$Y$1+(7*W22) | Z22: =$Z$1+(W22*7) | AA22: =$AA$1+(W22*7) | AB22: =$AB$1+(W22*7) | AD22: مربی آموزشگاه | AE22: 19 | AF22: =AD22&AE22 | AG22: 292 | AJ22: هیات علمی مدعو | AK22: 0.9
W23: 20 | X23: =$X$1+(W23*7) | Y23: =$Y$1+(7*W23) | Z23: =$Z$1+(W23*7) | AA23: =$AA$1+(W23*7) | AB23: =$AB$1+(W23*7) | AD23: مربی آموزشگاه | AE23: 20 | AF23: =AD23&AE23 | AG23: 299 | AJ23: غیرهیات علمی کارشناسی | AK23: 0.7
W24: 21 | X24: =$X$1+(W24*7) | Y24: =$Y$1+(7*W24) | Z24: =$Z$1+(W24*7) | AA24: =$AA$1+(W24*7) | AB24: =$AB$1+(W24*7) | AD24: مربی آموزشگاه | AE24: 21 | AF24: =AD24&AE24 | AG24: 306 | AJ24: غیرهیات علمی کارشناسی ارشد | AK24: 0.8
W25: 22 | X25: =$X$1+(W25*7) | Y25: =$Y$1+(7*W25) | Z25: =$Z$1+(W25*7) | AA25: =$AA$1+(W25*7) | AB25: =$AB$1+(W25*7) | AD25: مربی آموزشگاه | AE25: 22 | AF25: =AD25&AE25 | AG25: 313 | AJ25: غیرهیات علمی دکتری PHD تخصصی و بالاتر | AK25: 0.9
W26: 23 | X26: =$X$1+(W26*7) | Y26: =$Y$1+(7*W26) | Z26: =$Z$1+(W26*7) | AA26: =$AA$1+(W26*7) | AB26: =$AB$1+(W26*7) | AD26: مربی آموزشگاه | AE26: 23 | AF26: =AD26&AE26 | AG26: 320
W27: 24 | X27: =$X$1+(W27*7) | Y27: =$Y$1+(7*W27) | Z27: =$Z$1+(W27*7) | AA27: =$AA$1+(W27*7) | AB27: =$AB$1+(W27*7) | AD27: مربی آموزشگاه | AE27: 24 | AF27: =AD27&AE27 | AG27: 327
W28: 25 | X28: =$X$1+(W28*7) | Y28: =$Y$1+(7*W28) | Z28: =$Z$1+(W28*7) | AA28: =$AA$1+(W28*7) | AB28: =$AB$1+(W28*7) | AD28: مربی آموزشگاه | AE28: 25 | AF28: =AD28&AE28 | AG28: 334 | AJ28: 1403 | AK28: 68766
W29: 26 | X29: =$X$1+(W29*7) | Y29: =$Y$1+(7*W29) | Z29: =$Z$1+(W29*7) | AA29: =$AA$1+(W29*7) | AB29: =$AB$1+(W29*7) | AD29: مربی آموزشگاه | AE29: 26 | AF29: =AD29&AE29 | AG29: 341 | AJ29: 1404 | AK29: 82520
W30: 27 | X30: =$X$1+(W30*7) | Y30: =$Y$1+(7*W30) | Z30: =$Z$1+(W30*7) | AA30: =$AA$1+(W30*7) | AB30: =$AB$1+(W30*7) | AD30: مربی آموزشگاه | AE30: 27 | AF30: =AD30&AE30 | AG30: 348 | AJ30: 1405 | AK30: 99024
W31: 28 | X31: =$X$1+(W31*7) | Y31: =$Y$1+(7*W31) | Z31: =$Z$1+(W31*7) | AA31: =$AA$1+(W31*7) | AB31: =$AB$1+(W31*7) | AD31: مربی آموزشگاه | AE31: 28 | AF31: =AD31&AE31 | AG31: 355
W32: 29 | X32: =$X$1+(W32*7) | Y32: =$Y$1+(7*W32) | Z32: =$Z$1+(W32*7) | AA32: =$AA$1+(W32*7) | AB32: =$AB$1+(W32*7) | AD32: مربی آموزشگاه | AE32: 29 | AF32: =AD32&AE32 | AG32: 362 | AJ32: مهر الی بهمن 1404
W33: 30 | X33: =$X$1+(W33*7) | Y33: =$Y$1+(7*W33) | Z33: =$Z$1+(W33*7) | AA33: =$AA$1+(W33*7) | AB33: =$AB$1+(W33*7) | AD33: مربی آموزشگاه | AE33: 30 | AF33: =AD33&AE33 | AG33: 369 | AJ33: بهمن 1404 الی تیرماه 1405
W34: 31 | X34: =$X$1+(W34*7) | Y34: =$Y$1+(7*W34) | Z34: =$Z$1+(W34*7) | AA34: =$AA$1+(W34*7) | AB34: =$AB$1+(W34*7) | AD34: مربی آموزشگاه | AE34: 31 | AF34: =AD34&AE34 | AG34: 376
W35: 32 | X35: =$X$1+(W35*7) | Y35: =$Y$1+(7*W35) | Z35: =$Z$1+(W35*7) | AA35: =$AA$1+(W35*7) | AB35: =$AB$1+(W35*7) | AD35: مربی آموزشگاه | AE35: 32 | AF35: =AD35&AE35 | AG35: 383
W36: 33 | X36: =$X$1+(W36*7) | Y36: =$Y$1+(7*W36) | Z36: =$Z$1+(W36*7) | AA36: =$AA$1+(W36*7) | AB36: =$AB$1+(W36*7) | AD36: مربی آموزشگاه | AE36: 33 | AF36: =AD36&AE36 | AG36: 390
W37: 34 | X37: =$X$1+(W37*7) | Y37: =$Y$1+(7*W37) | Z37: =$Z$1+(W37*7) | AA37: =$AA$1+(W37*7) | AB37: =$AB$1+(W37*7) | AD37: مربی آموزشگاه | AE37: 34 | AF37: =AD37&AE37 | AG37: 397
W38: 35 | X38: =$X$1+(W38*7) | Y38: =$Y$1+(7*W38) | Z38: =$Z$1+(W38*7) | AA38: =$AA$1+(W38*7) | AB38: =$AB$1+(W38*7) | AD38: مربی آموزشگاه | AE38: 35 | AF38: =AD38&AE38 | AG38: 404
W39: 36 | X39: =$X$1+(W39*7) | Y39: =$Y$1+(7*W39) | Z39: =$Z$1+(W39*7) | AA39: =$AA$1+(W39*7) | AB39: =$AB$1+(W39*7) | AD39: مربی آموزشگاه | AE39: 36 | AF39: =AD39&AE39 | AG39: 411
W40: 37 | X40: =$X$1+(W40*7) | Y40: =$Y$1+(7*W40) | Z40: =$Z$1+(W40*7) | AA40: =$AA$1+(W40*7) | AB40: =$AB$1+(W40*7) | AD40: مربی آموزشگاه | AE40: 37 | AF40: =AD40&AE40 | AG40: 418
W41: 38 | X41: =$X$1+(W41*7) | Y41: =$Y$1+(7*W41) | Z41: =$Z$1+(W41*7) | AA41: =$AA$1+(W41*7) | AB41: =$AB$1+(W41*7) | AD41: مربی آموزشگاه | AE41: 38 | AF41: =AD41&AE41 | AG41: 425
W42: 39 | X42: =$X$1+(W42*7) | Y42: =$Y$1+(7*W42) | Z42: =$Z$1+(W42*7) | AA42: =$AA$1+(W42*7) | AB42: =$AB$1+(W42*7) | AD42: مربی آموزشگاه | AE42: 39 | AF42: =AD42&AE42 | AG42: 432
W43: 40 | X43: =$X$1+(W43*7) | Y43: =$Y$1+(7*W43) | Z43: =$Z$1+(W43*7) | AA43: =$AA$1+(W43*7) | AB43: =$AB$1+(W43*7) | AD43: مربی آموزشگاه | AE43: 40 | AF43: =AD43&AE43 | AG43: 439
W44: 41 | X44: =$X$1+(W44*7) | Y44: =$Y$1+(7*W44) | Z44: =$Z$1+(W44*7) | AA44: =$AA$1+(W44*7) | AB44: =$AB$1+(W44*7) | AD44: مربی آموزشگاه | AE44: 41 | AF44: =AD44&AE44 | AG44: 446
W45: 42 | X45: =$X$1+(W45*7) | Y45: =$Y$1+(7*W45) | Z45: =$Z$1+(W45*7) | AA45: =$AA$1+(W45*7) | AB45: =$AB$1+(W45*7) | AD45: مربی آموزشگاه | AE45: 42 | AF45: =AD45&AE45 | AG45: 453
... W56: 53 | X56: =$X$1+(W56*7) | Y56: =$Y$1+(7*W56) | Z56: =$Z$1+(W56*7) | AA56: =$AA$1+(W56*7) | AB56: =$AB$1+(W56*7) | AD56: مربی آموزشگاه | AE56: 53 | AF56: =AD56&AE56 | AG56: 530
AD57: مربی | AE57: 1 | AF57: =AD57&AE57 | AG57: 184
AD58: مربی | AE58: 2 | AF58: =AD58&AE58 | AG58: 191
AD59: مربی | AE59: 3 | AF59: =AD59&AE59 | AG59: 198
AD60: مربی | AE60: 4 | AF60: =AD60&AE60 | AG60: 205
AD61: مربی | AE61: 5 | AF61: =AD61&AE61 | AG61: 212
AD62: مربی | AE62: 6 | AF62: =AD62&AE62 | AG62: 219
AD63: مربی | AE63: 7 | AF63: =AD63&AE63 | AG63: 226
AD64: مربی | AE64: 8 | AF64: =AD64&AE64 | AG64: 233
AD65: مربی | AE65: 9 | AF65: =AD65&AE65 | AG65: 240
AD66: مربی | AE66: 10 | AF66: =AD66&AE66 | AG66: 247
AD67: مربی | AE67: 11 | AF67: =AD67&AE67 | AG67: 254
AD68: مربی | AE68: 12 | AF68: =AD68&AE68 | AG68: 261
... AD268: استاد | AE268: 53 | AF268: =AD268&AE268 | AG268: 672
AC269: فوق العاده مخصوص | AD269: استاد | AE269: غیرتمام وقت | AF269: =AC269&AD269&AE269 | AG269: 2.98
AC270: فوق العاده مخصوص | AD270: دانشیار | AE270: غیرتمام وقت | AF270: =AC270&AD270&AE270 | AG270: 2.87
AC271: فوق العاده مخصوص | AD271: استادیار | AE271: غیرتمام وقت | AF271: =AC271&AD271&AE271 | AG271: 2.6
AC272: فوق العاده مخصوص | AD272: مربی | AE272: غیرتمام وقت | AF272: =AC272&AD272&AE272 | AG272: 2.1
AC273: فوق العاده مخصوص | AD273: مربی آموزشگاه | AE273: غیرتمام وقت | AF273: =AC273&AD273&AE273 | AG273: 1.77
AC274: فوق العاده مخصوص | AD274: استاد | AE274: تمام وقت | AF274: =AC274&AD274&AE274 | AG274: 4.768
AC275: فوق العاده مخصوص | AD275: دانشیار | AE275: تمام وقت | AF275: =AC275&AD275&AE275 | AG275: 4.592
AC276: فوق العاده مخصوص | AD276: استادیار | AE276: تمام وقت | AF276: =AC276&AD276&AE276 | AG276: 4.16
AC277: فوق العاده مخصوص | AD277: مربی | AE277: تمام وقت | AF277: =AC277&AD277&AE277 | AG277: 3.36
AC278: فوق العاده مخصوص | AD278: مربی آموزشگاه | AE278: تمام وقت | AF278: =AC278&AD278&AE278 | AG278: 2.832
AC279: فوق العاده جذب | AD279: استاد | AE279: غیرتمام وقت | AF279: =AC279&AD279&AE279 | AG279: 5.42
AC280: فوق العاده جذب | AD280: دانشیار | AE280: غیرتمام وقت | AF280: =AC280&AD280&AE280 | AG280: 5.13
... AC288: فوق العاده جذب | AD288: مربی آموزشگاه | AE288: تمام وقت | AF288: =AC288&AD288&AE288 | AG288: 7.616
