Workbook

Sheet محاسبات هیات علمی
A1: ضریب فوق العاده مخصوص | G1: فوق العاده جذب بجنورد | L1: ضریب فوق العاده ویژه | P1: 159 | Q1: 177 | R1: 221 | S1: 257 | T1: 301 | AB1: بجنورد | AE1: =Q1-P1 -> 18 | AF1: =R1-Q1 -> 44 | AG1: =S1-R1 -> 36 | AH1: =T1-S1 -> 44
B2: غیرتمام وقتی | D2: تمام وقتی | H2: غیرتمام وقتی | J2: تمام وقتی | L2: استاد | M2: 12.3 | O2: حقوق مبنا | AB2: شیروان
A3: استاد | B3: 2.98 | C3: 1.6 | D3: 4.768 | G3: استاد | H3: 5.42 | I3: 1.6 | J3: 8.672 | L3: دانشیار | M3: 14 | O3: پایه | P3: مربی آموزشگاه | Q3: مربی | R3: استادیار | S3: دانشیار | T3: استاد | W3: پایه | Y3: مربی آموزشگاه
A4: دانشیار | B4: 2.87 | C4: 1.6 | D4: 4.592 | G4: دانشیار | H4: 5.13 | I4: 1.6 | J4: 8.208 | L4: استادیار | M4: 15.1 | O4: 1 | P4: 166 | Q4: 184 | R4: 228 | S4: 264 | T4: 308 | V4: مربی آموزشگاه | W4: 1 | X4: مربی آموزشگاه1 | Y4: 166 | AB4: تمام وقت
A5: استادیار | B5: 2.6 | C5: 1.6 | D5: 4.16 | G5: استادیار | H5: 5 | I5: 1.6 | J5: 8 | L5: مربی | M5: 10.9 | O5: 2 | P5: 173 | Q5: 191 | R5: 235 | S5: 271 | T5: 315 | V5: مربی آموزشگاه | W5: 2 | X5: مربی آموزشگاه2 | Y5: 173 | AB5: غیرتمام وقت
A6: مربی | B6: 2.1 | C6: 1.6 | D6: 3.36 | G6: مربی | H6: 4.86 | I6: 1.6 | J6: 7.776 | L6: مربی آموزشگاه | M6: 12.3 | O6: 3 | P6: 180 | Q6: 198 | R6: 242 | S6: 278 | T6: 322 | V6: مربی آموزشگاه | W6: 3 | X6: مربی آموزشگاه3 | Y6: 180
A7: مربی آموزشگاه | B7: 1.77 | C7: 1.6 | D7: 2.832 | G7: مربی آموزشگاه | H7: 4.76 | I7: 1.6 | J7: 7.616 | O7: 4 | P7: 187 | Q7: 205 | R7: 249 | S7: 285 | T7: 329 | V7: مربی آموزشگاه | W7: 4 | X7: مربی آموزشگاه4 | Y7: 187
O8: 5 | P8: 194 | Q8: 212 | R8: 256 | S8: 292 | T8: 336 | V8: مربی آموزشگاه | W8: 5 | X8: مربی آموزشگاه5 | Y8: 194 | AB8: تعلق میگیرد
O9: 6 | P9: 201 | Q9: 219 | R9: 263 | S9: 299 | T9: 343 | V9: مربی آموزشگاه | W9: 6 | X9: مربی آموزشگاه6 | Y9: 201 | AB9: تعلق نمیگیرد
G10: فوق العاده جذب شیروان | O10: 7 | P10: 208 | Q10: 226 | R10: 270 | S10: 306 | T10: 350 | V10: مربی آموزشگاه | W10: 7 | X10: مربی آموزشگاه7 | Y10: 208
H11: غیرتمام وقتی | J11: تمام وقتی | L11: 7509320 | M11: 0.33333333 | N11: 22527960 | O11: 8 | P11: 215 | Q11: 233 | R11: 277 | S11: 313 | T11: 357 | V11: مربی آموزشگاه | W11: 8 | X11: مربی آموزشگاه8 | Y11: 215
G12: استاد | H12: 5.92 | I12: 1.6 | J12: 9.472 | L12: 18022368 | M12: 0.66666667 | N12: 27033552 | O12: 9 | P12: 222 | Q12: 240 | R12: 284 | S12: 320 | T12: 364 | V12: مربی آموزشگاه | W12: 9 | X12: مربی آموزشگاه9 | Y12: 222 | AB12: مجرد
G13: دانشیار | H13: 5.63 | I13: 1.6 | J13: 9.008 | O13: 10 | P13: 229 | Q13: 247 | R13: 291 | S13: 327 | T13: 371 | V13: مربی آموزشگاه | W13: 10 | X13: مربی آموزشگاه10 | Y13: 229 | AB13: متاهل
G14: استادیار | H14: 5.5 | I14: 1.6 | J14: 8.8 | O14: 11 | P14: 236 | Q14: 254 | R14: 298 | S14: 334 | T14: 378 | V14: مربی آموزشگاه | W14: 11 | X14: مربی آموزشگاه11 | Y14: 236
G15: مربی | H15: 5.36 | I15: 1.6 | J15: 8.576 | O15: 12 | P15: 243 | Q15: 261 | R15: 305 | S15: 341 | T15: 385 | V15: مربی آموزشگاه | W15: 12 | X15: مربی آموزشگاه12 | Y15: 243
G16: مربی آموزشگاه | H16: 5.26 | I16: 1.6 | J16: 8.416 | O16: 13 | P16: 250 | Q16: 268 | R16: 312 | S16: 348 | T16: 392 | V16: مربی آموزشگاه | W16: 13 | X16: مربی آموزشگاه13 | Y16: 250 | AB16: دارد
O17: 14 | P17: 257 | Q17: 275 | R17: 319 | S17: 355 | T17: 399 | V17: مربی آموزشگاه | W17: 14 | X17: مربی آموزشگاه14 | Y17: 257 | AB17: ندارد
O18: 15 | P18: 264 | Q18: 282 | R18: 326 | S18: 362 | T18: 406 | V18: مربی آموزشگاه | W18: 15 | X18: مربی آموزشگاه15 | Y18: 264
O19: 16 | P19: 271 | Q19: 289 | R19: 333 | S19: 369 | T19: 413 | V19: مربی آموزشگاه | W19: 16 | X19: مربی آموزشگاه16 | Y19: 271
O20: 17 | P20: 278 | Q20: 296 | R20: 340 | S20: 376 | T20: 420 | V20: مربی آموزشگاه | W20: 17 | X20: مربی آموزشگاه17 | Y20: 278
O21: 18 | P21: 285 | Q21: 303 | R21: 347 | S21: 383 | T21: 427 | V21: مربی آموزشگاه | W21: 18 | X21: مربی آموزشگاه18 | Y21: 285 | AB21: هیات علمی | AC21: 1
O22: 19 | P22: 292 | Q22: 310 | R22: 354 | S22: 390 | T22: 434 | V22: مربی آموزشگاه | W22: 19 | X22: مربی آموزشگاه19 | Y22: 292 | AB22: هیات علمی مدعو | AC22: 0.9
O23: 20 | P23: 299 | Q23: 317 | R23: 361 | S23: 397 | T23: 441 | V23: مربی آموزشگاه | W23: 20 | X23: مربی آموزشگاه20 | Y23: 299 | AB23: غیرهیات علمی کارشناسی | AC23: 0.7
O24: 21 | P24: 306 | Q24: 324 | R24: 368 | S24: 404 | T24: 448 | V24: مربی آموزشگاه | W24: 21 | X24: مربی آموزشگاه21 | Y24: 306 | AB24: غیرهیات علمی کارشناسی ارشد | AC24: 0.8
O25: 22 | P25: 313 | Q25: 331 | R25: 375 | S25: 411 | T25: 455 | V25: مربی آموزشگاه | W25: 22 | X25: مربی آموزشگاه22 | Y25: 313 | AB25: غیرهیات علمی دکتری PHD تخصصی و بالاتر | AC25: 0.9
O26: 23 | P26: 320 | Q26: 338 | R26: 382 | S26: 418 | T26: 462 | V26: مربی آموزشگاه | W26: 23 | X26: مربی آموزشگاه23 | Y26: 320
O27: 24 | P27: 327 | Q27: 345 | R27: 389 | S27: 425 | T27: 469 | V27: مربی آموزشگاه | W27: 24 | X27: مربی آموزشگاه24 | Y27: 327
O28: 25 | P28: 334 | Q28: 352 | R28: 396 | S28: 432 | T28: 476 | V28: مربی آموزشگاه | W28: 25 | X28: مربی آموزشگاه25 | Y28: 334 | AB28: 1403 | AC28: 68766
O29: 26 | P29: 341 | Q29: 359 | R29: 403 | S29: 439 | T29: 483 | V29: مربی آموزشگاه | W29: 26 | X29: مربی آموزشگاه26 | Y29: 341 | AB29: 1404 | AC29: 82520
O30: 27 | P30: 348 | Q30: 366 | R30: 410 | S30: 446 | T30: 490 | V30: مربی آموزشگاه | W30: 27 | X30: مربی آموزشگاه27 | Y30: 348 | AB30: 1405 | AC30: 99024
O31: 28 | P31: 355 | Q31: 373 | R31: 417 | S31: 453 | T31: 497 | V31: مربی آموزشگاه | W31: 28 | X31: مربی آموزشگاه28 | Y31: 355
O32: 29 | P32: 362 | Q32: 380 | R32: 424 | S32: 460 | T32: 504 | V32: مربی آموزشگاه | W32: 29 | X32: مربی آموزشگاه29 | Y32: 362 | AB32: مهر الی بهمن 1404
O33: 30 | P33: 369 | Q33: 387 | R33: 431 | S33: 467 | T33: 511 | V33: مربی آموزشگاه | W33: 30 | X33: مربی آموزشگاه30 | Y33: 369 | AB33: بهمن 1404 الی تیرماه 1405
O34: 31 | P34: 376 | Q34: 394 | R34: 438 | S34: 474 | T34: 518 | V34: مربی آموزشگاه | W34: 31 | X34: مربی آموزشگاه31 | Y34: 376
O35: 32 | P35: 383 | Q35: 401 | R35: 445 | S35: 481 | T35: 525 | V35: مربی آموزشگاه | W35: 32 | X35: مربی آموزشگاه32 | Y35: 383
O36: 33 | P36: 390 | Q36: 408 | R36: 452 | S36: 488 | T36: 532 | V36: مربی آموزشگاه | W36: 33 | X36: مربی آموزشگاه33 | Y36: 390
O37: 34 | P37: 397 | Q37: 415 | R37: 459 | S37: 495 | T37: 539 | V37: مربی آموزشگاه | W37: 34 | X37: مربی آموزشگاه34 | Y37: 397
O38: 35 | P38: 404 | Q38: 422 | R38: 466 | S38: 502 | T38: 546 | V38: مربی آموزشگاه | W38: 35 | X38: مربی آموزشگاه35 | Y38: 404
O39: 36 | P39: 411 | Q39: 429 | R39: 473 | S39: 509 | T39: 553 | V39: مربی آموزشگاه | W39: 36 | X39: مربی آموزشگاه36 | Y39: 411
O40: 37 | P40: 418 | Q40: 436 | R40: 480 | S40: 516 | T40: 560 | V40: مربی آموزشگاه | W40: 37 | X40: مربی آموزشگاه37 | Y40: 418
...

Sheet هیات علمی
A1: مرتبه | B1: دانشیار
A2: پایه | B2: 44
A3: وضعیت تمام وفتی | B3: تمام وقت
A4: ضریب ریالی هیات علمی | B4: 99024
A5: ضریب ریالی غیر هیات علمی | B5: 6954
A6: حق اشعه | B6: تعلق نمیگیرد | C6: درصد | D6: 0.387
A7: تعداد اولاد | B7: 0
A8: وضعیت تاهل | B8: متاهل
A9: سختی کار | B9: ندارد
A10: شهر | B10: بجنورد
A11: فیش حقوقی هیات علمی 1405
A12: آیتم حقوقی | B12: امتیاز | C12: مبلغ | E12: مبنای محاسبه
A13: حقوق مبنا | B13: =VLOOKUP(B1&B2,'محاسبات هیات علمی'!X:Y,2,0) -> 565 | C13: =B13*$B$4 -> 55948560 | E13: { (پايه عضو هيأت علمي*5) + عدد مبنا } ضريب حقوق = حقوق مبنا
A14: فوق العاده مخصوص | B14: =VLOOKUP(A14&B1&B3,'محاسبات هیات علمی'!X:Y,2,0) -> 4.592 | C14: =B14*$B$4*B13 -> 2.5691579e+08 | E14: فوق العاده مخصوص = حقوق مبنا* ضریب فوق العاده مخصوص* درصورت تمام وقتی ضرب در 1/6
A15: فوق العاده بدي آب و هوا | B15: 0.05 | C15: =B15*C13 -> 2797428 | E15: حقوق مبنا * درصد وزارت خانه برای استان
A16: كمك هزينه عائله مندي | B16: 3625 | C16: =IF(B8="متاهل",B16*B5,+IF(B8="مجرد",0)) -> 25208250 | E16: ضریب ریالی غیرهیات علمی* امتیاز سالانه عائله مندی
A17: كمك هزينه اولاد | B17: 2967 | C17: =B17*B5*B7 -> 0 | E17: ضریب ریالی غیرهیات علمی* امتیاز سالانه اولاد
A18: فوق العاده جذب | B18: =VLOOKUP(A18&B1&B3&B10,'محاسبات هیات علمی'!X:Y,2,0) -> 8.208 | C18: =B18*C13 -> 4.5922578e+08 | E18: حقوق مبنا * ضرایب جدول وزارت خانه برای شهر* در صورت تمام وقتی ضرب در 1/6
A19: فوق العاده ويژه | B19: =VLOOKUP(B1,'محاسبات هیات علمی'!L:M,2,0) -> 14 | C19: =B19*C13 -> 783279840 | E19: حقوق مبنا* ضرایب جدول فوق العاده ویژه
A20: ترميم حقوق | B20: 210 | C20: =B20*B4 -> 20795040 | E20: 210*ضریب ریالی هیات علمی
A21: فوق العاده اشعه X | B21: =IF(B6="تعلق میگیرد",D6,+IF(B6="تعلق نمیگیرد",0)) -> 0 | C21: =(C13+C14+C18+C19)*B21 -> 0 | E21: ضریب حق اشعه* (حقوق مبنا+ فوق العاده مخصوص +فوق العاده جذب + فوق العاده ویژه) = فوق العاده اشعه
A22: فوق العاده سختی شرایط محیطکار | B22: =IF(B9="دارد",0.5,+IF(B9="ندارد",0)) -> 0 | C22: =(C13+C14)*B22 -> 0 | E22: (حقوق مبنا + فوق العاده مخصوص)* 0/5
A23: فوق العاده مدیریت | E23: برمبنای فوق العاده مدیریت رئیس دانشگاه محاسبه میشود. معاونین 80 درصد- روسای دانشکده ها 65 درصد.روسای بیمارستان ها 55 درصد.مدیران ستادی 50 درصد. رئیس مرکز تحقیقاتی و مدیر و معاون بیمارستان 40 درصد
A24: فوق العاده خاص | B24: 4400 | C24: =B24*B5 -> 30597600
A25: جمع کل | C25: =SUM(C13:C24) -> 1634768286

Sheet ضریب کا
A2: رسته | B2: اداری
A3: طبقه | B3: 12
A4: رتبه | B4: خبره
A5: سطح شغل | B5: کارشناسي
A6: عنوان پست ساماني | B6: حسابدار امين اموال
A7: محل خدمت | B7: بيمارستانها و مراكز آموزشي درماني
A8: مدرک تحصیلی | B8: فوق لیسانس
A9: ضریب ریالی | B9: 4829
A10: تعداد اولاد | B10: 0
A11: دارای همسر | B11: خیر
A12: حداقل حقوق 1403 | B12: 35589600
A13: فرزند شهید یا جانباز 25% و بالاتر | B13: خیر
A14: درصد حق اشعه | B14: 0
A15: نوبت کاری | B15: اداری
A19: حق شغل(م.خ.ك) | B19: =VLOOKUP(B2&B3&B4,'محاسبات پرسنل'!$X:$AE,8,0) -> 8475 | C19: =B19*$B$9 -> 40925775 | D19: براساس جدول(امتیاز اوليه در 1/5 ضرب میشود، درصورتي که کادر درمان باشد، ابتدا در عدد 1/1 بعد در 1/5)
A20: حق شاغل(م.خ.ك) | B20: 4218 | C20: =B20*$B$9 -> 20368722
A21: تفاوت بند(ي) تبصره(12) بودجه 1398 | B21: 0 | C21: =B21*'محاسبات پرسنل'!$AS$7 -> 0
A22: تفاوت جزء(1) بند(الف) تبصره(12) بودجه 1397 | B22: 0 | C22: =B22*'محاسبات پرسنل'!$AS$6 -> 0
A23: فوق العاده شغل (م.خ.ك) | B23: =VLOOKUP('ضریب کا'!$B$5,'محاسبات پرسنل'!$C$71:$F$74,4,0) -> 2250 | C23: =B23*$B$9 -> 10865250 | D23: مدرک تحصيلی کمتر از ليسانس(کاردان) عدد 1050 - ليسانس و بالاتر 2250 (کارشناس)- دريافت حق مدیریت 3000 (درصورت داشتن مدرک ليسانس و بالاتر براي پست سارماني نظير نگهبان و خدمات با امتياز کاردان محاسبه ميشود )
A24: مناطق كمتر توسعه يافته و بدي آب و هوا(م.خ.ك) | B24: =VLOOKUP($B$8,'محاسبات پرسنل'!$C$79:$D$84,2,0) -> 0.25 | C24: =(C19+C20+C21+C36)*B24 -> 15323624 | D24: (حق شغل + حق شاغل + تفاوت بند(ي) تبصره(12) بودجه 1398 + تفاوت جزء(1) بند(الف) تبصره(12) بودجه 1397 + فوق العاده مديريت)* (مدرک فوق و بالاتر ضربدر 0/25 صدم، لیسانس و پایین تر ضربدر 20 صدم)
A25: فوق العاده سختي شرايط محيط كار(م.خ.ك) | B25: =VLOOKUP(B6&B7,'محاسبات پرسنل'!AL:AN,3,0)*1.5 -> 144 | C25: =B25*$B$9 -> 695376 | D25: طبق جدول پيوست(به عنوان مال براي حسابدار شاغل در بيمارستان عدد 8 درصد ضربدر 12 ميشه و بعد در عدد 1/5)
A26: فوق العاده ويژه (م خ ك) | B26: 0.5 | C26: =(C19+C20+C21+C22+C25+C27+C36+C32+C23)*B26 -> 49177208 | D26: (حق شغل + حق شاغل + فوق العاده شغل + فوق العاده سختي شرايط محيط كار + فوق العاده جذب هيات امنا + تفاوت بند(ي) تبصره(12) بودجه 1398+ تفاوت جزء(1) بند(الف) تبصره(12) بودجه 1397+ فوق العاده مديريت + فوق العاده ايثارگري + فوق العاده بدي آب و هوا) ضربدر 50 درصد
A27: فوق العاده جذب هيات امنا | B27: 0.35 | C27: =B27*(C19+C20+C21+C22+C23+C36+C32+C25) -> 25499293 | D27: (حق شغل + حق شاغل + فوق العاده شغل + فوق العاده سختي شرايط محيط كار + تفاوت بند(ي) تبصره(12) بودجه 1398 +تفاوت جزء(1) بند(الف) تبصره(12) بودجه 1397 +فوق العاده مديريت + فوق العاده ايثارگري + فوق العاده بدي آب و هوا) ضربدر 35 درصد
A28: فوق العاده نوبت كاري(م.خ.ك) | B28: =VLOOKUP($B$15,'محاسبات پرسنل'!$B$99:$C$107,2,0) -> 0 | C28: =B28*$B$9 -> 0
A29: فوق العاده اشعه X(م.خ.ك) | B29: =B14 -> 0 | C29: =(C19+C20+C21+C22+C25+C27+C26+C32+C36+C34)*B29 -> 0 | D29: (حق شغل + حق شاغل + فوق العاده شغل + فوق العاده سختي شرايط محيط كار + فوق العاده ويژه (م خ ك)فوق العاده جذب هيات امناتفاوت بند(ي) تبصره(12) بودجه 1398 + تفاوت جزء(1) بند(الف) تبصره(12) بودجه 1397 + تفاوت تطبيق + ساير + فوق العاده ايثارگري + فوق العاده مديريت) ضربدر درصد حق اشعه
A30: كمك هزينه عائله مندي(م.خ.ك) | B30: =IF(B11="بله",VLOOKUP($B$10,'محاسبات پرسنل'!$C$88:$E$95,3,0),0) -> 0 | C30: =B30 -> 0
A31: كمك هزينه اولاد(م.خ.ك) | B31: =B10&" "&"نفر" -> 0 نفر | C31: =VLOOKUP($B$10,'محاسبات پرسنل'!$C$88:$D$95,2,0) -> 0
A32: فوق العاده ايثارگري(م.خ.ك) | B32: ندارم | C32: =IF(B32="ندارم",0,IF(B32,B32*$B$9)) -> 0 | D32: =VLOOKUP(B32,'محاسبات پرسنل'!C56:E68,3,0)&" - "&VLOOKUP(B32,'محاسبات پرسنل'!C55:E68,2,0) -> #N/A
A33: فوق العاده ايثارگري قانون جامع (م خ ك) | B33: =IF(B13="بله","مشمول","تعلق نمی گیرد") -> تعلق نمی گیرد | C33: =IF(B33="مشمول",B12*0.25,0) -> 0 | D33: يک چهارم حداقل حقوق مصوب سالانه
A34: تفاوت تطبيق(م.خ.ك) | B34: 0 | C34: =$B$9*B34 -> 0
A35: ساير(م.خ.ك) | B35: 0 | C35: =$B$9*B35 -> 0
A36: فوق العاده مديريت(م.خ.ك) | B36: 0 | C36: =$B$9*B36 -> 0
A37: ترميم حقوق | B37: 3000 | C37: =$B$9*B37 -> 14487000 | D37: 3000 امتیاز ثابت
C38: =SUM(C19:C37) -> 1.7734225e+08

Sheet محاسبات پرسنل
M1: سنوات | P1: امتیاز سنوات خدمت در هر سال | Q1: امتیاز سنوات خدمت در هر سال | R1: امتیاز تجربه مربوط و مشابه | S1: امتیاز تجربه مربوط و مشابه | Z1: طبقات جدول | AI1: رديف | AJ1: عناوين پست هاي سازماني | AK1: محل خدمت | AM1: توضيحات | AN1: ميزان امتياز از 05/01/89 | AO1: ميزان درصد | AP1: ميزان درصد
A2: تحصیلات | B2: امتیاز تحصیلات | C2: امتیاز مهارت و توانایی | D2: امتیاز سنوات خدمت در هر سال | E2: امتیاز تجربه مربوط و مشابه | F2: امتیاز دوره آموزشی | K2: امتیاز تحصیلات | L2: امتیاز مهارت و توانایی | M2: سال | N2: ماه | O2: روز | X2: =Y2&Z2&AA2 -> اداری1مقدماتي | Y2: اداری | Z2: 1 | AA2: مقدماتي | AB2: 1 | AC2: 1.5 | AD2: 2400 | AE2: =AB2*AC2*AD2 -> 3600 | AG2: اداری | AO2: از 01/10/86 | AP2: تا 01/10/86 | AS2: همسر
A3: زیر دیپلم | B3: 1650 | C3: 300 | D3: 15 | E3: 12 | F3: به ازای هر ساعت آموزشی 75 درصد امتیاز | H3: مقطع جاری | I3: تحصیلات | J3: کارشناسی ارشد | K3: =VLOOKUP(J3,A:B,2,FALSE)/1.5 -> 2000 | L3: =VLOOKUP(J3,A:C,3,FALSE)/1.5 -> 600 | M3: 1 | N3: 9 | O3: 0 | P3: =VLOOKUP(J3,A:D,4,FALSE) -> 45 | Q3: =ROUND((M3*(P3/1.5))+(((P3/1.5)/12)*N3)+(((P3/1.5)/364)*O3),0) -> 53 | R3: =VLOOKUP(J3,A:E,5,FALSE) -> 24 | S3: =ROUND(((R3/1.5)*M3)+((N3/12)*(R3/1.5))+(((R3/1.5)/364)*O3),0) -> 28 | X3: =Y3&Z3&AA3 -> اداری2مقدماتي | Y3: اداری | Z3: 2 | AA3: مقدماتي | AB3: 1 | AC3: 1.5 | AD3: 2600 | AE3: =AB3*AC3*AD3 -> 3900 | AG3: درمان | AP3: رشته شغلي : آرايشگر | AS3: بله
A4: دیپلم | B4: 1800 | C4: 375 | D4: 22.5 | E4: 15 | H4: مقطع قبلی | I4: تحصیلات | K4: =VLOOKUP(J4,A:B,2,FALSE)/1.5 -> #N/A | L4: =VLOOKUP(J4,A:C,3,FALSE)/1.5 -> #N/A | M4: 6 | N4: 0 | O4: 0 | P4: =VLOOKUP(J4,A:D,4,FALSE) -> #N/A | Q4: =ROUND((M4*(P4/1.5))+(((P4/1.5)/12)*N4)+(((P4/1.5)/364)*O4),0) -> #N/A | R4: =VLOOKUP(J4,A:E,5,FALSE) -> #N/A | S4: =ROUND(((R4/1.5)*M4)+((N4/12)*(R4/1.5))+(((R4/1.5)/364)*O4),0) -> #N/A | X4: =Y4&Z4&AA4 -> اداری3مقدماتي | Y4: اداری | Z4: 3 | AA4: مقدماتي | AB4: 1 | AC4: 1.5 | AD4: 2800 | AE4: =AB4*AC4*AD4 -> 4200 | AI4: 1 | AJ4: آرايشگر | AK4: بيمارستانها و مراكز آموزشي درماني | AL4: =AJ4&AK4 -> آرايشگربيمارستانها و مراكز آموزشي درماني | AN4: 372 | AO4: 31 | AP4: 20 | AS4: خیر
A5: کاردانی | B5: 2100 | C5: 450 | D5: 30 | E5: 18 | H5: مقطع قبلی | I5: تحصیلات | K5: =VLOOKUP(J5,A:B,2,FALSE)/1.5 -> #N/A | L5: =VLOOKUP(J5,A:C,3,FALSE)/1.5 -> #N/A | M5: 0 | N5: 0 | O5: 0 | P5: =VLOOKUP(J5,A:D,4,FALSE) -> #N/A | Q5: =ROUND((M5*(P5/1.5))+(((P5/1.5)/12)*N5)+(((P5/1.5)/364)*O5),0) -> #N/A | R5: =VLOOKUP(J5,A:E,5,FALSE) -> #N/A | S5: =ROUND((R5*M5)+((N5/12)*R5)+((R5/364)*O5),0) -> #N/A | X5: =Y5&Z5&AA5 -> اداری4مقدماتي | Y5: اداری | Z5: 4 | AA5: مقدماتي | AB5: 1 | AC5: 1.5 | AD5: 3000 | AE5: =AB5*AC5*AD5 -> 4500 | AP5: رشته شغلي : آشپز
A6: کارشناسی | B6: 2550 | C6: 600 | D6: 37.5 | E6: 21 | X6: =Y6&Z6&AA6 -> اداری5مقدماتي | Y6: اداری | Z6: 5 | AA6: مقدماتي | AB6: 1 | AC6: 1.5 | AD6: 3200 | AE6: =AB6*AC6*AD6 -> 4800 | AI6: 1 | AJ6: آشپز | AK6: بيمارستانها و مراكز آموزشي درماني | AL6: =AJ6&AK6 -> آشپزبيمارستانها و مراكز آموزشي درماني | AN6: 552 | AO6: 46 | AP6: 30 | AR6: ضریب ریالی 97 | AS6: 1797
A7: کارشناسی ارشد | B7: 3000 | C7: 900 | D7: 45 | E7: 24 | X7: =Y7&Z7&AA7 -> اداری6مقدماتي | Y7: اداری | Z7: 6 | AA7: مقدماتي | AB7: 1 | AC7: 1.5 | AD7: 3400 | AE7: =AB7*AC7*AD7 -> 5100 | AI7: 2 | AJ7: آشپز | AK7: ساير واحدها | AL7: =AJ7&AK7 -> آشپزساير واحدها | AN7: 276 | AO7: 23 | AP7: 15 | AR7: ضریب ریالی 98 | AS7: 2120
A8: دکتری حرفه ای | B8: 3600 | C8: 1050 | D8: 48 | E8: 25.5 | H8: تعداد ساعت دوره آموزشی | K8: 20 | L8: =IF(K8<=750,ROUND(K8*(0.7528),0),+IF(K8>750,750)) -> 15 | X8: =Y8&Z8&AA8 -> اداری7مقدماتي | Y8: اداری | Z8: 7 | AA8: مقدماتي | AB8: 1 | AC8: 1.5 | AD8: 3600 | AE8: =AB8*AC8*AD8 -> 5400 | AP8: رشته شغلي : اپراتور
A9: دکتری تخصصی و phd | B9: 4200 | C9: 1215 | D9: 52.5 | E9: 27 | X9: =Y9&Z9&AA9 -> اداری8مقدماتي | Y9: اداری | Z9: 8 | AA9: مقدماتي | AB9: 1 | AC9: 1.5 | AD9: 3800 | AE9: =AB9*AC9*AD9 -> 5700 | AM9: در صورت اشتغال به كار پزشكان، پرستاران و كاردانهاي هوشبري مشمول قانون خدمت پزشكان و
A10: حداکثر امتیاز | B10: 4200 | C10: 1215 | D10: 1050 | E10: 540 | F10: 750 | Q10: امتیاز مهارت | R10: =K3 -> 2000 | X10: =Y10&Z10&AA10 -> اداری9مقدماتي | Y10: اداری | Z10: 9 | AA10: مقدماتي | AB10: 1 | AC10: 1.5 | AD10: 4000 | AE10: =AB10*AC10*AD10 -> 6000 | AI10: 1 | AJ10: اپراتور تلفن | AK10: مركز اورژانس و فوريتهاي پزشكي | AL10: =AJ10&AK10 -> اپراتور تلفنمركز اورژانس و فوريتهاي پزشكي | AM10: پيراپزشكان مصوب 1375/02/12 در هر يك از | AN10: 648 | AO10: 54 | AP10: 35
Q11: امتیاز تحصیلات | R11: =L3 -> 600 | X11: =Y11&Z11&AA11 -> اداری10مقدماتي | Y11: اداری | Z11: 10 | AA11: مقدماتي | AB11: 1 | AC11: 1.5 | AD11: 4200 | AE11: =AB11*AC11*AD11 -> 6300 | AM11: مشاغل: مسئول، متصدي و تكنسين امور فوريتهاي پزشكي، اپراتور بي سيم و اپراتور تلفن، پزشك
Q12: سنوات خدمت | R12: =Q3 -> 53 | X12: =Y12&Z12&AA12 -> اداری11مقدماتي | Y12: اداری | Z12: 11 | AA12: مقدماتي | AB12: 1 | AC12: 1.5 | AD12: 4400 | AE12: =AB12*AC12*AD12 -> 6600 | AM12: (راهنماي بيماران) و مسئول دريافت پذيرش از
A13: جدول فوق العاده مدیریت و سرپرستی | K13: شهرستان | L13: 1200 | M13: حسابدار مسئول | Q13: تجربه | R13: =S3 -> 28 | X13: =Y13&Z13&AA13 -> اداری12مقدماتي | Y13: اداری | Z13: 12 | AA13: مقدماتي | AB13: 1 | AC13: 1.5 | AD13: 4600 | AE13: =AB13*AC13*AD13 -> 6900 | AM13: بيمارستان ها، از فوق العاده سختي شرايط محيط كار اين بند بهره مند مي گردند.
A14: رديف | B14: حوزه جغرافيايي خدمت | C14: سطوح مديريت | D14: معاون اداره و همتراز | E14: رييس اداره و همتراز | F14: معاون مديركل و همتراز | G14: مديركل و همتراز | H14: معاون مؤسسه و همتراز | K14: استان | L14: 1300 | M14: حسابدار مسئول | Q14: ساعت آموزشی | R14: =L8 -> 15 | X14: =Y14&Z14&AA14 -> اداری13مقدماتي | Y14: اداری | Z14: 13 | AA14: مقدماتي | AB14: 1 | AC14: 1.5 | AD14: 4800 | AE14: =AB14*AC14*AD14 -> 7200 | AI14: 2 | AJ14: اپراتور كامپيوتر | AK14: كليه واحدها | AL14: =AJ14&AK14 -> اپراتور كامپيوتركليه واحدها | AN14: 96 | AO14: 8 | AP14: 5
A15: 1 | B15: شهرستان | C15: سطح يك | D15: 1000 | E15: 1900 | F15: 2800 | G15: 3700 | H15: 4600 | K15: استان | L15: 2200 | M15: رئییس اداره مالی | Q15: روند شده با افزایش 1,6 | R15: =ROUND((R11+R12+R13+R10+R14)*1.5,0) -> 4044 | X15: =Y15&Z15&AA15 -> اداری14مقدماتي | Y15: اداری | Z15: 14 | AA15: مقدماتي | AB15: 1 | AC15: 1.5 | AD15: 5000 | AE15: =AB15*AC15*AD15 -> 7500 | AP15: رشته شغلي : باغبان
C16: سطح دو | D16: 1100 | E16: 2000 | F16: 2900 | G16: 3800 | H16: 4700 | K16: شهرستان | L16: 2100 | M16: رئییس اداره مالی | N16: سوپروایزر | X16: =Y16&Z16&AA16 -> اداری15مقدماتي | Y16: اداری | Z16: 15 | AA16: مقدماتي | AB16: 1 | AC16: 1.5 | AD16: 5200 | AE16: =AB16*AC16*AD16 -> 7800 | AI16: 1 | AJ16: باغبان | AK16: بيمارستانها و مراكز آموزشي درماني | AL16: =AJ16&AK16 -> باغبانبيمارستانها و مراكز آموزشي درماني | AN16: 468 | AO16: 39 | AP16: 25
C17: سطح سه | D17: 1200 | E17: 2100 | F17: 3000 | G17: 3900 | H17: 4800 | K17: ملی | L17: 2700 | M17: رئیس داره | X17: =Y17&Z17&AA17 -> اداری16مقدماتي | Y17: اداری | Z17: 16 | AA17: مقدماتي | AB17: 1 | AC17: 1.5 | AD17: 5400 | AE17: =AB17*AC17*AD17 -> 8100 | AI17: 2 | AJ17: باغبان | AK17: مراكز بهداشتي و درماني | AL17: =AJ17&AK17 -> باغبانمراكز بهداشتي و درماني | AN17: 372 | AO17: 31 | AP17: 20
A18: 2 | B18: استان | C18: سطح يك | D18: 1300 | E18: 2200 | F18: 3100 | G18: 4000 | H18: 4900 | K18: ملی | L18: 3600 | M18: مدیر | X18: =Y18&Z18&AA18 -> اداریطبقات جدول | Y18: اداری | Z18: طبقات جدول | AB18: 1 | AC18: 1.5 | AE18: =AB18*AC18*AD18 -> 0 | AI18: 3 | AJ18: باغبان | AK18: ساير واحدها | AL18: =AJ18&AK18 -> باغبانساير واحدها | AN18: 276 | AO18: 23 | AP18: 15
C19: سطح دو | D19: 1400 | E19: 2300 | F19: 3200 | G19: 4100 | H19: 5000 | K19: شهرستان | L19: 1200 | M19: سرپرستار | X19: =Y19&Z19&AA19 -> اداری1پايه | Y19: اداری | Z19: 1 | AA19: پايه | AB19: 1 | AC19: 1.5 | AD19: 2650 | AE19: =AB19*AC19*AD19 -> 3975 | AP19: رشته شغلي : برنامه نويس سيستم
C20: سطح سه | D20: 1500 | E20: 2400 | F20: 3300 | G20: 4200 | H20: 5100 | K20: استان | L20: 4300 | M20: معاون فنی | X20: =Y20&Z20&AA20 -> اداری2پايه | Y20: اداری | Z20: 2 | AA20: پايه | AB20: 1 | AC20: 1.5 | AD20: 2850 | AE20: =AB20*AC20*AD20 -> 4275 | AI20: 1 | AJ20: كليه پستهاي سازماني زير مجموعه رشته | AK20: كليه واحدها | AL20: =AJ20&AK20 -> كليه پستهاي سازماني زير مجموعه رشتهكليه واحدها | AN20: 96 | AO20: 8 | AP20: 5
A21: 3 | B21: ملي | C21: سطح يك | D21: 1600 | E21: 2500 | F21: 3400 | G21: 4300 | H21: 5200 | K21: شهرستان | L21: 3000 | M21: مدیرخدمات پرستاری | X21: =Y21&Z21&AA21 -> اداری3پايه | Y21: اداری | Z21: 3 | AA21: پايه | AB21: 1 | AC21: 1.5 | AD21: 3050 | AE21: =AB21*AC21*AD21 -> 4575
C22: سطح دو | D22: 1700 | E22: 2600 | F22: 3500 | G22: 4400 | H22: 5300 | X22: =Y22&Z22&AA22 -> اداری4پايه | Y22: اداری | Z22: 4 | AA22: پايه | AB22: 1 | AC22: 1.5 | AD22: 3250 | AE22: =AB22*AC22*AD22 -> 4875
C23: سطح سه | D23: 1800 | E23: 2700 | F23: 3600 | G23: 4500 | H23: 5400 | X23: =Y23&Z23&AA23 -> اداری5پايه | Y23: اداری | Z23: 5 | AA23: پايه | AB23: 1 | AC23: 1.5 | AD23: 3450 | AE23: =AB23*AC23*AD23 -> 5175
X24: =Y24&Z24&AA24 -> اداری6پايه | Y24: اداری | Z24: 6 | AA24: پايه | AB24: 1 | AC24: 1.5 | AD24: 3650 | AE24: =AB24*AC24*AD24 -> 5475 | AI24: رديف | AJ24: عناوين پست هاي سازماني | AK24: محل خدمت | AL24: =AJ24&AK24 -> عناوين پست هاي سازمانيمحل خدمت | AM24: توضيحات | AN24: ميزان امتياز از 05/01/89 | AO24: ميزان درصد | AP24: ميزان درصد
X25: =Y25&Z25&AA25 -> اداری7پايه | Y25: اداری | Z25: 7 | AA25: پايه | AB25: 1 | AC25: 1.5 | AD25: 3850 | AE25: =AB25*AC25*AD25 -> 5775 | AO25: از 01/10/86 | AP25: تا 01/10/86
X26: =Y26&Z26&AA26 -> اداری8پايه | Y26: اداری | Z26: 8 | AA26: پايه | AB26: 1 | AC26: 1.5 | AD26: 4050 | AE26: =AB26*AC26*AD26 -> 6075 | AP26: رشته شغلي : بهدار
X27: =Y27&Z27&AA27 -> اداری9پايه | Y27: اداری | Z27: 9 | AA27: پايه | AB27: 1 | AC27: 1.5 | AD27: 4250 | AE27: =AB27*AC27*AD27 -> 6375 | AI27: 1 | AJ27: كمك بهيار | AK27: مهد كودك كليه مراكز | AL27: =AJ27&AK27 -> كمك بهيارمهد كودك كليه مراكز | AN27: 276 | AO27: 23 | AP27: 15
B28: امتیاز حق شغل | X28: =Y28&Z28&AA28 -> اداری10پايه | Y28: اداری | Z28: 10 | AA28: پايه | AB28: 1 | AC28: 1.5 | AD28: 4450 | AE28: =AB28*AC28*AD28 -> 6675 | AI28: 2 | AJ28: كمك بهيار | AK28: مركز اورژانس و فوريتهاي پزشكي، مراكز بهداشتي درماني ، درمانگاه ها و بخشهاي سنگ شكن و فيزيوتراپي بيمارستانها و مراكز آموزشي درماني | AL28: =AJ28&AK28 -> كمك بهيارمركز اورژانس و فوريتهاي پزشكي، مراكز بهداشتي درماني ، درمانگاه ها و بخشهاي سنگ شكن و فيزيوتراپي بيمارستانها و مراكز آموزشي درماني | AN28: 468 | AO28: 39 | AP28: 25
B29: رتبه هاي شغلي | C29: مقدماتي | D29: پايه | E29: ارشد | F29: خبره | G29: عالي | X29: =Y29&Z29&AA29 -> اداری11پايه | Y29: اداری | Z29: 11 | AA29: پايه | AB29: 1 | AC29: 1.5 | AD29: 4650 | AE29: =AB29*AC29*AD29 -> 6975 | AI29: 3 | AJ29: كمك بهيار | AK29: مركز استريل اتاق عمل بيمارستانها و مراكز آموزشي درماني، واحدهاي برونگوسكوپي، آندوسكوپي و كلونوسكوپي | AL29: =AJ29&AK29 -> كمك بهيارمركز استريل اتاق عمل بيمارستانها و مراكز آموزشي درماني، واحدهاي برونگوسكوپي، آندوسكوپي و كلونوسكوپي | AN29: 648 | AO29: 54 | AP29: 35
B30: طبقات جدول | X30: =Y30&Z30&AA30 -> اداری12پايه | Y30: اداری | Z30: 12 | AA30: پايه | AB30: 1 | AC30: 1.5 | AD30: 4850 | AE30: =AB30*AC30*AD30 -> 7275 | AI30: 4 | AJ30: كمك بهيار | AK30: بخشهاي آنژيوگرافي و شيمي درماني | AL30: =AJ30&AK30 -> كمك بهياربخشهاي آنژيوگرافي و شيمي درماني | AN30: 744 | AO30: 62 | AP30: 40
B31: 1 | C31: 2400 | D31: 2650 | E31: ___ | F31: ___ | G31: ___ | X31: =Y31&Z31&AA31 -> اداری13پايه | Y31: اداری | Z31: 13 | AA31: پايه | AB31: 1 | AC31: 1.5 | AD31: 5050 | AE31: =AB31*AC31*AD31 -> 7575 | AI31: 5 | AJ31: كمك بهيار | AK31: بخشهاي تخصصي پوست، گوش و حلق و بيني، مغز و اعصاب، پيوند ،ارتوپدي، قلب، داخلي، جراحي عمومي،چشم، زنان و زايمان، نفرولوژي ،روماتولوژي، ارولوژي و ساير بخشهاي بيمارستاني كه تاكنون اعلام نگرديده | AL31: =AJ31&AK31 -> كمك بهياربخشهاي تخصصي پوست، گوش و حلق و بيني، مغز و اعصاب، پيوند ،ارتوپدي، قلب، داخلي، جراحي عمومي،چشم، زنان و زايمان، نفرولوژي ،روماتولوژي، ارولوژي و ساير بخشهاي بيمارستاني كه تاكنون اعلام نگرديده | AN31: 840 | AO31: 70 | AP31: 45
B32: 2 | C32: 2600 | D32: 2850 | E32: ___ | F32: ___ | G32: ___ | X32: =Y32&Z32&AA32 -> اداری14پايه | Y32: اداری | Z32: 14 | AA32: پايه | AB32: 1 | AC32: 1.5 | AD32: 5250 | AE32: =AB32*AC32*AD32 -> 7875 | AI32: 6 | AJ32: كمك بهيار | AK32: بخشهاي POST ICU ، POST CCU، شيمي درماني (ويژه كودكان | AL32: =AJ32&AK32 -> كمك بهياربخشهاي POST ICU ، POST CCU، شيمي درماني (ويژه كودكان | AN32: 924 | AO32: 77 | AP32: 50
B33: 3 | C33: 2800 | D33: 3050 | E33: ___ | F33: ___ | G33: ___ | X33: =Y33&Z33&AA33 -> اداری15پايه | Y33: اداری | Z33: 15 | AA33: پايه | AB33: 1 | AC33: 1.5 | AD33: 5450 | AE33: =AB33*AC33*AD33 -> 8175
B34: 4 | C34: 3000 | D34: 3250 | E34: 3600 | F34: 4050 | G34: 4600 | X34: =Y34&Z34&AA34 -> اداری16پايه | Y34: اداری | Z34: 16 | AA34: پايه | AB34: 1 | AC34: 1.5 | AD34: 5650 | AE34: =AB34*AC34*AD34 -> 8475 | AI34: 7 | AJ34: كمك بهيار | AK34: اتاق عمل، بخشهاي دياليز، عفوني، سرطان،CCU ، ICU ، مراقبتهاي ويژه نوزادان (NICU) ، آنكولوژي و اورژانس سوانح | AL34: =AJ34&AK34 -> كمك بهياراتاق عمل، بخشهاي دياليز، عفوني، سرطان،CCU ، ICU ، مراقبتهاي ويژه نوزادان (NICU) ، آنكولوژي و اورژانس سوانح | AN34: 1000 | AO34: 85 | AP34: 55
B35: 5 | C35: 3200 | D35: 3450 | E35: 3800 | F35: 4250 | G35: 4800 | X35: =Y35&Z35&AA35 -> اداریطبقات جدول | Y35: اداری | Z35: طبقات جدول | AB35: 1 | AC35: 1.5 | AE35: =AB35*AC35*AD35 -> 0
B36: 6 | C36: 3400 | D36: 3650 | E36: 4000 | F36: 4450 | G36: 5000 | X36: =Y36&Z36&AA36 -> اداری1ارشد | Y36: اداری | Z36: 1 | AA36: ارشد | AB36: 1 | AC36: 1.5 | AD36: ___ | AE36: =AB36*AC36*AD36 -> #VALUE! | AI36: 8 | AJ36: كمك بهيار | AK36: بخشهاي ريوي و سل بيمارستانها و مراكز آموزشي درماني و كليه بخشهاي بيمارستانها و مراكز آموزشي درماني سوانح و سوختگي و رواني | AL36: =AJ36&AK36 -> كمك بهياربخشهاي ريوي و سل بيمارستانها و مراكز آموزشي درماني و كليه بخشهاي بيمارستانها و مراكز آموزشي درماني سوانح و سوختگي و رواني | AN36: 1000 | AO36: 100 | AP36: 65
B37: 7 | C37: 3600 | D37: 3850 | E37: 4200 | F37: 4650 | G37: 5200 | X37: =Y37&Z37&AA37 -> اداری2ارشد | Y37: اداری | Z37: 2 | AA37: ارشد | AB37: 1 | AC37: 1.5 | AD37: ___ | AE37: =AB37*AC37*AD37 -> #VALUE! | AI37: 9 | AJ37: كمك بهيار دندانپزشكي | AK37: دانشكده دندانپزشكي و مراكز بهداشتي درماني | AL37: =AJ37&AK37 -> كمك بهيار دندانپزشكيدانشكده دندانپزشكي و مراكز بهداشتي درماني | AN37: 552 | AO37: 46 | AP37: 30
B38: 8 | C38: 3800 | D38: 4050 | E38: 4400 | F38: 4850 | G38: 5400 | X38: =Y38&Z38&AA38 -> اداری3ارشد | Y38: اداری | Z38: 3 | AA38: ارشد | AB38: 1 | AC38: 1.5 | AD38: ___ | AE38: =AB38*AC38*AD38 -> #VALUE! | AP38: رشته شغلي : بهداشتكار دهان و دندان
B39: 9 | C39: 4000 | D39: 4250 | E39: 4600 | F39: 5050 | G39: 5600 | X39: =Y39&Z39&AA39 -> اداری4ارشد | Y39: اداری | Z39: 4 | AA39: ارشد | AB39: 1 | AC39: 1.5 | AD39: 3600 | AE39: =AB39*AC39*AD39 -> 5400 | AI39: 1 | AJ39: بهداشتكار دهان و دندان | AK39: مراكز بهداشتي درماني | AL39: =AJ39&AK39 -> بهداشتكار دهان و دندانمراكز بهداشتي درماني | AN39: 468 | AO39: 39 | AP39: 25
B40: 10 | C40: 4200 | D40: 4450 | E40: 4800 | F40: 5250 | G40: 5800 | X40: =Y40&Z40&AA40 -> اداری5ارشد | Y40: اداری | Z40: 5 | AA40: ارشد | AB40: 1 | AC40: 1.5 | AD40: 3800 | AE40: =AB40*AC40*AD40 -> 5700 | AI40: 2 | AJ40: كارشناس بهداشت دهان و دندان | AK40: مراكز بهداشتي درماني | AL40: =AJ40&AK40 -> كارشناس بهداشت دهان و دندانمراكز بهداشتي درماني | AN40: 468 | AO40: 39 | AP40: 25
...
