Workbook

Sheet محاسبات هیات علمی
A1: ضریب فوق العاده مخصوص | G1: فوق العاده جذب بجنورد | L1: ضریب فوق العاده ویژه | P1: 159 | Q1: 177 | R1: 221 | S1: 257 | T1: 301 | AB1: بجنورد | AE1: =Q1-P1 -> 18 | AF1: =R1-Q1 -> 44 | AG1: =S1-R1 -> 36 | AH1: =T1-S1 -> 44
B2: غیرتمام وقتی | D2: تمام وقتی | H2: غیرتمام وقتی | J2: تمام وقتی | L2: استاد | M2: 12.3 | O2: حقوق مبنا | AB2: شیروان
A3: استاد | B3: 2.98 | C3: 1.6 | D3: 4.768 | G3: استاد | H3: 5.42 | I3: 1.6 | J3: 8.672 | L3: دانشیار | M3: 14 | O3: پایه | P3: مربی آموزشگاه | Q3: مربی | R3: استادیار | S3: دانشیار | T3: استاد | W3: پایه | Y3: مربی آموزشگاه
A4: دانشیار | B4: 2.87 | C4: 1.6 | D4: 4.592 | G4: دانشیار | H4: 5.13 | I4: 1.6 | J4: 8.208 | L4: استادیار | M4: 15.1 | O4: 1 | P4: 166 | Q4: 184 | R4: 228 | S4: 264 | T4: 308 | V4: مربی آموزشگاه | W4: 1 | X4: مربی آموزشگاه1 | Y4: 166 | AB4: تمام وقت
A5: استادیار | B5: 2.6 | C5: 1.6 | D5: 4.16 | G5: استادیار | H5: 5 | I5: 1.6 | J5: 8 | L5: مربی | M5: 10.9 | O5: 2 | P5: 173 | Q5: 191 | R5: 235 | S5: 271 | T5: 315 | V5: مربی آموزشگاه | W5: 2 | X5: مربی آموزشگاه2 | Y5: 173 | AB5: غیرتمام وقت
A6: مربی | B6: 2.1 | C6: 1.6 | D6: 3.36 | G6: مربی | H6: 4.86 | I6: 1.6 | J6: 7.776 | L6: مربی آموزشگاه | M6: 12.3 | O6: 3 | P6: 180 | Q6: 198 | R6: 242 | S6: 278 | T6: 322 | V6: مربی آموزشگاه | W6: 3 | X6: مربی آموزشگاه3 | Y6: 180
A7: مربی آموزشگاه | B7: 1.77 | C7: 1.6 | D7: 2.832 | G7: مربی آموزشگاه | H7: 4.76 | I7: 1.6 | J7: 7.616 | O7: 4 | P7: 187 | Q7: 205 | R7: 249 | S7: 285 | T7: 329 | V7: مربی آموزشگاه | W7: 4 | X7: مربی آموزشگاه4 | Y7: 187
O8: 5 | P8: 194 | Q8: 212 | R8: 256 | S8: 292 | T8: 336 | V8: مربی آموزشگاه | W8: 5 | X8: مربی آموزشگاه5 | Y8: 194 | AB8: تعلق میگیرد
O9: 6 | P9: 201 | Q9: 219 | R9: 263 | S9: 299 | T9: 343 | V9: مربی آموزشگاه | W9: 6 | X9: مربی آموزشگاه6 | Y9: 201 | AB9: تعلق نمیگیرد
G10: فوق العاده جذب شیروان | O10: 7 | P10: 208 | Q10: 226 | R10: 270 | S10: 306 | T10: 350 | V10: مربی آموزشگاه | W10: 7 | X10: مربی آموزشگاه7 | Y10: 208
H11: غیرتمام وقتی | J11: تمام وقتی | L11: 7509320 | M11: 0.33333333 | N11: 22527960 | O11: 8 | P11: 215 | Q11: 233 | R11: 277 | S11: 313 | T11: 357 | V11: مربی آموزشگاه | W11: 8 | X11: مربی آموزشگاه8 | Y11: 215
G12: استاد | H12: 5.92 | I12: 1.6 | J12: 9.472 | L12: 18022368 | M12: 0.66666667 | N12: 27033552 | O12: 9 | P12: 222 | Q12: 240 | R12: 284 | S12: 320 | T12: 364 | V12: مربی آموزشگاه | W12: 9 | X12: مربی آموزشگاه9 | Y12: 222 | AB12: مجرد
G13: دانشیار | H13: 5.63 | I13: 1.6 | J13: 9.008 | O13: 10 | P13: 229 | Q13: 247 | R13: 291 | S13: 327 | T13: 371 | V13: مربی آموزشگاه | W13: 10 | X13: مربی آموزشگاه10 | Y13: 229 | AB13: متاهل
G14: استادیار | H14: 5.5 | I14: 1.6 | J14: 8.8 | O14: 11 | P14: 236 | Q14: 254 | R14: 298 | S14: 334 | T14: 378 | V14: مربی آموزشگاه | W14: 11 | X14: مربی آموزشگاه11 | Y14: 236
G15: مربی | H15: 5.36 | I15: 1.6 | J15: 8.576 | O15: 12 | P15: 243 | Q15: 261 | R15: 305 | S15: 341 | T15: 385 | V15: مربی آموزشگاه | W15: 12 | X15: مربی آموزشگاه12 | Y15: 243
G16: مربی آموزشگاه | H16: 5.26 | I16: 1.6 | J16: 8.416 | O16: 13 | P16: 250 | Q16: 268 | R16: 312 | S16: 348 | T16: 392 | V16: مربی آموزشگاه | W16: 13 | X16: مربی آموزشگاه13 | Y16: 250 | AB16: دارد
O17: 14 | P17: 257 | Q17: 275 | R17: 319 | S17: 355 | T17: 399 | V17: مربی آموزشگاه | W17: 14 | X17: مربی آموزشگاه14 | Y17: 257 | AB17: ندارد
O18: 15 | P18: 264 | Q18: 282 | R18: 326 | S18: 362 | T18: 406 | V18: مربی آموزشگاه | W18: 15 | X18: مربی آموزشگاه15 | Y18: 264
O19: 16 | P19: 271 | Q19: 289 | R19: 333 | S19: 369 | T19: 413 | V19: مربی آموزشگاه | W19: 16 | X19: مربی آموزشگاه16 | Y19: 271
O20: 17 | P20: 278 | Q20: 296 | R20: 340 | S20: 376 | T20: 420 | V20: مربی آموزشگاه | W20: 17 | X20: مربی آموزشگاه17 | Y20: 278
O21: 18 | P21: 285 | Q21: 303 | R21: 347 | S21: 383 | T21: 427 | V21: مربی آموزشگاه | W21: 18 | X21: مربی آموزشگاه18 | Y21: 285 | AB21: هیات علمی | AC21: 1
O22: 19 | P22: 292 | Q22: 310 | R22: 354 | S22: 390 | T22: 434 | V22: مربی آموزشگاه | W22: 19 | X22: مربی آموزشگاه19 | Y22: 292 | AB22: هیات علمی مدعو | AC22: 0.9
O23: 20 | P23: 299 | Q23: 317 | R23: 361 | S23: 397 | T23: 441 | V23: مربی آموزشگاه | W23: 20 | X23: مربی آموزشگاه20 | Y23: 299 | AB23: غیرهیات علمی کارشناسی | AC23: 0.7
O24: 21 | P24: 306 | Q24: 324 | R24: 368 | S24: 404 | T24: 448 | V24: مربی آموزشگاه | W24: 21 | X24: مربی آموزشگاه21 | Y24: 306 | AB24: غیرهیات علمی کارشناسی ارشد | AC24: 0.8
O25: 22 | P25: 313 | Q25: 331 | R25: 375 | S25: 411 | T25: 455 | V25: مربی آموزشگاه | W25: 22 | X25: مربی آموزشگاه22 | Y25: 313 | AB25: غیرهیات علمی دکتری PHD تخصصی و بالاتر | AC25: 0.9
O26: 23 | P26: 320 | Q26: 338 | R26: 382 | S26: 418 | T26: 462 | V26: مربی آموزشگاه | W26: 23 | X26: مربی آموزشگاه23 | Y26: 320
O27: 24 | P27: 327 | Q27: 345 | R27: 389 | S27: 425 | T27: 469 | V27: مربی آموزشگاه | W27: 24 | X27: مربی آموزشگاه24 | Y27: 327
O28: 25 | P28: 334 | Q28: 352 | R28: 396 | S28: 432 | T28: 476 | V28: مربی آموزشگاه | W28: 25 | X28: مربی آموزشگاه25 | Y28: 334 | AB28: 1403 | AC28: 68766
O29: 26 | P29: 341 | Q29: 359 | R29: 403 | S29: 439 | T29: 483 | V29: مربی آموزشگاه | W29: 26 | X29: مربی آموزشگاه26 | Y29: 341 | AB29: 1404 | AC29: 82520
O30: 27 | P30: 348 | Q30: 366 | R30: 410 | S30: 446 | T30: 490 | V30: مربی آموزشگاه | W30: 27 | X30: مربی آموزشگاه27 | Y30: 348 | AB30: 1405 | AC30: 99024
O31: 28 | P31: 355 | Q31: 373 | R31: 417 | S31: 453 | T31: 497 | V31: مربی آموزشگاه | W31: 28 | X31: مربی آموزشگاه28 | Y31: 355
O32: 29 | P32: 362 | Q32: 380 | R32: 424 | S32: 460 | T32: 504 | V32: مربی آموزشگاه | W32: 29 | X32: مربی آموزشگاه29 | Y32: 362 | AB32: مهر الی بهمن 1404
O33: 30 | P33: 369 | Q33: 387 | R33: 431 | S33: 467 | T33: 511 | V33: مربی آموزشگاه | W33: 30 | X33: مربی آموزشگاه30 | Y33: 369 | AB33: بهمن 1404 الی تیرماه 1405
O34: 31 | P34: 376 | Q34: 394 | R34: 438 | S34: 474 | T34: 518 | V34: مربی آموزشگاه | W34: 31 | X34: مربی آموزشگاه31 | Y34: 376
O35: 32 | P35: 383 | Q35: 401 | R35: 445 | S35: 481 | T35: 525 | V35: مربی آموزشگاه | W35: 32 | X35: مربی آموزشگاه32 | Y35: 383
O36: 33 | P36: 390 | Q36: 408 | R36: 452 | S36: 488 | T36: 532 | V36: مربی آموزشگاه | W36: 33 | X36: مربی آموزشگاه33 | Y36: 390
O37: 34 | P37: 397 | Q37: 415 | R37: 459 | S37: 495 | T37: 539 | V37: مربی آموزشگاه | W37: 34 | X37: مربی آموزشگاه34 | Y37: 397
O38: 35 | P38: 404 | Q38: 422 | R38: 466 | S38: 502 | T38: 546 | V38: مربی آموزشگاه | W38: 35 | X38: مربی آموزشگاه35 | Y38: 404
O39: 36 | P39: 411 | Q39: 429 | R39: 473 | S39: 509 | T39: 553 | V39: مربی آموزشگاه | W39: 36 | X39: مربی آموزشگاه36 | Y39: 411
O40: 37 | P40: 418 | Q40: 436 | R40: 480 | S40: 516 | T40: 560 | V40: مربی آموزشگاه | W40: 37 | X40: مربی آموزشگاه37 | Y40: 418
O41: 38 | P41: 425 | Q41: 443 | R41: 487 | S41: 523 | T41: 567 | V41: مربی آموزشگاه | W41: 38 | X41: مربی آموزشگاه38 | Y41: 425
O42: 39 | P42: 432 | Q42: 450 | R42: 494 | S42: 530 | T42: 574 | V42: مربی آموزشگاه | W42: 39 | X42: مربی آموزشگاه39 | Y42: 432
O43: 40 | P43: 439 | Q43: 457 | R43: 501 | S43: 537 | T43: 581 | V43: مربی آموزشگاه | W43: 40 | X43: مربی آموزشگاه40 | Y43: 439
O44: 41 | P44: 446 | Q44: 464 | R44: 508 | S44: 544 | T44: 588 | V44: مربی آموزشگاه | W44: 41 | X44: مربی آموزشگاه41 | Y44: 446
O45: 42 | P45: 453 | Q45: 471 | R45: 515 | S45: 551 | T45: 595 | V45: مربی آموزشگاه | W45: 42 | X45: مربی آموزشگاه42 | Y45: 453
... O56: 53 | P56: 530 | Q56: 548 | R56: 592 | S56: 628 | T56: 672 | V56: مربی آموزشگاه | W56: 53 | X56: مربی آموزشگاه53 | Y56: 530
V57: مربی | W57: 1 | X57: مربی1 | Y57: 184
V58: مربی | W58: 2 | X58: مربی2 | Y58: 191
V59: مربی | W59: 3 | X59: مربی3 | Y59: 198
V60: مربی | W60: 4 | X60: مربی4 | Y60: 205
V61: مربی | W61: 5 | X61: مربی5 | Y61: 212
V62: مربی | W62: 6 | X62: مربی6 | Y62: 219
V63: مربی | W63: 7 | X63: مربی7 | Y63: 226
V64: مربی | W64: 8 | X64: مربی8 | Y64: 233
V65: مربی | W65: 9 | X65: مربی9 | Y65: 240
V66: مربی | W66: 10 | X66: مربی10 | Y66: 247
V67: مربی | W67: 11 | X67: مربی11 | Y67: 254
V68: مربی | W68: 12 | X68: مربی12 | Y68: 261
... V268: استاد | W268: 53 | X268: استاد53 | Y268: 672
U269: فوق العاده مخصوص | V269: استاد | W269: غیرتمام وقت | X269: فوق العاده مخصوصاستادغیرتمام وقت | Y269: 2.98
U270: فوق العاده مخصوص | V270: دانشیار | W270: غیرتمام وقت | X270: فوق العاده مخصوصدانشیارغیرتمام وقت | Y270: 2.87
U271: فوق العاده مخصوص | V271: استادیار | W271: غیرتمام وقت | X271: فوق العاده مخصوصاستادیارغیرتمام وقت | Y271: 2.6
U272: فوق العاده مخصوص | V272: مربی | W272: غیرتمام وقت | X272: فوق العاده مخصوصمربیغیرتمام وقت | Y272: 2.1
U273: فوق العاده مخصوص | V273: مربی آموزشگاه | W273: غیرتمام وقت | X273: فوق العاده مخصوصمربی آموزشگاهغیرتمام وقت | Y273: 1.77
U274: فوق العاده مخصوص | V274: استاد | W274: تمام وقت | X274: فوق العاده مخصوصاستادتمام وقت | Y274: 4.768
U275: فوق العاده مخصوص | V275: دانشیار | W275: تمام وقت | X275: فوق العاده مخصوصدانشیارتمام وقت | Y275: 4.592
U276: فوق العاده مخصوص | V276: استادیار | W276: تمام وقت | X276: فوق العاده مخصوصاستادیارتمام وقت | Y276: 4.16
U277: فوق العاده مخصوص | V277: مربی | W277: تمام وقت | X277: فوق العاده مخصوصمربیتمام وقت | Y277: 3.36
U278: فوق العاده مخصوص | V278: مربی آموزشگاه | W278: تمام وقت | X278: فوق العاده مخصوصمربی آموزشگاهتمام وقت | Y278: 2.832
T279: بجنورد | U279: فوق العاده جذب | V279: استاد | W279: غیرتمام وقت | X279: فوق العاده جذباستادغیرتمام وقتبجنورد | Y279: 5.42
T280: بجنورد | U280: فوق العاده جذب | V280: دانشیار | W280: غیرتمام وقت | X280: فوق العاده جذبدانشیارغیرتمام وقتبجنورد | Y280: 5.13
T281: بجنورد | U281: فوق العاده جذب | V281: استادیار | W281: غیرتمام وقت | X281: فوق العاده جذباستادیارغیرتمام وقتبجنورد | Y281: 5
T282: بجنورد | U282: فوق العاده جذب | V282: مربی | W282: غیرتمام وقت | X282: فوق العاده جذبمربیغیرتمام وقتبجنورد | Y282: 4.86
T283: بجنورد | U283: فوق العاده جذب | V283: مربی آموزشگاه | W283: غیرتمام وقت | X283: فوق العاده جذبمربی آموزشگاهغیرتمام وقتبجنورد | Y283: 4.76
T284: بجنورد | U284: فوق العاده جذب | V284: استاد | W284: تمام وقت | X284: فوق العاده جذباستادتمام وقتبجنورد | Y284: 8.672
T285: بجنورد | U285: فوق العاده جذب | V285: دانشیار | W285: تمام وقت | X285: فوق العاده جذبدانشیارتمام وقتبجنورد | Y285: 8.208
T286: بجنورد | U286: فوق العاده جذب | V286: استادیار | W286: تمام وقت | X286: فوق العاده جذباستادیارتمام وقتبجنورد | Y286: 8
T287: بجنورد | U287: فوق العاده جذب | V287: مربی | W287: تمام وقت | X287: فوق العاده جذبمربیتمام وقتبجنورد | Y287: 7.776
T288: بجنورد | U288: فوق العاده جذب | V288: مربی آموزشگاه | W288: تمام وقت | X288: فوق العاده جذبمربی آموزشگاهتمام وقتبجنورد | Y288: 7.616
T289: شیروان | U289: فوق العاده جذب | V289: استاد | W289: غیرتمام وقت | X289: فوق العاده جذباستادغیرتمام وقتشیروان | Y289: 5.92
T290: شیروان | U290: فوق العاده جذب | V290: دانشیار | W290: غیرتمام وقت | X290: فوق العاده جذبدانشیارغیرتمام وقتشیروان | Y290: 5.63
... T298: شیروان | U298: فوق العاده جذب | V298: مربی آموزشگاه | W298: تمام وقت | X298: فوق العاده جذبمربی آموزشگاهتمام وقتشیروان | Y298: 8.416

Sheet هیات علمی
A1: مرتبه | B1: دانشیار
A2: پایه | B2: 44
A3: وضعیت تمام وفتی | B3: تمام وقت
A4: ضریب ریالی هیات علمی | B4: 99024
A5: ضریب ریالی غیر هیات علمی | B5: 6954
A6: حق اشعه | B6: تعلق نمیگیرد | C6: درصد | D6: 0.387
A7: تعداد اولاد | B7: 0
A8: وضعیت تاهل | B8: متاهل
A9: سختی کار | B9: ندارد
A10: شهر | B10: بجنورد
A11: فیش حقوقی هیات علمی 1405
A12: آیتم حقوقی | B12: امتیاز | C12: مبلغ | E12: مبنای محاسبه
A13: حقوق مبنا | B13: =VLOOKUP(B1&B2,'محاسبات هیات علمی'!X:Y,2,0) -> 565 | C13: =B13*$B$4 -> 55948560 | E13: { (پايه عضو هيأت علمي*5) + عدد مبنا } ضريب حقوق = حقوق مبنا
A14: فوق العاده مخصوص | B14: =VLOOKUP(A14&B1&B3,'محاسبات هیات علمی'!X:Y,2,0) -> 4.592 | C14: =B14*$B$4*B13 -> 2.5691579e+08 | E14: فوق العاده مخصوص = حقوق مبنا* ضریب فوق العاده مخصوص* درصورت تمام وقتی ضرب در 1/6
A15: فوق العاده بدي آب و هوا | B15: 0.05 | C15: =B15*C13 -> 2797428 | E15: حقوق مبنا * درصد وزارت خانه برای استان
A16: كمك هزينه عائله مندي | B16: 3625 | C16: =IF(B8="متاهل",B16*B5,+IF(B8="مجرد",0)) -> 25208250 | E16: ضریب ریالی غیرهیات علمی* امتیاز سالانه عائله مندی
A17: كمك هزينه اولاد | B17: 2967 | C17: =B17*B5*B7 -> 0 | E17: ضریب ریالی غیرهیات علمی* امتیاز سالانه اولاد
A18: فوق العاده جذب | B18: =VLOOKUP(A18&B1&B3&B10,'محاسبات هیات علمی'!X:Y,2,0) -> 8.208 | C18: =B18*C13 -> 4.5922578e+08 | E18: حقوق مبنا * ضرایب جدول وزارت خانه برای شهر* در صورت تمام وقتی ضرب در 1/6
A19: فوق العاده ويژه | B19: =VLOOKUP(B1,'محاسبات هیات علمی'!L:M,2,0) -> 14 | C19: =B19*C13 -> 783279840 | E19: حقوق مبنا* ضرایب جدول فوق العاده ویژه
A20: ترميم حقوق | B20: 210 | C20: =B20*B4 -> 20795040 | E20: 210*ضریب ریالی هیات علمی
A21: فوق العاده اشعه X | B21: =IF(B6="تعلق میگیرد",D6,+IF(B6="تعلق نمیگیرد",0)) -> 0 | C21: =(C13+C14+C18+C19)*B21 -> 0 | E21: ضریب حق اشعه* (حقوق مبنا+ فوق العاده مخصوص +فوق العاده جذب + فوق العاده ویژه) = فوق العاده اشعه
A22: فوق العاده سختی شرایط محیطکار | B22: =IF(B9="دارد",0.5,+IF(B9="ندارد",0)) -> 0 | C22: =(C13+C14)*B22 -> 0 | E22: (حقوق مبنا + فوق العاده مخصوص)* 0/5
A23: فوق العاده مدیریت | E23: برمبنای فوق العاده مدیریت رئیس دانشگاه محاسبه میشود. معاونین 80 درصد- روسای دانشکده ها 65 درصد.روسای بیمارستان ها 55 درصد.مدیران ستادی 50 درصد. رئیس مرکز تحقیقاتی و مدیر و معاون بیمارستان 40 درصد
A24: فوق العاده خاص | B24: 4400 | C24: =B24*B5 -> 30597600
A25: جمع کل | C25: =SUM(C13:C24) -> 1634768286

Sheet ضریب کا
A2: رسته | B2: اداری
A3: طبقه | B3: 12
A4: رتبه | B4: خبره
A5: سطح شغل | B5: کارشناسي
A6: عنوان پست ساماني | B6: حسابدار امين اموال
A7: محل خدمت | B7: بيمارستانها و مراكز آموزشي درماني
A8: مدرک تحصیلی | B8: فوق لیسانس
A9: ضریب ریالی | B9: 4829
A10: تعداد اولاد | B10: 0
A11: دارای همسر | B11: خیر
A12: حداقل حقوق 1403 | B12: 35589600
A13: فرزند شهید یا جانباز 25% و بالاتر | B13: خیر
A14: درصد حق اشعه | B14: 0
A15: نوبت کاری | B15: اداری
A19: حق شغل(م.خ.ك) | B19: =VLOOKUP(B2&B3&B4,'محاسبات پرسنل'!$X:$AE,8,0) -> 8475 | C19: =B19*$B$9 -> 40925775 | D19: براساس جدول(امتیاز اوليه در 1/5 ضرب میشود، درصورتي که کادر درمان باشد، ابتدا در عدد 1/1 بعد در 1/5)
A20: حق شاغل(م.خ.ك) | B20: 4218 | C20: =B20*$B$9 -> 20368722
A21: تفاوت بند(ي) تبصره(12) بودجه 1398 | B21: 0 | C21: =B21*'محاسبات پرسنل'!$AS$7 -> 0
A22: تفاوت جزء(1) بند(الف) تبصره(12) بودجه 1397 | B22: 0 | C22: =B22*'محاسبات پرسنل'!$AS$6 -> 0
A23: فوق العاده شغل (م.خ.ك) | B23: =VLOOKUP('ضریب کا'!$B$5,'محاسبات پرسنل'!$C$71:$F$74,4,0) -> 2250 | C23: =B23*$B$9 -> 10865250 | D23: مدرک تحصيلی کمتر از ليسانس(کاردان) عدد 1050 - ليسانس و بالاتر 2250 (کارشناس)- دريافت حق مدیریت 3000 (درصورت داشتن مدرک ليسانس و بالاتر براي پست سارماني نظير نگهبان و خدمات با امتياز کاردان محاسبه ميشود )
A24: مناطق كمتر توسعه يافته و بدي آب و هوا(م.خ.ك) | B24: =VLOOKUP($B$8,'محاسبات پرسنل'!$C$79:$D$84,2,0) -> 0.25 | C24: =(C19+C20+C21+C36)*B24 -> 15323624 | D24: (حق شغل + حق شاغل + تفاوت بند(ي) تبصره(12) بودجه 1398 + تفاوت جزء(1) بند(الف) تبصره(12) بودجه 1397 + فوق العاده مديريت)* (مدرک فوق و بالاتر ضربدر 0/25 صدم، لیسانس و پایین تر ضربدر 20 صدم)
A25: فوق العاده سختي شرايط محيط كار(م.خ.ك) | B25: =VLOOKUP(B6&B7,'محاسبات پرسنل'!AL:AN,3,0)*1.5 -> 144 | C25: =B25*$B$9 -> 695376 | D25: طبق جدول پيوست(به عنوان مال براي حسابدار شاغل در بيمارستان عدد 8 درصد ضربدر 12 ميشه و بعد در عدد 1/5)
A26: فوق العاده ويژه (م خ ك) | B26: 0.5 | C26: =(C19+C20+C21+C22+C25+C27+C36+C32+C23)*B26 -> 49177208 | D26: (حق شغل + حق شاغل + فوق العاده شغل + فوق العاده سختي شرايط محيط كار + فوق العاده جذب هيات امنا + تفاوت بند(ي) تبصره(12) بودجه 1398+ تفاوت جزء(1) بند(الف) تبصره(12) بودجه 1397+ فوق العاده مديريت + فوق العاده ايثارگري + فوق العاده بدي آب و هوا) ضربدر 50 درصد
A27: فوق العاده جذب هيات امنا | B27: 0.35 | C27: =B27*(C19+C20+C21+C22+C23+C36+C32+C25) -> 25499293 | D27: (حق شغل + حق شاغل + فوق العاده شغل + فوق العاده سختي شرايط محيط كار + تفاوت بند(ي) تبصره(12) بودجه 1398 +تفاوت جزء(1) بند(الف) تبصره(12) بودجه 1397 +فوق العاده مديريت + فوق العاده ايثارگري + فوق العاده بدي آب و هوا) ضربدر 35 درصد
A28: فوق العاده نوبت كاري(م.خ.ك) | B28: =VLOOKUP($B$15,'محاسبات پرسنل'!$B$99:$C$107,2,0) -> 0 | C28: =B28*$B$9 -> 0
A29: فوق العاده اشعه X(م.خ.ك) | B29: =B14 -> 0 | C29: =(C19+C20+C21+C22+C25+C27+C26+C32+C36+C34)*B29 -> 0 | D29: (حق شغل + حق شاغل + فوق العاده شغل + فوق العاده سختي شرايط محيط كار + فوق العاده ويژه (م خ ك)فوق العاده جذب هيات امناتفاوت بند(ي) تبصره(12) بودجه 1398 + تفاوت جزء(1) بند(الف) تبصره(12) بودجه 1397 + تفاوت تطبيق + ساير + فوق العاده ايثارگري + فوق العاده مديريت) ضربدر درصد حق اشعه
A30: كمك هزينه عائله مندي(م.خ.ك) | B30: =IF(B11="بله",VLOOKUP($B$10,'محاسبات پرسنل'!$C$88:$E$95,3,0),0) -> 0 | C30: =B30 -> 0
A31: كمك هزينه اولاد(م.خ.ك) | B31: =B10&" "&"نفر" -> 0 نفر | C31: =VLOOKUP($B$10,'محاسبات پرسنل'!$C$88:$D$95,2,0) -> 0
A32: فوق العاده ايثارگري(م.خ.ك) | B32: ندارم | C32: =IF(B32="ندارم",0,IF(B32,B32*$B$9)) -> 0 | D32: =VLOOKUP(B32,'محاسبات پرسنل'!C56:E68,3,0)&" - "&VLOOKUP(B32,'محاسبات پرسنل'!C55:E68,2,0) -> #N/A
A33: فوق العاده ايثارگري قانون جامع (م خ ك) | B33: =IF(B13="بله","مشمول","تعلق نمی گیرد") -> تعلق نمی گیرد | C33: =IF(B33="مشمول",B12*0.25,0) -> 0 | D33: يک چهارم حداقل حقوق مصوب سالانه
A34: تفاوت تطبيق(م.خ.ك) | B34: 0 | C34: =$B$9*B34 -> 0
A35: ساير(م.خ.ك) | B35: 0 | C35: =$B$9*B35 -> 0
A36: فوق العاده مديريت(م.خ.ك) | B36: 0 | C36: =$B$9*B36 -> 0
A37: ترميم حقوق | B37: 3000 | C37: =$B$9*B37 -> 14487000 | D37: 3000 امتیاز ثابت
C38: =SUM(C19:C37) -> 1.7734225e+08

Sheet محاسبات پرسنل
M1: سنوات | P1: امتیاز سنوات خدمت در هر سال | Q1: امتیاز سنوات خدمت در هر سال | R1: امتیاز تجربه مربوط و مشابه | S1: امتیاز تجربه مربوط و مشابه | Z1: طبقات جدول | AI1: رديف | AJ1: عناوين پست هاي سازماني | AK1: محل خدمت | AM1: توضيحات | AN1: ميزان امتياز از 05/01/89 | AO1: ميزان درصد | AP1: ميزان درصد
A2: تحصیلات | B2: امتیاز تحصیلات | C2: امتیاز مهارت و توانایی | D2: امتیاز سنوات خدمت در هر سال | E2: امتیاز تجربه مربوط و مشابه | F2: امتیاز دوره آموزشی | K2: امتیاز تحصیلات | L2: امتیاز مهارت و توانایی | M2: سال | N2: ماه | O2: روز | X2: =Y2&Z2&AA2 -> اداری1مقدماتي | Y2: اداری | Z2: 1 | AA2: مقدماتي | AB2: 1 | AC2: 1.5 | AD2: 2400 | AE2: =AB2*AC2*AD2 -> 3600 | AG2: اداری | AO2: از 01/10/86 | AP2: تا 01/10/86 | AS2: همسر
A3: زیر دیپلم | B3: 1650 | C3: 300 | D3: 15 | E3: 12 | F3: به ازای هر ساعت آموزشی 75 درصد امتیاز | H3: مقطع جاری | I3: تحصیلات | J3: کارشناسی ارشد | K3: =VLOOKUP(J3,A:B,2,FALSE)/1.5 -> 2000 | L3: =VLOOKUP(J3,A:C,3,FALSE)/1.5 -> 600 | M3: 1 | N3: 9 | O3: 0 | P3: =VLOOKUP(J3,A:D,4,FALSE) -> 45 | Q3: =ROUND((M3*(P3/1.5))+(((P3/1.5)/12)*N3)+(((P3/1.5)/364)*O3),0) -> 53 | R3: =VLOOKUP(J3,A:E,5,FALSE) -> 24 | S3: =ROUND(((R3/1.5)*M3)+((N3/12)*(R3/1.5))+(((R3/1.5)/364)*O3),0) -> 28 | X3: =Y3&Z3&AA3 -> اداری2مقدماتي | Y3: اداری | Z3: 2 | AA3: مقدماتي | AB3: 1 | AC3: 1.5 | AD3: 2600 | AE3: =AB3*AC3*AD3 -> 3900 | AG3: درمان | AP3: رشته شغلي : آرايشگر | AS3: بله
A4: دیپلم | B4: 1800 | C4: 375 | D4: 22.5 | E4: 15 | H4: مقطع قبلی | I4: تحصیلات | K4: =VLOOKUP(J4,A:B,2,FALSE)/1.5 -> #N/A | L4: =VLOOKUP(J4,A:C,3,FALSE)/1.5 -> #N/A | M4: 6 | N4: 0 | O4: 0 | P4: =VLOOKUP(J4,A:D,4,FALSE) -> #N/A | Q4: =ROUND((M4*(P4/1.5))+(((P4/1.5)/12)*N4)+(((P4/1.5)/364)*O4),0) -> #N/A | R4: =VLOOKUP(J4,A:E,5,FALSE) -> #N/A | S4: =ROUND(((R4/1.5)*M4)+((N4/12)*(R4/1.5))+(((R4/1.5)/364)*O4),0) -> #N/A | X4: =Y4&Z4&AA4 -> اداری3مقدماتي | Y4: اداری | Z4: 3 | AA4: مقدماتي | AB4: 1 | AC4: 1.5 | AD4: 2800 | AE4: =AB4*AC4*AD4 -> 4200 | AI4: 1 | AJ4: آرايشگر | AK4: بيمارستانها و مراكز آموزشي درماني | AL4: =AJ4&AK4 -> آرايشگربيمارستانها و مراكز آموزشي درماني | AN4: 372 | AO4: 31 | AP4: 20 | AS4: خیر
A5: کاردانی | B5: 2100 | C5: 450 | D5: 30 | E5: 18 | H5: مقطع قبلی | I5: تحصیلات | K5: =VLOOKUP(J5,A:B,2,FALSE)/1.5 -> #N/A | L5: =VLOOKUP(J5,A:C,3,FALSE)/1.5 -> #N/A | M5: 0 | N5: 0 | O5: 0 | P5: =VLOOKUP(J5,A:D,4,FALSE) -> #N/A | Q5: =ROUND((M5*(P5/1.5))+(((P5/1.5)/12)*N5)+(((P5/1.5)/364)*O5),0) -> #N/A | R5: =VLOOKUP(J5,A:E,5,FALSE) -> #N/A | S5: =ROUND((R5*M5)+((N5/12)*R5)+((R5/364)*O5),0) -> #N/A | X5: =Y5&Z5&AA5 -> اداری4مقدماتي | Y5: اداری | Z5: 4 | AA5: مقدماتي | AB5: 1 | AC5: 1.5 | AD5: 3000 | AE5: =AB5*AC5*AD5 -> 4500 | AP5: رشته شغلي : آشپز
A6: کارشناسی | B6: 2550 | C6: 600 | D6: 37.5 | E6: 21 | X6: =Y6&Z6&AA6 -> اداری5مقدماتي | Y6: اداری | Z6: 5 | AA6: مقدماتي | AB6: 1 | AC6: 1.5 | AD6: 3200 | AE6: =AB6*AC6*AD6 -> 4800 | AI6: 1 | AJ6: آشپز | AK6: بيمارستانها و مراكز آموزشي درماني | AL6: =AJ6&AK6 -> آشپزبيمارستانها و مراكز آموزشي درماني | AN6: 552 | AO6: 46 | AP6: 30 | AR6: ضریب ریالی 97 | AS6: 1797
A7: کارشناسی ارشد | B7: 3000 | C7: 900 | D7: 45 | E7: 24 | X7: =Y7&Z7&AA7 -> اداری6مقدماتي | Y7: اداری | Z7: 6 | AA7: مقدماتي | AB7: 1 | AC7: 1.5 | AD7: 3400 | AE7: =AB7*AC7*AD7 -> 5100 | AI7: 2 | AJ7: آشپز | AK7: ساير واحدها | AL7: =AJ7&AK7 -> آشپزساير واحدها | AN7: 276 | AO7: 23 | AP7: 15 | AR7: ضریب ریالی 98 | AS7: 2120
A8: دکتری حرفه ای | B8: 3600 | C8: 1050 | D8: 48 | E8: 25.5 | H8: تعداد ساعت دوره آموزشی | K8: 20 | L8: =IF(K8<=750,ROUND(K8*(0.7528),0),+IF(K8>750,750)) -> 15 | X8: =Y8&Z8&AA8 -> اداری7مقدماتي | Y8: اداری | Z8: 7 | AA8: مقدماتي | AB8: 1 | AC8: 1.5 | AD8: 3600 | AE8: =AB8*AC8*AD8 -> 5400 | AP8: رشته شغلي : اپراتور
A9: دکتری تخصصی و phd | B9: 4200 | C9: 1215 | D9: 52.5 | E9: 27 | X9: =Y9&Z9&AA9 -> اداری8مقدماتي | Y9: اداری | Z9: 8 | AA9: مقدماتي | AB9: 1 | AC9: 1.5 | AD9: 3800 | AE9: =AB9*AC9*AD9 -> 5700 | AM9: در صورت اشتغال به كار پزشكان، پرستاران و كاردانهاي هوشبري مشمول قانون خدمت پزشكان و
A10: حداکثر امتیاز | B10: 4200 | C10: 1215 | D10: 1050 | E10: 540 | F10: 750 | Q10: امتیاز مهارت | R10: =K3 -> 2000 | X10: =Y10&Z10&AA10 -> اداری9مقدماتي | Y10: اداری | Z10: 9 | AA10: مقدماتي | AB10: 1 | AC10: 1.5 | AD10: 4000 | AE10: =AB10*AC10*AD10 -> 6000 | AI10: 1 | AJ10: اپراتور تلفن | AK10: مركز اورژانس و فوريتهاي پزشكي | AL10: =AJ10&AK10 -> اپراتور تلفنمركز اورژانس و فوريتهاي پزشكي | AM10: پيراپزشكان مصوب 1375/02/12 در هر يك از | AN10: 648 | AO10: 54 | AP10: 35
Q11: امتیاز تحصیلات | R11: =L3 -> 600 | X11: =Y11&Z11&AA11 -> اداری10مقدماتي | Y11: اداری | Z11: 10 | AA11: مقدماتي | AB11: 1 | AC11: 1.5 | AD11: 4200 | AE11: =AB11*AC11*AD11 -> 6300 | AM11: مشاغل: مسئول، متصدي و تكنسين امور فوريتهاي پزشكي، اپراتور بي سيم و اپراتور تلفن، پزشك
Q12: سنوات خدمت | R12: =Q3 -> 53 | X12: =Y12&Z12&AA12 -> اداری11مقدماتي | Y12: اداری | Z12: 11 | AA12: مقدماتي | AB12: 1 | AC12: 1.5 | AD12: 4400 | AE12: =AB12*AC12*AD12 -> 6600 | AM12: (راهنماي بيماران) و مسئول دريافت پذيرش از
A13: جدول فوق العاده مدیریت و سرپرستی | K13: شهرستان | L13: 1200 | M13: حسابدار مسئول | Q13: تجربه | R13: =S3 -> 28 | X13: =Y13&Z13&AA13 -> اداری12مقدماتي | Y13: اداری | Z13: 12 | AA13: مقدماتي | AB13: 1 | AC13: 1.5 | AD13: 4600 | AE13: =AB13*AC13*AD13 -> 6900 | AM13: بيمارستان ها، از فوق العاده سختي شرايط محيط كار اين بند بهره مند مي گردند.
A14: رديف | B14: حوزه جغرافيايي خدمت | C14: سطوح مديريت | D14: معاون اداره و همتراز | E14: رييس اداره و همتراز | F14: معاون مديركل و همتراز | G14: مديركل و همتراز | H14: معاون مؤسسه و همتراز | K14: استان | L14: 1300 | M14: حسابدار مسئول | Q14: ساعت آموزشی | R14: =L8 -> 15 | X14: =Y14&Z14&AA14 -> اداری13مقدماتي | Y14: اداری | Z14: 13 | AA14: مقدماتي | AB14: 1 | AC14: 1.5 | AD14: 4800 | AE14: =AB14*AC14*AD14 -> 7200 | AI14: 2 | AJ14: اپراتور كامپيوتر | AK14: كليه واحدها | AL14: =AJ14&AK14 -> اپراتور كامپيوتركليه واحدها | AN14: 96 | AO14: 8 | AP14: 5
A15: 1 | B15: شهرستان | C15: سطح يك | D15: 1000 | E15: 1900 | F15: 2800 | G15: 3700 | H15: 4600 | K15: استان | L15: 2200 | M15: رئییس اداره مالی | Q15: روند شده با افزایش 1,6 | R15: =ROUND((R11+R12+R13+R10+R14)*1.5,0) -> 4044 | X15: =Y15&Z15&AA15 -> اداری14مقدماتي | Y15: اداری | Z15: 14 | AA15: مقدماتي | AB15: 1 | AC15: 1.5 | AD15: 5000 | AE15: =AB15*AC15*AD15 -> 7500 | AP15: رشته شغلي : باغبان
C16: سطح دو | D16: 1100 | E16: 2000 | F16: 2900 | G16: 3800 | H16: 4700 | K16: شهرستان | L16: 2100 | M16: رئییس اداره مالی | N16: سوپروایزر | X16: =Y16&Z16&AA16 -> اداری15مقدماتي | Y16: اداری | Z16: 15 | AA16: مقدماتي | AB16: 1 | AC16: 1.5 | AD16: 5200 | AE16: =AB16*AC16*AD16 -> 7800 | AI16: 1 | AJ16: باغبان | AK16: بيمارستانها و مراكز آموزشي درماني | AL16: =AJ16&AK16 -> باغبانبيمارستانها و مراكز آموزشي درماني | AN16: 468 | AO16: 39 | AP16: 25
C17: سطح سه | D17: 1200 | E17: 2100 | F17: 3000 | G17: 3900 | H17: 4800 | K17: ملی | L17: 2700 | M17: رئیس داره | X17: =Y17&Z17&AA17 -> اداری16مقدماتي | Y17: اداری | Z17: 16 | AA17: مقدماتي | AB17: 1 | AC17: 1.5 | AD17: 5400 | AE17: =AB17*AC17*AD17 -> 8100 | AI17: 2 | AJ17: باغبان | AK17: مراكز بهداشتي و درماني | AL17: =AJ17&AK17 -> باغبانمراكز بهداشتي و درماني | AN17: 372 | AO17: 31 | AP17: 20
A18: 2 | B18: استان | C18: سطح يك | D18: 1300 | E18: 2200 | F18: 3100 | G18: 4000 | H18: 4900 | K18: ملی | L18: 3600 | M18: مدیر | X18: =Y18&Z18&AA18 -> اداریطبقات جدول | Y18: اداری | Z18: طبقات جدول | AB18: 1 | AC18: 1.5 | AE18: =AB18*AC18*AD18 -> 0 | AI18: 3 | AJ18: باغبان | AK18: ساير واحدها | AL18: =AJ18&AK18 -> باغبانساير واحدها | AN18: 276 | AO18: 23 | AP18: 15
C19: سطح دو | D19: 1400 | E19: 2300 | F19: 3200 | G19: 4100 | H19: 5000 | K19: شهرستان | L19: 1200 | M19: سرپرستار | X19: =Y19&Z19&AA19 -> اداری1پايه | Y19: اداری | Z19: 1 | AA19: پايه | AB19: 1 | AC19: 1.5 | AD19: 2650 | AE19: =AB19*AC19*AD19 -> 3975 | AP19: رشته شغلي : برنامه نويس سيستم
C20: سطح سه | D20: 1500 | E20: 2400 | F20: 3300 | G20: 4200 | H20: 5100 | K20: استان | L20: 4300 | M20: معاون فنی | X20: =Y20&Z20&AA20 -> اداری2پايه | Y20: اداری | Z20: 2 | AA20: پايه | AB20: 1 | AC20: 1.5 | AD20: 2850 | AE20: =AB20*AC20*AD20 -> 4275 | AI20: 1 | AJ20: كليه پستهاي سازماني زير مجموعه رشته | AK20: كليه واحدها | AL20: =AJ20&AK20 -> كليه پستهاي سازماني زير مجموعه رشتهكليه واحدها | AN20: 96 | AO20: 8 | AP20: 5
A21: 3 | B21: ملي | C21: سطح يك | D21: 1600 | E21: 2500 | F21: 3400 | G21: 4300 | H21: 5200 | K21: شهرستان | L21: 3000 | M21: مدیرخدمات پرستاری | X21: =Y21&Z21&AA21 -> اداری3پايه | Y21: اداری | Z21: 3 | AA21: پايه | AB21: 1 | AC21: 1.5 | AD21: 3050 | AE21: =AB21*AC21*AD21 -> 4575
C22: سطح دو | D22: 1700 | E22: 2600 | F22: 3500 | G22: 4400 | H22: 5300 | X22: =Y22&Z22&AA22 -> اداری4پايه | Y22: اداری | Z22: 4 | AA22: پايه | AB22: 1 | AC22: 1.5 | AD22: 3250 | AE22: =AB22*AC22*AD22 -> 4875
C23: سطح سه | D23: 1800 | E23: 2700 | F23: 3600 | G23: 4500 | H23: 5400 | X23: =Y23&Z23&AA23 -> اداری5پايه | Y23: اداری | Z23: 5 | AA23: پايه | AB23: 1 | AC23: 1.5 | AD23: 3450 | AE23: =AB23*AC23*AD23 -> 5175
X24: =Y24&Z24&AA24 -> اداری6پايه | Y24: اداری | Z24: 6 | AA24: پايه | AB24: 1 | AC24: 1.5 | AD24: 3650 | AE24: =AB24*AC24*AD24 -> 5475 | AI24: رديف | AJ24: عناوين پست هاي سازماني | AK24: محل خدمت | AL24: =AJ24&AK24 -> عناوين پست هاي سازمانيمحل خدمت | AM24: توضيحات | AN24: ميزان امتياز از 05/01/89 | AO24: ميزان درصد | AP24: ميزان درصد
X25: =Y25&Z25&AA25 -> اداری7پايه | Y25: اداری | Z25: 7 | AA25: پايه | AB25: 1 | AC25: 1.5 | AD25: 3850 | AE25: =AB25*AC25*AD25 -> 5775 | AO25: از 01/10/86 | AP25: تا 01/10/86
X26: =Y26&Z26&AA26 -> اداری8پايه | Y26: اداری | Z26: 8 | AA26: پايه | AB26: 1 | AC26: 1.5 | AD26: 4050 | AE26: =AB26*AC26*AD26 -> 6075 | AP26: رشته شغلي : بهدار
X27: =Y27&Z27&AA27 -> اداری9پايه | Y27: اداری | Z27: 9 | AA27: پايه | AB27: 1 | AC27: 1.5 | AD27: 4250 | AE27: =AB27*AC27*AD27 -> 6375 | AI27: 1 | AJ27: كمك بهيار | AK27: مهد كودك كليه مراكز | AL27: =AJ27&AK27 -> كمك بهيارمهد كودك كليه مراكز | AN27: 276 | AO27: 23 | AP27: 15
B28: امتیاز حق شغل | X28: =Y28&Z28&AA28 -> اداری10پايه | Y28: اداری | Z28: 10 | AA28: پايه | AB28: 1 | AC28: 1.5 | AD28: 4450 | AE28: =AB28*AC28*AD28 -> 6675 | AI28: 2 | AJ28: كمك بهيار | AK28: مركز اورژانس و فوريتهاي پزشكي، مراكز بهداشتي درماني ، درمانگاه ها و بخشهاي سنگ شكن و فيزيوتراپي بيمارستانها و مراكز آموزشي درماني | AL28: =AJ28&AK28 -> كمك بهيارمركز اورژانس و فوريتهاي پزشكي، مراكز بهداشتي درماني ، درمانگاه ها و بخشهاي سنگ شكن و فيزيوتراپي بيمارستانها و مراكز آموزشي درماني | AN28: 468 | AO28: 39 | AP28: 25
B29: رتبه هاي شغلي | C29: مقدماتي | D29: پايه | E29: ارشد | F29: خبره | G29: عالي | X29: =Y29&Z29&AA29 -> اداری11پايه | Y29: اداری | Z29: 11 | AA29: پايه | AB29: 1 | AC29: 1.5 | AD29: 4650 | AE29: =AB29*AC29*AD29 -> 6975 | AI29: 3 | AJ29: كمك بهيار | AK29: مركز استريل اتاق عمل بيمارستانها و مراكز آموزشي درماني، واحدهاي برونگوسكوپي، آندوسكوپي و كلونوسكوپي | AL29: =AJ29&AK29 -> كمك بهيارمركز استريل اتاق عمل بيمارستانها و مراكز آموزشي درماني، واحدهاي برونگوسكوپي، آندوسكوپي و كلونوسكوپي | AN29: 648 | AO29: 54 | AP29: 35
B30: طبقات جدول | X30: =Y30&Z30&AA30 -> اداری12پايه | Y30: اداری | Z30: 12 | AA30: پايه | AB30: 1 | AC30: 1.5 | AD30: 4850 | AE30: =AB30*AC30*AD30 -> 7275 | AI30: 4 | AJ30: كمك بهيار | AK30: بخشهاي آنژيوگرافي و شيمي درماني | AL30: =AJ30&AK30 -> كمك بهياربخشهاي آنژيوگرافي و شيمي درماني | AN30: 744 | AO30: 62 | AP30: 40
B31: 1 | C31: 2400 | D31: 2650 | E31: ___ | F31: ___ | G31: ___ | X31: =Y31&Z31&AA31 -> اداری13پايه | Y31: اداری | Z31: 13 | AA31: پايه | AB31: 1 | AC31: 1.5 | AD31: 5050 | AE31: =AB31*AC31*AD31 -> 7575 | AI31: 5 | AJ31: كمك بهيار | AK31: بخشهاي تخصصي پوست، گوش و حلق و بيني، مغز و اعصاب، پيوند ،ارتوپدي، قلب، داخلي، جراحي عمومي،چشم، زنان و زايمان، نفرولوژي ،روماتولوژي، ارولوژي و ساير بخشهاي بيمارستاني كه تاكنون اعلام نگرديده | AL31: =AJ31&AK31 -> كمك بهياربخشهاي تخصصي پوست، گوش و حلق و بيني، مغز و اعصاب، پيوند ،ارتوپدي، قلب، داخلي، جراحي عمومي،چشم، زنان و زايمان، نفرولوژي ،روماتولوژي، ارولوژي و ساير بخشهاي بيمارستاني كه تاكنون اعلام نگرديده | AN31: 840 | AO31: 70 | AP31: 45
B32: 2 | C32: 2600 | D32: 2850 | E32: ___ | F32: ___ | G32: ___ | X32: =Y32&Z32&AA32 -> اداری14پايه | Y32: اداری | Z32: 14 | AA32: پايه | AB32: 1 | AC32: 1.5 | AD32: 5250 | AE32: =AB32*AC32*AD32 -> 7875 | AI32: 6 | AJ32: كمك بهيار | AK32: بخشهاي POST ICU ، POST CCU، شيمي درماني (ويژه كودكان | AL32: =AJ32&AK32 -> كمك بهياربخشهاي POST ICU ، POST CCU، شيمي درماني (ويژه كودكان | AN32: 924 | AO32: 77 | AP32: 50
B33: 3 | C33: 2800 | D33: 3050 | E33: ___ | F33: ___ | G33: ___ | X33: =Y33&Z33&AA33 -> اداری15پايه | Y33: اداری | Z33: 15 | AA33: پايه | AB33: 1 | AC33: 1.5 | AD33: 5450 | AE33: =AB33*AC33*AD33 -> 8175
B34: 4 | C34: 3000 | D34: 3250 | E34: 3600 | F34: 4050 | G34: 4600 | X34: =Y34&Z34&AA34 -> اداری16پايه | Y34: اداری | Z34: 16 | AA34: پايه | AB34: 1 | AC34: 1.5 | AD34: 5650 | AE34: =AB34*AC34*AD34 -> 8475 | AI34: 7 | AJ34: كمك بهيار | AK34: اتاق عمل، بخشهاي دياليز، عفوني، سرطان،CCU ، ICU ، مراقبتهاي ويژه نوزادان (NICU) ، آنكولوژي و اورژانس سوانح | AL34: =AJ34&AK34 -> كمك بهياراتاق عمل، بخشهاي دياليز، عفوني، سرطان،CCU ، ICU ، مراقبتهاي ويژه نوزادان (NICU) ، آنكولوژي و اورژانس سوانح | AN34: 1000 | AO34: 85 | AP34: 55
B35: 5 | C35: 3200 | D35: 3450 | E35: 3800 | F35: 4250 | G35: 4800 | X35: =Y35&Z35&AA35 -> اداریطبقات جدول | Y35: اداری | Z35: طبقات جدول | AB35: 1 | AC35: 1.5 | AE35: =AB35*AC35*AD35 -> 0
B36: 6 | C36: 3400 | D36: 3650 | E36: 4000 | F36: 4450 | G36: 5000 | X36: =Y36&Z36&AA36 -> اداری1ارشد | Y36: اداری | Z36: 1 | AA36: ارشد | AB36: 1 | AC36: 1.5 | AD36: ___ | AE36: =AB36*AC36*AD36 -> #VALUE! | AI36: 8 | AJ36: كمك بهيار | AK36: بخشهاي ريوي و سل بيمارستانها و مراكز آموزشي درماني و كليه بخشهاي بيمارستانها و مراكز آموزشي درماني سوانح و سوختگي و رواني | AL36: =AJ36&AK36 -> كمك بهياربخشهاي ريوي و سل بيمارستانها و مراكز آموزشي درماني و كليه بخشهاي بيمارستانها و مراكز آموزشي درماني سوانح و سوختگي و رواني | AN36: 1000 | AO36: 100 | AP36: 65
B37: 7 | C37: 3600 | D37: 3850 | E37: 4200 | F37: 4650 | G37: 5200 | X37: =Y37&Z37&AA37 -> اداری2ارشد | Y37: اداری | Z37: 2 | AA37: ارشد | AB37: 1 | AC37: 1.5 | AD37: ___ | AE37: =AB37*AC37*AD37 -> #VALUE! | AI37: 9 | AJ37: كمك بهيار دندانپزشكي | AK37: دانشكده دندانپزشكي و مراكز بهداشتي درماني | AL37: =AJ37&AK37 -> كمك بهيار دندانپزشكيدانشكده دندانپزشكي و مراكز بهداشتي درماني | AN37: 552 | AO37: 46 | AP37: 30
B38: 8 | C38: 3800 | D38: 4050 | E38: 4400 | F38: 4850 | G38: 5400 | X38: =Y38&Z38&AA38 -> اداری3ارشد | Y38: اداری | Z38: 3 | AA38: ارشد | AB38: 1 | AC38: 1.5 | AD38: ___ | AE38: =AB38*AC38*AD38 -> #VALUE! | AP38: رشته شغلي : بهداشتكار دهان و دندان
B39: 9 | C39: 4000 | D39: 4250 | E39: 4600 | F39: 5050 | G39: 5600 | X39: =Y39&Z39&AA39 -> اداری4ارشد | Y39: اداری | Z39: 4 | AA39: ارشد | AB39: 1 | AC39: 1.5 | AD39: 3600 | AE39: =AB39*AC39*AD39 -> 5400 | AI39: 1 | AJ39: بهداشتكار دهان و دندان | AK39: مراكز بهداشتي درماني | AL39: =AJ39&AK39 -> بهداشتكار دهان و دندانمراكز بهداشتي درماني | AN39: 468 | AO39: 39 | AP39: 25
B40: 10 | C40: 4200 | D40: 4450 | E40: 4800 | F40: 5250 | G40: 5800 | X40: =Y40&Z40&AA40 -> اداری5ارشد | Y40: اداری | Z40: 5 | AA40: ارشد | AB40: 1 | AC40: 1.5 | AD40: 3800 | AE40: =AB40*AC40*AD40 -> 5700 | AI40: 2 | AJ40: كارشناس بهداشت دهان و دندان | AK40: مراكز بهداشتي درماني | AL40: =AJ40&AK40 -> كارشناس بهداشت دهان و دندانمراكز بهداشتي درماني | AN40: 468 | AO40: 39 | AP40: 25
B41: 11 | C41: 4400 | D41: 4650 | E41: 5000 | F41: 5450 | G41: 6000 | X41: =Y41&Z41&AA41 -> اداری6ارشد | Y41: اداری | Z41: 6 | AA41: ارشد | AB41: 1 | AC41: 1.5 | AD41: 4000 | AE41: =AB41*AC41*AD41 -> 6000 | AP41: رشته شغلي : بهورز
B42: 12 | C42: 4600 | D42: 4850 | E42: 5200 | F42: 5650 | G42: 6200 | X42: =Y42&Z42&AA42 -> اداری7ارشد | Y42: اداری | Z42: 7 | AA42: ارشد | AB42: 1 | AC42: 1.5 | AD42: 4200 | AE42: =AB42*AC42*AD42 -> 6300 | AI42: 1 | AJ42: بهداشتيار | AK42: مراكز بهداشتي درماني | AL42: =AJ42&AK42 -> بهداشتيارمراكز بهداشتي درماني | AN42: 468 | AO42: 39 | AP42: 25
B43: 13 | C43: 4800 | D43: 5050 | E43: 5400 | F43: 5850 | G43: 6400 | X43: =Y43&Z43&AA43 -> اداری8ارشد | Y43: اداری | Z43: 8 | AA43: ارشد | AB43: 1 | AC43: 1.5 | AD43: 4400 | AE43: =AB43*AC43*AD43 -> 6600 | AI43: 2 | AJ43: بهورز | AK43: مراكز بهداشتي درماني روستايي | AL43: =AJ43&AK43 -> بهورزمراكز بهداشتي درماني روستايي | AN43: 648 | AO43: 54 | AP43: 35
B44: 14 | C44: 5000 | D44: 5250 | E44: 5600 | F44: 6050 | G44: 6600 | X44: =Y44&Z44&AA44 -> اداری9ارشد | Y44: اداری | Z44: 9 | AA44: ارشد | AB44: 1 | AC44: 1.5 | AD44: 4600 | AE44: =AB44*AC44*AD44 -> 6900
B45: 15 | C45: 5200 | D45: 5450 | E45: 5800 | F45: 6250 | G45: 6800 | X45: =Y45&Z45&AA45 -> اداری10ارشد | Y45: اداری | Z45: 10 | AA45: ارشد | AB45: 1 | AC45: 1.5 | AD45: 4800 | AE45: =AB45*AC45*AD45 -> 7200
B46: 16 | C46: 5400 | D46: 5650 | E46: 6000 | F46: 6450 | G46: 7000 | X46: =Y46&Z46&AA46 -> اداری11ارشد | Y46: اداری | Z46: 11 | AA46: ارشد | AB46: 1 | AC46: 1.5 | AD46: 5000 | AE46: =AB46*AC46*AD46 -> 7500 | AI46: رديف | AJ46: عناوين پست هاي سازماني | AK46: محل خدمت | AL46: =AJ46&AK46 -> عناوين پست هاي سازمانيمحل خدمت | AM46: توضيحات | AN46: ميزان امتياز از 05/01/89 | AO46: ميزان درصد | AP46: ميزان درصد
X47: =Y47&Z47&AA47 -> اداری12ارشد | Y47: اداری | Z47: 12 | AA47: ارشد | AB47: 1 | AC47: 1.5 | AD47: 5200 | AE47: =AB47*AC47*AD47 -> 7800 | AO47: از 01/10/86 | AP47: تا 01/10/86
X48: =Y48&Z48&AA48 -> اداری13ارشد | Y48: اداری | Z48: 13 | AA48: ارشد | AB48: 1 | AC48: 1.5 | AD48: 5400 | AE48: =AB48*AC48*AD48 -> 8100 | AM48: رشته شغلي : بهيار
X49: =Y49&Z49&AA49 -> اداری14ارشد | Y49: اداری | Z49: 14 | AA49: ارشد | AB49: 1 | AC49: 1.5 | AD49: 5600 | AE49: =AB49*AC49*AD49 -> 8400 | AI49: 1 | AJ49: بهيار | AK49: مركز اورژانس و فوريتهاي پزشكي، مراكز بهداشتي درماني ، درمانگاه ها و بخشهاي سنگ شكن و فيزيوتراپي بيمارستانها و مراكز آموزشي درماني | AL49: =AJ49&AK49 -> بهيارمركز اورژانس و فوريتهاي پزشكي، مراكز بهداشتي درماني ، درمانگاه ها و بخشهاي سنگ شكن و فيزيوتراپي بيمارستانها و مراكز آموزشي درماني | AN49: 468 | AO49: 39 | AP49: 25
X50: =Y50&Z50&AA50 -> اداری15ارشد | Y50: اداری | Z50: 15 | AA50: ارشد | AB50: 1 | AC50: 1.5 | AD50: 5800 | AE50: =AB50*AC50*AD50 -> 8700 | AI50: 2 | AJ50: بهيار | AK50: مركز استريل اتاق عمل بيمارستانها و مراكز آموزشي درماني، واحدهاي برونگوسكوپي، آندوسكوپي و كلونوسكوپي | AL50: =AJ50&AK50 -> بهيارمركز استريل اتاق عمل بيمارستانها و مراكز آموزشي درماني، واحدهاي برونگوسكوپي، آندوسكوپي و كلونوسكوپي | AN50: 648 | AO50: 54 | AP50: 35
X51: =Y51&Z51&AA51 -> اداری16ارشد | Y51: اداری | Z51: 16 | AA51: ارشد | AB51: 1 | AC51: 1.5 | AD51: 6000 | AE51: =AB51*AC51*AD51 -> 9000 | AI51: 3 | AJ51: بهيار | AK51: بخشهاي آنژيوگرافي و شيمي درماني | AL51: =AJ51&AK51 -> بهياربخشهاي آنژيوگرافي و شيمي درماني | AN51: 744 | AO51: 62 | AP51: 40
B52: جدول فوق العاده ایثارگری | X52: =Y52&Z52&AA52 -> اداریطبقات جدول | Y52: اداری | Z52: طبقات جدول | AB52: 1 | AC52: 1.5 | AE52: =AB52*AC52*AD52 -> 0 | AI52: 4 | AJ52: بهيار | AK52: بخشهاي تخصصي پوست، گوش و حلق و بيني، مغز و اعصاب، پيوند ، | AL52: =AJ52&AK52 -> بهياربخشهاي تخصصي پوست، گوش و حلق و بيني، مغز و اعصاب، پيوند ، | AN52: 840 | AO52: 70 | AP52: 45
B53: درصد | C53: امتیاز | D53: وضعیت بیمه و ماليات | E53: ماه خدمت | X53: =Y53&Z53&AA53 -> اداری1خبره | Y53: اداری | Z53: 1 | AA53: خبره | AB53: 1 | AC53: 1.5 | AD53: ___ | AE53: =AB53*AC53*AD53 -> #VALUE!
C54: ندارم | AJ54: 5 | AK54: بهيار | AL54: بخشهاي POST ICU ، POST CCU، شيمي درماني (ويژه كودكان | AM54: =AK54&AL54 -> بهياربخشهاي POST ICU ، POST CCU، شيمي درماني (ويژه كودكان | AO54: 924 | AP54: 77 | AQ54: 50
C55: 200 | X55: =Y55&Z55&AA55 -> اداری2خبره | Y55: اداری | Z55: 2 | AA55: خبره | AB55: 1 | AC55: 1.5 | AD55: ___ | AE55: =AB55*AC55*AD55 -> #VALUE!
B56: – | C56: 300 | E56: حداقل ۴۵ روز جبهه داوطلبانه | X56: =Y56&Z56&AA56 -> اداری3خبره | Y56: اداری | Z56: 3 | AA56: خبره | AB56: 1 | AC56: 1.5 | AD56: ___ | AE56: =AB56*AC56*AD56 -> #VALUE! | AJ56: 6 | AK56: بهيار | AL56: اتاق عمل، بخشهاي دياليز، عفوني، سرطان،CCU ، ICU ، مراقبتهاي | AM56: =AK56&AL56 -> بهياراتاق عمل، بخشهاي دياليز، عفوني، سرطان،CCU ، ICU ، مراقبتهاي | AO56: 1000 | AP56: 85 | AQ56: 55
B57: ۵ درصد جانبازی | C57: 600 | E57: حداقل ۳ تا ۶ ماه جبهه داوطلبانه یا اسارت | X57: =Y57&Z57&AA57 -> اداری4خبره | Y57: اداری | Z57: 4 | AA57: خبره | AB57: 1 | AC57: 1.5 | AD57: 4050 | AE57: =AB57*AC57*AD57 -> 6075
B58: تا ۱۰ درصد جانبازی | C58: 750 | D58: در صورتی که در نامه حداقل 9 ماه جبهه قابل قبول خورده باشد معاف از مالیات است چون 75 درصد سابقه جبهه قابل قبول است | E58: تا ۱۲ ماه جبهه داوطلبانه یا اسارت | X58: =Y58&Z58&AA58 -> اداری5خبره | Y58: اداری | Z58: 5 | AA58: خبره | AB58: 1 | AC58: 1.5 | AD58: 4250 | AE58: =AB58*AC58*AD58 -> 6375 | AJ58: 7 | AK58: بهيار | AL58: بخشهاي ريوي و سل بيمارستانها و مراكز آموزشي درماني و كليه بخشهاي بيمارستانها و مراكز آموزشي درماني سوانح و سوختگي و رواني | AM58: =AK58&AL58 -> بهياربخشهاي ريوي و سل بيمارستانها و مراكز آموزشي درماني و كليه بخشهاي بيمارستانها و مراكز آموزشي درماني سوانح و سوختگي و رواني | AO58: 1000 | AP58: 100 | AQ58: 65
B59: تا ۱۵ درصد جانبازی | C59: 900 | D59: معاف از مالیات | E59: تا ۱۸ ماه جبهه داوطلبانه یا اسارت | X59: =Y59&Z59&AA59 -> اداری6خبره | Y59: اداری | Z59: 6 | AA59: خبره | AB59: 1 | AC59: 1.5 | AD59: 4450 | AE59: =AB59*AC59*AD59 -> 6675 | AJ59: 8 | AK59: بهيار دندانپزشگي | AL59: دانشكده دندانپزشكي و مراكز بهداشتي درماني | AM59: =AK59&AL59 -> بهيار دندانپزشگيدانشكده دندانپزشكي و مراكز بهداشتي درماني | AO59: 552 | AP59: 46 | AQ59: 30
B60: تا ۲۰ درصد جانبازی | C60: 1050 | D60: معاف از مالیاات و بيمه | E60: تا ۲۴ ماه جبهه داوطلبانه یا اسارت | X60: =Y60&Z60&AA60 -> اداری7خبره | Y60: اداری | Z60: 7 | AA60: خبره | AB60: 1 | AC60: 1.5 | AD60: 4650 | AE60: =AB60*AC60*AD60 -> 6975 | AJ60: 9 | AK60: بهيار ماما | AL60: مراكز بهداشتي درماني شهري و بخش زنان و زايمان بيمارستان ها و مراكز آموزشي درماني | AM60: =AK60&AL60 -> بهيار مامامراكز بهداشتي درماني شهري و بخش زنان و زايمان بيمارستان ها و مراكز آموزشي درماني | AO60: 744 | AP60: 62 | AQ60: 40
B61: تا ۲۵ درصد جانبازی | C61: 1200 | D61: معاف از مالیاات و بيمه | E61: تا ۳۰ ماه جبهه داوطلبانه یا اسارت | X61: =Y61&Z61&AA61 -> اداری8خبره | Y61: اداری | Z61: 8 | AA61: خبره | AB61: 1 | AC61: 1.5 | AD61: 4850 | AE61: =AB61*AC61*AD61 -> 7275 | AJ61: 10 | AK61: بهيار ماما | AL61: مراكز بهداشتي درماني روستايي | AM61: =AK61&AL61 -> بهيار مامامراكز بهداشتي درماني روستايي | AO61: 924 | AP61: 77 | AQ61: 50
B62: تا ۳۰ درصد جانبازی | C62: 1350 | D62: معاف از مالیاات و بيمه | E62: تا ۳۶ ماه جبهه داوطلبانه یا اسارت | X62: =Y62&Z62&AA62 -> اداری9خبره | Y62: اداری | Z62: 9 | AA62: خبره | AB62: 1 | AC62: 1.5 | AD62: 5050 | AE62: =AB62*AC62*AD62 -> 7575 | AJ62: 11 | AK62: بهيار ماما | AL62: بخش زايشگاه بيمارستانها و مراكز آموزشي درماني | AM62: =AK62&AL62 -> بهيار مامابخش زايشگاه بيمارستانها و مراكز آموزشي درماني | AO62: 840 | AP62: 70 | AQ62: 45
B63: تا ۳۵ درصد جانبازی | C63: 1500 | D63: معاف از مالیاات و بيمه | E63: تا ۴۲ ماه جبهه داوطلبانه یا اسارت | X63: =Y63&Z63&AA63 -> اداری10خبره | Y63: اداری | Z63: 10 | AA63: خبره | AB63: 1 | AC63: 1.5 | AD63: 5250 | AE63: =AB63*AC63*AD63 -> 7875
B64: تا ۴۰ درصد جانبازی | C64: 1650 | D64: معاف از مالیاات و بيمه | E64: تا ۴۸ ماه جبهه داوطلبانه یا اسارت | X64: =Y64&Z64&AA64 -> اداری11خبره | Y64: اداری | Z64: 11 | AA64: خبره | AB64: 1 | AC64: 1.5 | AD64: 5450 | AE64: =AB64*AC64*AD64 -> 8175
B65: تا ۴۵ درصد جانبازی | C65: 1800 | D65: معاف از مالیاات و بيمه | E65: تا ۵۴ ماه جبهه داوطلبانه یا اسارت | X65: =Y65&Z65&AA65 -> اداری12خبره | Y65: اداری | Z65: 12 | AA65: خبره | AB65: 1 | AC65: 1.5 | AD65: 5650 | AE65: =AB65*AC65*AD65 -> 8475 | AJ65: رديف | AK65: عناوين پست هاي سازماني | AL65: محل خدمت | AM65: =AK65&AL65 -> عناوين پست هاي سازمانيمحل خدمت | AN65: توضيحات | AO65: ميزان امتياز از 05/01/89 | AP65: ميزان درصد | AQ65: ميزان درصد
B66: تا ۵۰ درصد جانبازی | C66: 1950 | D66: معاف از مالیاات و بيمه | E66: تا ۶۰ ماه جبهه داوطلبانه یا اسارت | X66: =Y66&Z66&AA66 -> اداری13خبره | Y66: اداری | Z66: 13 | AA66: خبره | AB66: 1 | AC66: 1.5 | AD66: 5850 | AE66: =AB66*AC66*AD66 -> 8775 | AP66: از 01/10/86 | AQ66: تا 01/10/86
B67: تا ۶۰ درصد جانبازی | C67: 2100 | D67: معاف از مالیاات و بيمه | E67: تا ۷۰ ماه جبهه داوطلبانه یا اسارت | X67: =Y67&Z67&AA67 -> اداری14خبره | Y67: اداری | Z67: 14 | AA67: خبره | AB67: 1 | AC67: 1.5 | AD67: 6050 | AE67: =AB67*AC67*AD67 -> 9075 | AN67: رشته شغلي : پرستار
B68: بالاتر از ۶۰ درصد جانبازی | C68: 2250 | D68: فرزند شهید | E68: بالاتر از ۷۰ ماه جبهه داوطلبانه یا اسارت | X68: =Y68&Z68&AA68 -> اداری15خبره | Y68: اداری | Z68: 15 | AA68: خبره | AB68: 1 | AC68: 1.5 | AD68: 6250 | AE68: =AB68*AC68*AD68 -> 9375 | AI68: 1 | AJ68: پرستار | AK68: مركز اورژانس و فوريتهاي پزشكي، مراكز بهداشتي درماني ، درمانگاه ها و بخشهاي سنگ شكن و فيزيوتراپي بيمارستانها و مراكز آموزشي درماني | AL68: =AJ68&AK68 -> پرستارمركز اورژانس و فوريتهاي پزشكي، مراكز بهداشتي درماني ، درمانگاه ها و بخشهاي سنگ شكن و فيزيوتراپي بيمارستانها و مراكز آموزشي درماني | AN68: 468 | AO68: 39 | AP68: 25
X69: =Y69&Z69&AA69 -> اداری16خبره | Y69: اداری | Z69: 16 | AA69: خبره | AB69: 1 | AC69: 1.5 | AD69: 6450 | AE69: =AB69*AC69*AD69 -> 9675 | AI69: 2 | AJ69: پرستار | AK69: مركز استريل اتاق عمل بيمارستانها و مراكز آموزشي درماني، واحدهاي برونگوسكوپي، آندوسكوپي و كلونوسكوپي | AL69: =AJ69&AK69 -> پرستارمركز استريل اتاق عمل بيمارستانها و مراكز آموزشي درماني، واحدهاي برونگوسكوپي، آندوسكوپي و كلونوسكوپي | AN69: 648 | AO69: 54 | AP69: 35
X70: =Y70&Z70&AA70 -> اداریطبقات جدول | Y70: اداری | Z70: طبقات جدول | AB70: 1 | AC70: 1.5 | AE70: =AB70*AC70*AD70 -> 0 | AI70: 3 | AJ70: پرستار | AK70: بخشهاي آنژيوگرافي و شيمي درماني | AL70: =AJ70&AK70 -> پرستاربخشهاي آنژيوگرافي و شيمي درماني | AN70: 744 | AO70: 62 | AP70: 40
C71: فوق العاده شل | X71: =Y71&Z71&AA71 -> اداری1عالي | Y71: اداری | Z71: 1 | AA71: عالي | AB71: 1 | AC71: 1.5 | AD71: ___ | AE71: =AB71*AC71*AD71 -> #VALUE! | AI71: 4 | AJ71: پرستار | AK71: بخشهاي تخصصي پوست، گوش و حلق و بيني، مغز و اعصاب، پيوند ، | AL71: =AJ71&AK71 -> پرستاربخشهاي تخصصي پوست، گوش و حلق و بيني، مغز و اعصاب، پيوند ، | AN71: 840 | AO71: 70 | AP71: 45
C72: سطوح شغلي | D72: میزان امتياز | F72: امتیاز نهایی | X72: =Y72&Z72&AA72 -> اداری2عالي | Y72: اداری | Z72: 2 | AA72: عالي | AB72: 1 | AC72: 1.5 | AD72: ___ | AE72: =AB72*AC72*AD72 -> #VALUE!
C73: کارداني | D73: 700 | E73: 1.5 | F73: =D73*E73 -> 1050 | X73: =Y73&Z73&AA73 -> اداری3عالي | Y73: اداری | Z73: 3 | AA73: عالي | AB73: 1 | AC73: 1.5 | AD73: ___ | AE73: =AB73*AC73*AD73 -> #VALUE!
C74: کارشناسي | D74: 1500 | E74: 1.5 | F74: =D74*E74 -> 2250 | X74: =Y74&Z74&AA74 -> اداری4عالي | Y74: اداری | Z74: 4 | AA74: عالي | AB74: 1 | AC74: 1.5 | AD74: 4600 | AE74: =AB74*AC74*AD74 -> 6900 | AI74: 5 | AJ74: پرستار | AK74: 14 سال و پايين تر)، اطفال، نوزادان، مسمومين، اورژانس(ward/admit ) و بخش سوانح (تروما()ward) | AL74: =AJ74&AK74 -> پرستار14 سال و پايين تر)، اطفال، نوزادان، مسمومين، اورژانس(ward/admit ) و بخش سوانح (تروما()ward) | AN74: 924 | AO74: 77 | AP74: 50
C75: مدیريتي | D75: 2000 | E75: 1.5 | F75: =D75*E75 -> 3000 | X75: =Y75&Z75&AA75 -> اداری5عالي | Y75: اداری | Z75: 5 | AA75: عالي | AB75: 1 | AC75: 1.5 | AD75: 4800 | AE75: =AB75*AC75*AD75 -> 7200 | AI75: 6 | AJ75: پرستار | AK75: اتاق عمل، بخشهاي دياليز، عفوني، سرطان،CCU ، ICU ، مراقبتهاي ويژه نوزادان (NICU) ، آنكولوژي و اورژانس سوانح (تروما()admit ) | AL75: =AJ75&AK75 -> پرستاراتاق عمل، بخشهاي دياليز، عفوني، سرطان،CCU ، ICU ، مراقبتهاي ويژه نوزادان (NICU) ، آنكولوژي و اورژانس سوانح (تروما()admit ) | AN75: 1000 | AO75: 85 | AP75: 55
X76: =Y76&Z76&AA76 -> اداری6عالي | Y76: اداری | Z76: 6 | AA76: عالي | AB76: 1 | AC76: 1.5 | AD76: 5000 | AE76: =AB76*AC76*AD76 -> 7500 | AI76: 7 | AJ76: پرستار | AK76: بخشهاي ريوي و سل بيمارستانها و مراكز آموزشي درماني و كليه بخشهاي بيمارستانها و مراكز آموزشي درماني سوانح و سوختگي و رواني | AL76: =AJ76&AK76 -> پرستاربخشهاي ريوي و سل بيمارستانها و مراكز آموزشي درماني و كليه بخشهاي بيمارستانها و مراكز آموزشي درماني سوانح و سوختگي و رواني | AN76: 1000 | AO76: 100 | AP76: 65
C77: مناطق كمتر توسعه يافته و بدي آب و هوا | X77: =Y77&Z77&AA77 -> اداری7عالي | Y77: اداری | Z77: 7 | AA77: عالي | AB77: 1 | AC77: 1.5 | AD77: 5200 | AE77: =AB77*AC77*AD77 -> 7800 | AI77: 8 | AJ77: پرستار دندانپزشكي | AK77: دانشكده دندانپزشكي و مراكز بهداشتي درماني | AL77: =AJ77&AK77 -> پرستار دندانپزشكيدانشكده دندانپزشكي و مراكز بهداشتي درماني | AN77: 552 | AO77: 46 | AP77: 30
C78: مدرک تحصیلی | X78: =Y78&Z78&AA78 -> اداری8عالي | Y78: اداری | Z78: 8 | AA78: عالي | AB78: 1 | AC78: 1.5 | AD78: 5400 | AE78: =AB78*AC78*AD78 -> 8100 | AI78: 9 | AJ78: رئيس خدمات پرستاري | AK78: مراكز بهداشتي و درماني(زايشگاه و مركز فوريتهاي پزشكي)، بيمارستان ها و مراكز آموزشي درماني | AL78: =AJ78&AK78 -> رئيس خدمات پرستاريمراكز بهداشتي و درماني(زايشگاه و مركز فوريتهاي پزشكي)، بيمارستان ها و مراكز آموزشي درماني | AN78: 468 | AO78: 39 | AP78: 25
C79: زیردیپلم | D79: 0.2 | X79: =Y79&Z79&AA79 -> اداری9عالي | Y79: اداری | Z79: 9 | AA79: عالي | AB79: 1 | AC79: 1.5 | AD79: 5600 | AE79: =AB79*AC79*AD79 -> 8400 | AI79: 10 | AJ79: سرپرستار | AK79: بخشهاي سنگ شكن و فيزيوتراپي بيمارستانها و مراكز آموزشي درماني | AL79: =AJ79&AK79 -> سرپرستاربخشهاي سنگ شكن و فيزيوتراپي بيمارستانها و مراكز آموزشي درماني | AN79: 468 | AO79: 39 | AP79: 25
C80: دیپلم | D80: 0.2 | X80: =Y80&Z80&AA80 -> اداری10عالي | Y80: اداری | Z80: 10 | AA80: عالي | AB80: 1 | AC80: 1.5 | AD80: 5800 | AE80: =AB80*AC80*AD80 -> 8700 | AI80: 11 | AJ80: سرپرستار | AK80: بخشهاي آنژيوگرافي و شيمي درماني | AL80: =AJ80&AK80 -> سرپرستاربخشهاي آنژيوگرافي و شيمي درماني | AN80: 744 | AO80: 62 | AP80: 40
C81: فوق دیپلم | D81: 0.2 | X81: =Y81&Z81&AA81 -> اداری11عالي | Y81: اداری | Z81: 11 | AA81: عالي | AB81: 1 | AC81: 1.5 | AD81: 6000 | AE81: =AB81*AC81*AD81 -> 9000 | AI81: 12 | AJ81: سرپرستار | AK81: بخشهاي تخصصي پوست، گوش و حلق و بيني، مغز و اعصاب، پيوند ، | AL81: =AJ81&AK81 -> سرپرستاربخشهاي تخصصي پوست، گوش و حلق و بيني، مغز و اعصاب، پيوند ، | AN81: 840 | AO81: 70 | AP81: 45
C82: لیسانس | D82: 0.25 | X82: =Y82&Z82&AA82 -> اداری12عالي | Y82: اداری | Z82: 12 | AA82: عالي | AB82: 1 | AC82: 1.5 | AD82: 6200 | AE82: =AB82*AC82*AD82 -> 9300
C83: فوق لیسانس | D83: 0.25 | X83: =Y83&Z83&AA83 -> اداری13عالي | Y83: اداری | Z83: 13 | AA83: عالي | AB83: 1 | AC83: 1.5 | AD83: 6400 | AE83: =AB83*AC83*AD83 -> 9600
C84: دکتری و بالاتر | D84: 0.25 | X84: =Y84&Z84&AA84 -> اداری14عالي | Y84: اداری | Z84: 14 | AA84: عالي | AB84: 1 | AC84: 1.5 | AD84: 6600 | AE84: =AB84*AC84*AD84 -> 9900
X85: =Y85&Z85&AA85 -> اداری15عالي | Y85: اداری | Z85: 15 | AA85: عالي | AB85: 1 | AC85: 1.5 | AD85: 6800 | AE85: =AB85*AC85*AD85 -> 10200 | AI85: رديف | AJ85: عناوين پست هاي سازماني | AK85: محل خدمت | AL85: =AJ85&AK85 -> عناوين پست هاي سازمانيمحل خدمت | AM85: توضيحات | AN85: ميزان امتياز از 05/01/89 | AO85: ميزان درصد | AP85: ميزان درصد
C86: حق اولاد | X86: =Y86&Z86&AA86 -> اداری16عالي | Y86: اداری | Z86: 16 | AA86: عالي | AB86: 1 | AC86: 1.5 | AD86: 7000 | AE86: =AB86*AC86*AD86 -> 10500 | AO86: از 01/10/86 | AP86: تا 01/10/86
C87: تعداد | D87: مبلغ | E87: حق عائله مندی | X87: =Y87&Z87&AA87 | AC87: 1.5 | AM87: رشته شغلي : پرستار
C88: 0 | D88: 0 | E88: 14004100 | X88: =Y88&Z88&AA88 -> طبقات جدول | Z88: طبقات جدول | AC88: 1.5 | AI88: 13 | AJ88: سرپرستار | AK88: بخشهاي POST ICU ، POST CCU، شيمي درماني (ويژه كودكان | AL88: =AJ88&AK88 -> سرپرستاربخشهاي POST ICU ، POST CCU، شيمي درماني (ويژه كودكان | AN88: 924 | AO88: 77 | AP88: 50
C89: 1 | D89: 8595620 | E89: 14004100 | X89: =Y89&Z89&AA89 -> درمان1مقدماتي | Y89: درمان | Z89: 1 | AA89: مقدماتي | AB89: 1.1 | AC89: 1.5 | AD89: 2400 | AE89: =(AD89*AB89)*AC89 -> 3960
C90: 2 | D90: =D89*2 -> 17191240 | E90: 14004100 | F90: مشمول جز 3 بند الف قانون بودجه 1403 | X90: =Y90&Z90&AA90 -> درمان2مقدماتي | Y90: درمان | Z90: 2 | AA90: مقدماتي | AB90: 1.1 | AC90: 1.5 | AD90: 2600 | AE90: =(AD90*AB90)*AC90 -> 4290 | AI90: 14 | AJ90: سرپرستار | AK90: اتاق عمل، بخشهاي دياليز، عفوني، سرطان،CCU ، ICU ، مراقبتهاي ويژه نوزادان (NICU) ، آنكولوژي و اورژانس سوانح | AL90: =AJ90&AK90 -> سرپرستاراتاق عمل، بخشهاي دياليز، عفوني، سرطان،CCU ، ICU ، مراقبتهاي ويژه نوزادان (NICU) ، آنكولوژي و اورژانس سوانح | AN90: 1000 | AO90: 85 | AP90: 55
C91: 3 | D91: =(D89*1.3)+D90 -> 28365546 | E91: 18205330 | F91: مشمول جز 3 بند الف قانون بودجه 1404 | X91: =Y91&Z91&AA91 -> درمان3مقدماتي | Y91: درمان | Z91: 3 | AA91: مقدماتي | AB91: 1.1 | AC91: 1.5 | AD91: 2800 | AE91: =(AD91*AB91)*AC91 -> 4620
C92: 4 | D92: =D91+(D89*1.3) -> 39539852 | E92: 18205330 | F92: مشمول جز 3 بند الف قانون بودجه 1405 | X92: =Y92&Z92&AA92 -> درمان4مقدماتي | Y92: درمان | Z92: 4 | AA92: مقدماتي | AB92: 1.1 | AC92: 1.5 | AD92: 3000 | AE92: =(AD92*AB92)*AC92 -> 4950 | AI92: 15 | AJ92: سرپرستار | AK92: بخشهاي ريوي و سل بيمارستانها و مراكز آموزشي درماني و كليه بخشهاي بيمارستانها و مراكز آموزشي درماني سوانح و سوختگي و رواني | AL92: =AJ92&AK92 -> سرپرستاربخشهاي ريوي و سل بيمارستانها و مراكز آموزشي درماني و كليه بخشهاي بيمارستانها و مراكز آموزشي درماني سوانح و سوختگي و رواني | AN92: 1000 | AO92: 100 | AP92: 65
C93: 5 | D93: =D92+(D89*1.3) -> 50714158 | E93: 18205330 | F93: مشمول جز 3 بند الف قانون بودجه 1406 | X93: =Y93&Z93&AA93 -> درمان5مقدماتي | Y93: درمان | Z93: 5 | AA93: مقدماتي | AB93: 1.1 | AC93: 1.5 | AD93: 3200 | AE93: =(AD93*AB93)*AC93 -> 5280 | AI93: 16 | AJ93: سوپروايزر | AK93: بخشهاي رواني ،سوختگي، ريوي و سل بيمارستانها و مراكز آموزشي درماني | AL93: =AJ93&AK93 -> سوپروايزربخشهاي رواني ،سوختگي، ريوي و سل بيمارستانها و مراكز آموزشي درماني | AN93: 648 | AO93: 54 | AP93: 35
C94: 6 | D94: =D93+(D89*1.3) -> 61888464 | E94: 18205330 | F94: مشمول جز 3 بند الف قانون بودجه 1407 | X94: =Y94&Z94&AA94 -> درمان6مقدماتي | Y94: درمان | Z94: 6 | AA94: مقدماتي | AB94: 1.1 | AC94: 1.5 | AD94: 3400 | AE94: =(AD94*AB94)*AC94 -> 5610
C95: 7 | D95: =D94+(D89*1.3) -> 73062770 | E95: 18205330 | X95: =Y95&Z95&AA95 -> درمان7مقدماتي | Y95: درمان | Z95: 7 | AA95: مقدماتي | AB95: 1.1 | AC95: 1.5 | AD95: 3600 | AE95: =(AD95*AB95)*AC95 -> 5940 | AI95: 17 | AJ95: سوپروايزر | AK95: مراكز آموزشي درماني | AL95: =AJ95&AK95 -> سوپروايزرمراكز آموزشي درماني | AN95: 468 | AO95: 39 | AP95: 25
X96: =Y96&Z96&AA96 -> درمان8مقدماتي | Y96: درمان | Z96: 8 | AA96: مقدماتي | AB96: 1.1 | AC96: 1.5 | AD96: 3800 | AE96: =(AD96*AB96)*AC96 -> 6270 | AI96: 18 | AJ96: سوپروايزر آموزشي | AK96: بخشهاي رواني ،سوختگي، ريوي و سل بيمارستانها و مراكز آموزشي درماني | AL96: =AJ96&AK96 -> سوپروايزر آموزشيبخشهاي رواني ،سوختگي، ريوي و سل بيمارستانها و مراكز آموزشي درماني | AN96: 648 | AO96: 54 | AP96: 35
B97: فوق العاده نوبت کاری | X97: =Y97&Z97&AA97 -> درمان9مقدماتي | Y97: درمان | Z97: 9 | AA97: مقدماتي | AB97: 1.1 | AC97: 1.5 | AD97: 4000 | AE97: =(AD97*AB97)*AC97 -> 6600 | AI97: 19 | AJ97: سوپروايزر آموزشي | AK97: مراكز بهداشتي و درماني(زايشگاه و مركز فوريتهاي پزشكي)، بيمارستان ها و مراكز آموزشي درماني | AL97: =AJ97&AK97 -> سوپروايزر آموزشيمراكز بهداشتي و درماني(زايشگاه و مركز فوريتهاي پزشكي)، بيمارستان ها و مراكز آموزشي درماني | AN97: 468 | AO97: 39 | AP97: 25
X98: =Y98&Z98&AA98 -> درمان10مقدماتي | Y98: درمان | Z98: 10 | AA98: مقدماتي | AB98: 1.1 | AC98: 1.5 | AD98: 4200 | AE98: =(AD98*AB98)*AC98 -> 6930 | AI98: 20 | AJ98: سوپروايزر در گردش | AK98: بخشهاي رواني ،سوختگي، ريوي و سل بيمارستانها و مراكز آموزشي درماني | AL98: =AJ98&AK98 -> سوپروايزر در گردشبخشهاي رواني ،سوختگي، ريوي و سل بيمارستانها و مراكز آموزشي درماني | AN98: 648 | AO98: 54 | AP98: 35
B99: یک نوبتی دائم(عصرکار) | C99: امتیاز | X99: =Y99&Z99&AA99 -> درمان11مقدماتي | Y99: درمان | Z99: 11 | AA99: مقدماتي | AB99: 1.1 | AC99: 1.5 | AD99: 4400 | AE99: =(AD99*AB99)*AC99 -> 7260 | AI99: 21 | AJ99: سوپروايزر در گردش | AK99: مراكز بهداشتي و درماني(زايشگاه و مركز فوريتهاي پزشكي)، بيمارستان ها و مراكز آموزشي درماني | AL99: =AJ99&AK99 -> سوپروايزر در گردشمراكز بهداشتي و درماني(زايشگاه و مركز فوريتهاي پزشكي)، بيمارستان ها و مراكز آموزشي درماني | AN99: 468 | AO99: 39 | AP99: 25
B100: دو نوبتی چرخشی منظم(صبح کار- شب کار) | C100: 400 | X100: =Y100&Z100&AA100 -> درمان12مقدماتي | Y100: درمان | Z100: 12 | AA100: مقدماتي | AB100: 1.1 | AC100: 1.5 | AD100: 4600 | AE100: =(AD100*AB100)*AC100 -> 7590 | AI100: 22 | AJ100: كارشناس پرستاري و مامايي | AK100: دانشكده پرستاري و مامايي و آموزشكده پرستاري و مامايي | AL100: =AJ100&AK100 -> كارشناس پرستاري و ماماييدانشكده پرستاري و مامايي و آموزشكده پرستاري و مامايي | AN100: 276 | AO100: 23 | AP100: 15
...
